{"text_format":"1","workbook":"xlsx","n_sheets":2,"sheets":["1.Marée","2.Log Book"],"not_rendered":{"charts":0,"images":2,"macros":1,"external_links":0,"defined_names":28,"comments":1,"pivot_tables":0},"unopened":[],"bounds":{"document_bytes":16777216,"sheet_cells":100000,"rows_first":2000,"rows_last":500,"rows_between":2000,"halvings":0,"cell_chars":16384,"cell_head_chars":4096},"cells_cut":0,"cells_raw":0,"read":"whole","date_system":"1900"}

{"sheet":"1.Marée","index":0,"n_rows":35,"n_cols":31,"rows_kept":35,"cut":false,"hidden":false,"merged":[[4,5,4,6],[2,5,2,6],[2,15,2,17],[3,5,3,6],[3,15,3,17],[2,9,2,12],[5,5,5,6],[6,5,6,6],[11,3,11,6],[12,15,12,17],[13,5,13,6],[13,15,13,17],[7,5,7,6],[8,5,8,6],[10,3,10,6],[14,5,14,6],[14,11,14,13],[14,15,14,17],[20,5,20,6],[21,5,21,6],[15,5,15,6],[15,11,15,13],[15,15,15,17],[16,5,16,6],[18,5,18,6],[19,5,19,6]]}
[null,null,null,null,null,null,null,null,null,null,null,null,null,null,null,null,null,null,null,null,null,null,null,null,null,null,"Coche","Type DCP","Type bouées","Action DCP","Liste ZEE"]
[]
[null,"Navire           ",null,null,":","Manapany",null,null,null,"Stock bord ",null,null,null,null,null,null,null,null,null,null,null,null,null,null,null,null,"x","N","M3I","MISE A L'EAU DCP ECO","Eaux internationales"]
[null,"Pavillon",null,null,":","Français",null,null,null,"Albacore",":",{"$f":"'2.Log Book'!R403+'2.Log Book'!T403","v":0},null,null,null,null,null,null,null,null,null,null,null,null,null,null,"X","A","M3I+","DCP ESPAGNOL","Chagos"]
[null,"Numéro d'immatriculation",null,null,":","DI 929204",null,null,null,"Listao",":",{"$f":"'2.Log Book'!U403","v":0},null,null,null,null,null,null,null,null,null,null,null,null,null,null,null,null,null,"CHANGEMENT DE  BALISE","Comores"]
[null,"Port d'immatriculation",null,null,":","Dzaoudzi",null,null,null,"Patudo",":",{"$f":"'2.Log Book'!W403","v":0},null,null,null,null,null,null,null,null,null,null,null,null,null,null,null,null,null,"VISITE AVEC PECHE","Glorieuses"]
[null,"Signal d'appel international",null,null,":","FLSZ",null,null,null,"Germon",":",{"$f":"'2.Log Book'!Y403","v":0},null,null,null,null,null,null,null,null,null,null,null,null,null,null,null,null,null,"VISITE SANS PECHE","Ile Maurice"]
[null,"Numéro OMI",null,null,":",9476238,null,null,null,null,null,null,null,null,null,null,null,null,null,null,null,null,null,null,null,null,null,null,null,"RETRAIT","Iles Eparses"]
[null,"Numéro CFR",null,null,":",null,null,null,null,"Total",":",{"$f":"SUM(L4:L7)","v":0},null,null,null,null,null,null,null,null,null,null,null,null,null,null,null,null,null,"PERTE / FIN TRANSMISSION BALISE","Kenya"]
[null,null,null,null,null,null,null,null,null,null,null,null,null,null,null,null,null,null,null,null,null,null,null,null,null,null,null,null,null,null,"La Réunion"]
[null,"Patron          :",null,"DERVOUT Alain",null,null,null,null,null,null,null,null,null,null,null,null,null,null,null,null,null,null,null,null,null,null,null,null,null,null,"Madagascar"]
[null,"Marée          :",null,"1704 A",null,null,null,null,null,null,null,null,null,null,null,null,null,null,null,null,null,null,null,null,null,null,null,null,null,null,"Maldives"]
[null,null,null,null,null,null,null,null,null,null,null,null,null,null,null,null,null,null,null,null,null,null,null,null,null,null,null,null,null,null,"Maurice"]
[null,"Départ       -",null,"Port",":","Port Victoria",null,null,null,null,null,null,null,null,null,null,null,null,null,null,null,null,null,null,null,null,null,null,null,null,"Mayotte"]
[null,null,null,"Date",":","2017-09-22",null,null,null,null,null,null,null,null,null,null,null,null,null,null,null,null,null,null,null,null,null,null,null,null,"Mozambique"]
[null,null,null,"Heure",":","07:00:00",null,null,null,null,null,null,null,null,null,null,null,null,null,null,null,null,null,null,null,null,null,null,null,null,"Seychelles"]
[null,null,null,"Loch",":",0,null,null,null,null,null,null,null,null,null,null,null,null,null,null,null,null,null,null,null,null,null,null,null,null,"Tanzanie"]
[null,null,null,null,null,null,null,null,null,null,null,null,null,null,null,null,null,null,null,null,null,null,null,null,null,null,null,null,null,null,"Tromelin"]
[null,"Arrivée       -",null,"Port",":","Port Victoria"]
[null,null,null,"Date",":","2017-10-15"]
[null,null,null,"Heure",":","14:30:00"]
[null,null,null,"Loch",":",5215]
[]
[null,{"$f":"ROUND((F20+F21)-(F15+F16),2)","v":23.31},null,"Jours de mer pendant la marée.",null,null,null,{"$f":"F22-F17","v":5215},null,"milles parcourus"]
[]
[null,"Nombre de coups de filets dans la marée ",null,null,null,null,null,"   Portants ",":",{"$f":"'2.Log Book'!G428","v":17}]
[null,null,null,null,null,null,null,"   Nuls ",":",{"$f":"'2.Log Book'!H428","v":4}]
[null,null,null,null,null,null,null,"   Total ",":",{"$f":"J26+J27","v":21}]
[]
[null,"Albacore",":",{"$f":"'2.Log Book'!J429+'2.Log Book'!L429","v":142},null,null,"Autres",{"$f":"'2.Log Book'!S429","v":0}]
[null,"Listao",":",{"$f":"'2.Log Book'!M429","v":459},null,null,"Rejets",{"$f":"'2.Log Book'!V429","v":0}]
[null,"Patudo",":",{"$f":"'2.Log Book'!O429","v":79}]
[null,"Germon",":",{"$f":"'2.Log Book'!Q429","v":0}]
[]
[null,"Total",":",{"$f":"SUM(D30:D33)","v":680}]

{"sheet":"2.Log Book","index":1,"n_rows":429,"n_cols":47,"rows_kept":429,"cut":false,"hidden":false,"merged":[[144,6,145,6],[128,6,129,6],[130,6,131,6],[142,9,143,9],[142,10,143,10],[142,11,143,11],[142,12,143,12],[142,13,143,13],[142,14,143,14],[142,15,143,15],[142,16,143,16],[142,17,143,17],[144,9,145,9],[144,10,145,10],[144,11,145,11],[144,12,145,12],[144,13,145,13],[144,14,145,14],[144,15,145,15],[144,16,145,16],[144,17,145,17],[138,9,139,9],[138,10,139,10],[138,11,139,11],[138,12,139,12],[138,13,139,13],[138,14,139,14],[138,15,139,15],[138,16,139,16],[138,17,139,17],[140,15,141,15],[140,16,141,16],[140,17,141,17],[134,10,135,10],[134,11,135,11],[134,12,135,12],[134,13,135,13],[134,14,135,14],[134,15,135,15],[134,16,135,16],[134,17,135,17],[136,9,137,9],[136,10,137,10],[136,11,137,11],[136,12,137,12],[136,13,137,13],[136,14,137,14],[136,15,137,15],[136,16,137,16],[136,17,137,17],[140,14,141,14],[128,16,129,16],[128,17,129,17],[130,9,131,9],[130,10,131,10],[130,11,131,11],[130,12,131,12],[130,13,131,13],[130,14,131,14],[130,15,131,15],[130,16,131,16],[130,17,131,17],[132,9,133,9],[132,10,133,10],[132,11,133,11],[132,12,133,12],[132,13,133,13],[132,14,133,14],[132,15,133,15],[132,16,133,16],[132,17,133,17],[128,14,129,14],[128,15,129,15],[428,0,428,8],[428,9,428,10],[428,12,428,13],[428,14,428,15],[428,18,428,20],[399,1,399,5],[398,6,399,6],[398,7,399,7],[398,8,399,8],[400,18,401,18],[428,21,428,23],[9,16,9,17],[10,16,11,17],[12,16,14,17],[427,9,427,10],[427,12,427,13],[427,14,427,15],[427,18,427,20],[427,21,427,23],[398,9,399,9],[398,14,399,14],[408,0,409,0],[408,1,408,5],[396,1,396,5],[397,1,397,5],[402,1,402,5],[400,1,400,5],[401,1,401,5],[398,0,399,0],[398,1,398,5],[408,6,409,6],[408,7,409,7],[408,8,409,8],[398,10,399,10],[398,11,399,11],[398,12,399,12],[398,13,399,13],[382,1,382,5],[383,1,383,5],[380,1,380,5],[381,1,381,5],[386,1,386,5],[387,1,387,5],[384,1,384,5],[385,1,385,5],[390,1,390,5],[391,1,391,5],[388,1,388,5],[389,1,389,5],[394,1,394,5],[395,1,395,5],[392,1,392,5],[393,1,393,5],[400,11,401,11],[366,0,367,0],[366,1,366,5],[366,39,367,39],[366,40,367,40],[367,1,367,5],[368,0,369,0],[368,1,368,5],[368,6,369,6],[368,7,369,7],[368,8,369,8],[368,13,369,13],[372,31,373,31],[366,6,367,6],[366,7,367,7],[366,8,367,8],[366,9,367,9],[366,10,367,10],[366,11,367,11],[366,12,367,12],[366,13,367,13],[366,14,367,14],[366,15,367,15],[366,18,367,18],[370,23,371,23],[370,24,371,24],[370,25,371,25],[370,26,371,26],[370,27,371,27],[370,28,371,28],[370,29,371,29],[370,31,371,31],[370,32,371,32],[376,31,377,31],[379,1,379,5],[368,9,369,9],[368,10,369,10],[368,11,369,11],[368,12,369,12],[366,26,367,26],[366,27,367,27],[366,28,367,28],[366,29,367,29],[366,31,367,31],[352,31,353,31],[352,19,353,19],[360,20,361,20],[360,21,361,21],[360,22,361,22],[360,23,361,23],[360,24,361,24],[360,25,361,25],[360,26,361,26],[360,27,361,27],[356,27,357,27],[362,27,363,27],[362,28,363,28],[362,29,363,29],[362,31,363,31],[360,28,361,28],[360,29,361,29],[364,25,365,25],[356,21,357,21],[356,22,357,22],[356,23,357,23],[352,39,353,39],[352,40,353,40],[354,25,355,25],[354,26,355,26],[354,27,355,27],[354,28,355,28],[354,31,355,31],[354,40,355,40],[366,32,367,32],[366,33,367,37],[366,38,367,38],[354,18,355,18],[354,19,355,19],[354,20,355,20],[354,21,355,21],[354,22,355,22],[354,16,355,16],[354,17,355,17],[354,23,355,23],[354,24,355,24],[352,20,353,20],[366,19,367,19],[366,20,367,20],[366,21,367,21],[366,22,367,22],[366,23,367,23],[366,24,367,24],[366,25,367,25],[358,19,359,19],[358,20,359,20],[364,23,365,23],[364,24,365,24],[356,24,357,24],[356,25,357,25],[351,1,351,5],[354,0,355,0],[354,1,354,5],[354,6,355,6],[354,7,355,7],[354,8,355,8],[350,0,351,0],[350,1,350,5],[350,6,351,6],[350,7,351,7],[354,9,355,9],[354,10,355,10],[354,11,355,11],[354,12,355,12],[354,13,355,13],[354,14,355,14],[354,15,355,15],[350,23,351,23],[350,24,351,24],[348,25,349,25],[348,26,349,26],[348,27,349,27],[348,28,349,28],[348,38,349,38],[348,39,349,39],[348,40,349,40],[348,29,349,29],[348,31,349,31],[348,32,349,32],[348,33,349,37],[350,43,351,43],[350,39,351,39],[350,40,351,40],[350,42,351,42],[350,32,351,32],[348,43,349,43],[350,33,351,37],[350,38,351,38],[350,28,351,28],[350,29,351,29],[350,31,351,31],[350,25,351,25],[350,26,351,26],[350,27,351,27],[344,28,345,28],[344,31,345,31],[346,21,347,21],[346,42,347,42],[346,43,347,43],[347,1,347,5],[348,10,349,10],[348,11,349,11],[348,12,349,12],[348,13,349,13],[348,42,349,42],[348,14,349,14],[348,15,349,15],[348,1,348,5],[348,6,349,6],[348,7,349,7],[348,8,349,8],[348,9,349,9],[349,1,349,5],[348,18,349,18],[348,19,349,19],[348,20,349,20],[348,21,349,21],[348,17,349,17],[348,22,349,22],[348,23,349,23],[348,24,349,24],[344,43,345,43],[345,1,345,5],[346,6,347,6],[346,7,347,7],[346,10,347,10],[342,28,343,28],[342,31,343,31],[342,32,343,32],[342,33,343,37],[342,39,343,39],[342,40,343,40],[346,39,347,39],[346,40,347,40],[350,8,351,8],[350,9,351,9],[350,10,351,10],[348,16,349,16],[344,32,345,32],[344,33,345,37],[344,20,345,20],[344,21,345,21],[344,22,345,22],[344,23,345,23],[350,11,351,11],[350,12,351,12],[350,13,351,13],[350,14,351,14],[350,15,351,15],[350,18,351,18],[350,16,351,16],[350,17,351,17],[350,19,351,19],[350,20,351,20],[350,21,351,21],[350,22,351,22],[346,8,347,8],[346,9,347,9],[346,11,347,11],[346,12,347,12],[346,13,347,13],[346,14,347,14],[346,15,347,15],[346,18,347,18],[346,19,347,19],[346,16,347,16],[346,17,347,17],[346,20,347,20],[342,43,343,43],[343,1,343,5],[344,1,344,5],[344,6,345,6],[344,7,345,7],[344,8,345,8],[344,9,345,9],[344,10,345,10],[344,11,345,11],[344,24,345,24],[344,25,345,25],[344,12,345,12],[344,13,345,13],[344,14,345,14],[344,15,345,15],[344,18,345,18],[344,19,345,19],[342,22,343,22],[342,23,343,23],[342,24,343,24],[342,25,343,25],[342,26,343,26],[342,27,343,27],[342,42,343,42],[340,16,341,16],[340,17,341,17],[342,16,343,16],[342,17,343,17],[346,22,347,22],[346,23,347,23],[346,24,347,24],[346,25,347,25],[346,26,347,26],[346,27,347,27],[346,28,347,28],[344,26,345,26],[344,27,345,27],[340,18,341,18],[340,19,341,19],[340,20,341,20],[340,21,341,21],[340,22,341,22],[340,23,341,23],[344,16,345,16],[344,17,345,17],[344,38,345,38],[344,39,345,39],[344,40,345,40],[344,42,345,42],[340,39,341,39],[340,40,341,40],[340,42,341,42],[346,33,347,37],[346,38,347,38],[341,1,341,5],[342,0,343,0],[342,1,342,5],[342,6,343,6],[342,7,343,7],[342,8,343,8],[342,9,343,9],[342,10,343,10],[342,11,343,11],[342,12,343,12],[342,13,343,13],[342,14,343,14],[342,15,343,15],[342,18,343,18],[342,19,343,19],[342,20,343,20],[342,21,343,21],[340,0,341,0],[340,1,340,5],[340,6,341,6],[340,7,341,7],[340,8,341,8],[340,9,341,9],[340,10,341,10],[340,11,341,11],[340,12,341,12],[340,13,341,13],[340,14,341,14],[340,15,341,15],[336,39,337,39],[336,40,337,40],[336,42,337,42],[336,12,337,12],[336,13,337,13],[336,14,337,14],[336,15,337,15],[336,18,337,18],[336,19,337,19],[336,20,337,20],[336,21,337,21],[336,16,337,16],[336,17,337,17],[340,43,341,43],[338,39,339,39],[338,40,339,40],[338,42,339,42],[338,43,339,43],[338,25,339,25],[338,26,339,26],[338,27,339,27],[338,28,339,28],[338,29,339,29],[340,29,341,29],[335,1,335,5],[332,42,333,42],[332,43,333,43],[332,21,333,21],[332,31,333,31],[332,32,333,32],[328,32,329,32],[334,22,335,22],[334,23,335,23],[334,11,335,11],[332,16,333,16],[332,17,333,17],[334,16,335,16],[338,22,339,22],[338,23,339,23],[338,24,339,24],[336,22,337,22],[336,23,337,23],[336,24,337,24],[336,25,337,25],[336,1,336,5],[336,6,337,6],[336,7,337,7],[336,8,337,8],[336,9,337,9],[336,10,337,10],[339,1,339,5],[336,43,337,43],[337,1,337,5],[332,27,333,27],[332,28,333,28],[334,24,335,24],[338,0,339,0],[338,1,338,5],[338,6,339,6],[338,7,339,7],[338,8,339,8],[338,9,339,9],[338,10,339,10],[338,11,339,11],[338,12,339,12],[338,13,339,13],[338,14,339,14],[338,15,339,15],[338,18,339,18],[338,19,339,19],[338,20,339,20],[338,21,339,21],[336,0,337,0],[328,33,329,37],[334,32,335,32],[334,33,335,37],[332,33,333,37],[332,29,333,29],[330,29,331,29],[336,11,337,11],[334,19,335,19],[334,20,335,20],[334,21,335,21],[334,12,335,12],[334,13,335,13],[328,31,329,31],[328,38,329,38],[330,31,331,31],[332,6,333,6],[332,7,333,7],[332,8,333,8],[334,9,335,9],[334,10,335,10],[332,9,333,9],[330,6,331,6],[330,7,331,7],[330,8,331,8],[330,9,331,9],[328,26,329,26],[328,29,329,29],[328,21,329,21],[328,22,329,22],[328,23,329,23],[328,24,329,24],[328,14,329,14],[334,43,335,43],[332,10,333,10],[332,11,333,11],[332,12,333,12],[332,13,333,13],[332,14,333,14],[332,15,333,15],[332,18,333,18],[332,19,333,19],[332,20,333,20],[332,22,333,22],[332,23,333,23],[334,15,335,15],[334,18,335,18],[334,29,335,29],[334,31,335,31],[334,38,335,38],[334,25,335,25],[334,26,335,26],[334,27,335,27],[334,28,335,28],[334,39,335,39],[334,40,335,40],[334,42,335,42],[294,39,295,39],[294,40,295,40],[332,38,333,38],[332,39,333,39],[332,40,333,40],[330,40,331,40],[306,40,307,40],[298,39,299,39],[304,40,305,40],[294,27,295,27],[294,28,295,28],[294,29,295,29],[294,31,295,31],[294,32,295,32],[294,33,295,37],[300,31,301,31],[300,32,301,32],[300,33,301,37],[300,39,301,39],[300,40,301,40],[302,39,303,39],[302,40,303,40],[302,38,303,38],[306,39,307,39],[330,32,331,32],[330,33,331,37],[330,38,331,38],[304,39,305,39],[308,40,309,40],[308,39,309,39],[312,40,313,40],[310,39,311,39],[328,42,329,42],[328,43,329,43],[330,42,331,42],[330,43,331,43],[328,40,329,40],[298,40,299,40],[274,31,275,31],[288,1,288,5],[286,1,286,5],[287,1,287,5],[286,6,287,6],[286,7,287,7],[286,8,287,8],[278,31,279,31],[278,19,279,19],[278,20,279,20],[278,21,279,21],[278,22,279,22],[278,23,279,23],[278,24,279,24],[278,25,279,25],[278,26,279,26],[278,27,279,27],[278,28,279,28],[278,11,279,11],[278,7,279,7],[278,8,279,8],[290,22,291,22],[290,23,291,23],[300,27,301,27],[300,28,301,28],[300,29,301,29],[248,27,249,27],[248,28,249,28],[246,1,246,5],[248,29,249,29],[250,18,251,18],[250,19,251,19],[250,20,251,20],[250,21,251,21],[250,22,251,22],[250,23,251,23],[250,24,251,24],[250,25,251,25],[250,26,251,26],[250,27,251,27],[250,28,251,28],[249,1,249,5],[246,7,247,7],[246,8,247,8],[246,9,247,9],[246,10,247,10],[246,11,247,11],[246,12,247,12],[246,13,247,13],[246,14,247,14],[246,15,247,15],[246,18,247,18],[246,19,247,19],[246,20,247,20],[246,21,247,21],[246,22,247,22],[250,17,251,17],[251,1,251,5],[244,40,245,40],[245,1,245,5],[242,32,243,32],[246,32,247,32],[246,33,247,37],[246,38,247,38],[246,39,247,39],[246,40,247,40],[246,42,247,42],[246,43,247,43],[247,1,247,5],[248,0,249,0],[248,1,248,5],[248,6,249,6],[248,7,249,7],[248,8,249,8],[248,9,249,9],[248,10,249,10],[248,11,249,11],[248,12,249,12],[248,13,249,13],[248,14,249,14],[248,15,249,15],[248,18,249,18],[248,19,249,19],[248,20,249,20],[248,21,249,21],[248,22,249,22],[248,23,249,23],[248,24,249,24],[248,25,249,25],[248,26,249,26],[242,39,243,39],[244,7,245,7],[244,8,245,8],[244,9,245,9],[244,10,245,10],[244,11,245,11],[244,12,245,12],[244,13,245,13],[244,14,245,14],[244,15,245,15],[244,18,245,18],[244,19,245,19],[244,20,245,20],[244,21,245,21],[244,22,245,22],[244,23,245,23],[246,25,247,25],[246,26,247,26],[246,27,247,27],[246,28,247,28],[246,29,247,29],[244,24,245,24],[246,31,247,31],[244,38,245,38],[242,38,243,38],[244,32,245,32],[244,39,245,39],[246,16,247,16],[246,17,247,17],[240,20,241,20],[240,21,241,21],[240,22,241,22],[240,23,241,23],[240,24,241,24],[240,25,241,25],[240,26,241,26],[242,31,243,31],[244,25,245,25],[244,26,245,26],[244,27,245,27],[244,28,245,28],[244,29,245,29],[244,31,245,31],[244,33,245,37],[246,23,247,23],[246,24,247,24],[240,39,241,39],[242,33,243,37],[240,40,241,40],[241,1,241,5],[242,1,242,5],[242,6,243,6],[242,7,243,7],[242,8,243,8],[242,9,243,9],[242,10,243,10],[242,11,243,11],[242,12,243,12],[242,13,243,13],[242,14,243,14],[242,15,243,15],[242,18,243,18],[242,19,243,19],[242,20,243,20],[242,17,243,17],[242,21,243,21],[242,22,243,22],[242,23,243,23],[242,24,243,24],[242,25,243,25],[242,26,243,26],[242,27,243,27],[242,28,243,28],[242,29,243,29],[242,40,243,40],[240,7,241,7],[240,18,241,18],[240,19,241,19],[234,32,235,32],[234,33,235,37],[234,38,235,38],[236,31,237,31],[234,39,235,39],[234,40,235,40],[232,42,233,42],[236,40,237,40],[232,20,233,20],[234,21,235,21],[234,22,235,22],[234,23,235,23],[234,25,235,25],[234,26,235,26],[234,27,235,27],[234,17,235,17],[236,29,237,29],[236,39,237,39],[236,21,237,21],[236,22,237,22],[236,23,237,23],[236,24,237,24],[236,25,237,25],[232,26,233,26],[236,38,237,38],[236,42,237,42],[232,24,233,24],[232,40,233,40],[232,29,233,29],[236,33,237,37],[236,17,237,17],[232,22,233,22],[238,40,239,40],[238,39,239,39],[240,32,241,32],[240,27,241,27],[240,28,241,28],[240,29,241,29],[240,38,241,38],[232,27,233,27],[232,18,233,18],[232,19,233,19],[234,18,235,18],[234,24,235,24],[232,21,233,21],[238,22,239,22],[232,31,233,31],[232,32,233,32],[232,33,233,37],[232,38,233,38],[238,24,239,24],[238,25,239,25],[232,28,233,28],[232,25,233,25],[238,26,239,26],[238,19,239,19],[238,23,239,23],[234,28,235,28],[234,29,235,29],[234,19,235,19],[234,20,235,20],[238,27,239,27],[238,28,239,28],[234,31,235,31],[238,20,239,20],[238,21,239,21],[238,18,239,18],[234,9,235,9],[232,15,233,15],[226,16,227,16],[234,0,235,0],[234,10,235,10],[234,13,235,13],[236,11,237,11],[236,12,237,12],[238,8,239,8],[234,11,235,11],[238,0,239,0],[238,16,239,16],[238,15,239,15],[238,9,239,9],[238,10,239,10],[226,11,227,11],[226,12,227,12],[226,13,227,13],[226,14,227,14],[232,14,233,14],[236,15,237,15],[228,16,229,16],[234,16,235,16],[226,7,227,7],[191,1,191,5],[236,10,237,10],[236,13,237,13],[238,1,238,5],[238,6,239,6],[238,7,239,7],[232,7,233,7],[232,8,233,8],[232,9,233,9],[230,14,231,14],[190,6,191,6],[190,7,191,7],[190,8,191,8],[190,9,191,9],[190,10,191,10],[190,11,191,11],[190,12,191,12],[190,13,191,13],[192,6,193,6],[201,1,201,5],[238,14,239,14],[194,8,195,8],[200,6,201,6],[200,7,201,7],[200,11,201,11],[200,12,201,12],[200,13,201,13],[230,7,231,7],[234,12,235,12],[239,1,239,5],[194,9,195,9],[194,10,195,10],[232,23,233,23],[228,13,229,13],[230,8,231,8],[230,16,231,16],[226,8,227,8],[230,20,231,20],[228,28,229,28],[228,21,229,21],[228,22,229,22],[228,23,229,23],[228,24,229,24],[228,25,229,25],[228,26,229,26],[230,21,231,21],[230,22,231,22],[230,23,231,23],[226,20,227,20],[226,21,227,21],[232,11,233,11],[232,12,233,12],[230,15,231,15],[232,13,233,13],[230,9,231,9],[230,10,231,10],[230,17,231,17],[228,14,229,14],[232,16,233,16],[232,17,233,17],[230,11,231,11],[230,12,231,12],[230,13,231,13],[230,25,231,25],[144,0,145,0],[144,1,144,5],[144,8,145,8],[145,1,145,5],[194,1,194,5],[195,1,195,5],[192,1,192,5],[193,1,193,5],[194,6,195,6],[194,7,195,7],[226,15,227,15],[188,6,189,6],[226,22,227,22],[226,23,227,23],[190,1,190,5],[188,1,188,5],[187,1,187,5],[184,1,184,5],[185,1,185,5],[177,1,177,5],[186,1,186,5],[176,1,176,5],[189,1,189,5],[190,15,191,15],[144,19,145,19],[196,6,197,6],[196,7,197,7],[196,8,197,8],[196,9,197,9],[196,10,197,10],[146,0,147,0],[149,1,149,5],[146,11,147,11],[146,12,147,12],[230,38,231,38],[230,42,231,42],[146,27,147,27],[138,42,139,42],[226,42,227,42],[228,31,229,31],[228,32,229,32],[228,33,229,37],[228,39,229,39],[228,38,229,38],[226,39,227,39],[226,38,227,38],[226,27,227,27],[226,28,227,28],[226,19,227,19],[146,16,147,16],[228,18,229,18],[226,40,227,40],[230,40,231,40],[146,33,147,37],[228,29,229,29],[228,15,229,15],[228,17,229,17],[226,24,227,24],[226,26,227,26],[226,25,227,25],[230,24,231,24],[230,19,231,19],[190,14,191,14],[230,39,231,39],[36,42,37,42],[38,42,39,42],[38,43,39,43],[78,17,79,17],[78,18,79,18],[78,19,79,19],[80,16,81,16],[80,17,81,17],[80,10,81,10],[38,27,39,27],[38,28,39,28],[76,11,77,11],[76,12,77,12],[50,9,51,9],[50,10,51,10],[48,11,49,11],[42,23,43,23],[42,24,43,24],[46,13,47,13],[46,14,47,14]],"merged_total":7584,"flags":["merged_cut"]}
["DEPART / SALIDA / DEPARTURE :",null,null,null,null,null,null,null,null,null,"ARRIVEE / LLEGADA / ARRIVAL",null,null,null,null,null,null,null,null,null,null,"PATRON / PATRON / MASTER",null,null,null,null,null,null,"NAVIRE / BARCO / VESSEL",null,null,null,null,null,null,null,null,null,"FEUILLE\nHOJA \nSHEET"]
["PORT / PUERTO / PORT",null,null,null,null,null,{"$f":"PORT_DEPART","v":"Port Victoria"},null,null,null,"PORT / PUERTO / PORT",null,null,null,null,{"$f":"PORT_arrivée","v":"Port Victoria"},null,null,null,null,null,{"$f":"Patron","v":"DERVOUT Alain"}]
["DATE / FECHA / DATE",null,null,null,null,null,{"$f":"Date_départ","v":"2017-09-22"},null,null,null,"DATE / FECHA / DATE",null,null,null,null,{"$f":"Date_arrivée","v":"2017-10-15"}]
["HEURE / HORA / HOUR",null,null,null,null,null,{"$f":"Heure_départ","v":"07:00:00"},null,null,null,"HEURE / HORA / HOUR",null,null,null,null,{"$f":"Heure_arrivée","v":"14:30:00"},null,null,null,null,null,"MAREE",null,{"$f":"Nr_Marée","v":"1704 A"},null,null,null,null,null,null,null,null,null,null,null,null,null,null,null,null,1]
["LOCH / CORREDERA / LOCH",null,null,null,null,null,{"$f":"Loch_départ","v":0},null,null,null,"LOCH / CORREDERA / LOCH",null,null,null,null,{"$f":"Loch_arrivée","v":5215}]
[]
["DATE","POSITION                                                     (chaque calée \nou à midi)",null,null,null,null,"CALEE",null,null,"CAPTURE ESTIMEE (en tonnes)",null,null,null,null,null,null,null,null,null,null,null,null,null,null,"ASSOCIATION",null,null,null,null,null,"Balise","DCP","ZEE","COMMENTAIRES",null,null,null,null,"T° Mer / Mar / Sea","VENT"]
[null,null,null,null,null,null,"LANCE",null,null,"ESTIMATION DE LA CAPTURA (en toneladas)",null,null,null,null,null,null,null,null,null,null,null,null,null,null,"ASSOCIACION",null,null,null,null,null,"Boyas","DCP","ZEE","COMMENTARIOS",null,null,null,null,null,"VIENTO"]
[null,null,null,null,null,null,"SET",null,null,"ESTIMATED CATCH (metric tons)",null,null,null,null,null,null,null,null,null,null,null,null,null,null,"ASSOCIATION",null,null,null,null,null,"Buoy","FAD","EEZ","COMMENTS",null,null,null,null,null,"WIND"]
[null,null,null,null,null,null,"Portant / Positivo / Successful","Nul / Nulo / Nil","Heure / Hora / Time TU",1,null,null,2,null,3,null,4,null,"AUTRE ESPECE",null,null,"REJETS",null,null,"Banc libre/banco libre/Free school","Epave / Objeto / Log\nN (naturelle/natural)  A (artificielle/artificial)","Bateau d'assistance \nBarco de appoyo / Supply","Balise / Baliza / Beacon","Requin Baleine \nTiburon Ballena / Shark Wale","Baleine / Ballena / Wale","Type :","CRÉER UNE LIGNE PAR EVENNEMENT SUR DCP NATUREL OU ARTIFICIEL","NOM DE \nLA ZEE\n\n(hors zee indiquer eaux internatio\nnales)","Problèmes divers\nPrise accessoire\nTaille du banc \nAutres associations\nAutres remarques",null,null,null,null,null,"Direction / Direccion / Direction                                      Degrés / Grados / Degree","Vitesse / Velocidad / Speed\nNoeuds / Nudos / Knots"]
[null,null,null,null,null,null,null,null,null,"ALBACORE",null,null,"LISTAO",null,"PATUDO",null,"GERMON",null,null,null,null,"Préciser le / les nom(s)"]
["FECHA ","POSICION                                                     (cada lance o mediadia)",null,null,null,null,null,null,null,null,null,null,null,null,null,null,null,null,"Préciser Noms"]
[null,null,null,null,null,null,null,null,null,"RABIL",null,null,"LISTADO",null,"PATUDO",null,"ALBACORA",null,null,null,null,"DESCARTES",null,null,null,null,null,null,null,null,"MSI","MISE A L'EAU DCP ECO"]
[null,null,null,null,null,null,null,null,null,null,null,null,null,null,null,null,null,null,null,null,null,"dar el / los nombre(s)",null,null,null,null,null,null,null,null,"M3I","CHANGEMENT DE BALISE "]
[null,null,null,null,null,null,null,null,null,null,null,null,null,null,null,null,null,null,"OTHER SPECIES",null,null,null,null,null,null,null,null,null,null,null,"M4I"]
[null,null,null,null,null,null,null,null,null,"YELLOWFIN",null,null,"SKIPJACK",null,"BIGEYE",null,"ALBACORE",null,null,null,null,"DISCARDS",null,null,null,null,null,null,null,null,"Numéro","VISITE AVEC PECHE"]
["DATE","POSITION                                                      (each set \nor midday)",null,null,null,null,null,null,null,null,null,null,null,null,null,null,null,null,"give name(s)",null,null,"give name(s)",null,null,null,null,null,null,null,null,null,"VISITE SANS PECHE"]
[null,null,null,null,null,null,null,null,null,"YFT+10",null,"YFT-10","SKJ",null,"BET",null,"ALB",null,null,null,null,null,null,null,null,null,null,null,null,null,null,"RETRAIT"]
[null,null,null,null,null,null,null,null,null,"Taille","Capture","Capture","Taille","Capture","Taille","Capture","Taille","Capture","Nom","Taille","Capture","Nom","Taille","Capture",null,null,null,null,null,null,null,null,null,null,null,null,null,null,null,null,null,null,null,null,"total"]
[null,null,null,null,null,null,null,null,null,"Tailla","Captura","Captura","Tailla","Captura","Tailla","Captura","Tailla","Captura","Nombre","Tailla","Captura","Nomb.","Tailla","Captura",null,null,null,null,null,null,null,"PERTE / FIN TRANSMISSION BALISE",null,null,null,null,null,null,null,null,null,null,null,null,"portant","nul"]
[null,null,null,null,null,null,null,null,null,"Size","Catch","Catch","Size","Catch","Size","Catch","Size","Catch","Name","Size","Catch","Name","Size","Catch",null,null,null,null,null,null,null,null,null,null,null,null,null,null,null,null,null,null,null,null,{"$f":"SUM(AQ23:AQ1410)","v":{"$error":"#REF!"}},{"$f":"SUM(AR23:AR1410)","v":4},{"$f":"MAX(AU23:AU426)","v":4}]
["Une calée par ligne / Une ligne par DCP rencontré (visite / pêche / mise à l'eau, etc)",null,null,null,null,null,null,null,null,null,null,null,null,null,null,null,null,null,null,null,null,null,null,null,null,null,null,null,null,null,null,null,null,null,null,null,null,null,null,null,null,null,"portant","nul",null,null,"page"]
["2017-09-23","1°12 S",null,null,null,null,null,null,"01:55:00",null,null,null,null,null,null,null,null,null,null,null,null,null,null,null,null,"A",null,null,null,null,"M3I+","VISITE SANS PECHE","Seychelles",null,null,null,null,null,27.3,160,12,{"$f":"K23+L23+N23+P23+R23","v":0},{"$f":"IF(G23=\"x\", 1,0)","v":0},{"$f":"IF(H23=\"x\", 1,0)","v":0},null,null,{"$f":"IF(A23=\"\",\"\",1)","v":1}]
[null,"54°27 E",null,null,null,null,null,null,null,null,null,null,null,null,null,null,null,null,null,null,null,null,null,null,null,null,null,null,null,null,514643]
["2017-09-23","0°41 N",null,null,null,null,null,null,"11:20:00",null,null,null,null,null,null,null,null,null,null,null,null,null,null,null,null,"A",null,null,null,null,"M3I","CHANGEMENT DE  BALISE","Eaux internationales",null,null,null,null,null,27.4,160,13,{"$f":"K25+L25+N25+P25+R25","v":0},{"$f":"IF(G25=\"x\", 1,0)","v":0},{"$f":"IF(H25=\"x\", 1,0)","v":0},null,null,{"$f":"IF(A25=\"\",\"\",1)","v":1}]
[null,"54°28 E",null,null,null,null,null,null,null,null,null,null,null,null,null,null,null,null,null,null,null,null,null,null,null,null,null,null,null,null,100282]
["2017-09-24","2°22 N",null,null,null,null,null,null,"01:55:00",null,null,null,null,null,null,null,null,null,null,null,null,null,null,null,null,"A",null,null,null,null,"M3I+","VISITE SANS PECHE","Eaux internationales",null,null,null,null,null,26.7,200,13,{"$f":"K27+L27+N27+P27+R27","v":0},{"$f":"IF(G27=\"x\", 1,0)","v":0},{"$f":"IF(H27=\"x\", 1,0)","v":0},null,null,{"$f":"IF(A27=\"\",\"\",1)","v":1}]
[null,"54°13 E",null,null,null,null,null,null,null,null,null,null,null,null,null,null,null,null,null,null,null,null,null,null,null,null,null,null,null,null,508745]
["2017-09-24","2°26 N",null,null,null,null,null,null,"02:25:00",null,null,null,null,null,null,null,null,null,null,null,null,null,null,null,null,"A",null,null,null,null,"M3I","CHANGEMENT DE  BALISE","Eaux internationales",null,null,null,null,null,26.7,200,13,{"$f":"K29+L29+N29+P29+R29","v":0},{"$f":"IF(G29=\"x\", 1,0)","v":0},{"$f":"IF(H29=\"x\", 1,0)","v":0},null,null,{"$f":"IF(A29=\"\",\"\",1)","v":1}]
[null,"54°14 E",null,null,null,null,null,null,null,null,null,null,null,null,null,null,null,null,null,null,null,null,null,null,null,null,null,null,null,null,514896]
["2017-09-24","0°05 N",null,null,null,null,null,null,"12:35:00",null,null,null,null,null,null,null,null,null,null,null,null,null,null,null,null,"A",null,null,null,null,"M3I","VISITE SANS PECHE","Eaux internationales",null,null,null,null,null,26.7,200,13,{"$f":"K31+L31+N31+P31+R31","v":0},{"$f":"IF(G31=\"x\", 1,0)","v":0},{"$f":"IF(H31=\"x\", 1,0)","v":0},null,null,{"$f":"IF(A31=\"\",\"\",1)","v":1}]
[null,"55°58 E",null,null,null,null,null,null,null,null,null,null,null,null,null,null,null,null,null,null,null,null,null,null,null,null,null,null,null,null,100637]
["2017-09-25","5°10 N",null,null,null,null,null,null,"03:45:00",null,null,null,null,null,null,null,null,null,null,null,null,null,null,null,null,"A",null,null,null,null,"M3I+","CHANGEMENT DE  BALISE","Eaux internationales",null,null,null,null,null,28.2,200,10,{"$f":"K33+L33+N33+P33+R33","v":0},{"$f":"IF(G33=\"x\", 1,0)","v":0},{"$f":"IF(H33=\"x\", 1,0)","v":0},null,null,{"$f":"IF(A33=\"\",\"\",1)","v":1}]
[null,"58°42 E",null,null,null,null,null,null,null,null,null,null,null,null,null,null,null,null,null,null,null,null,null,null,null,null,null,null,null,null,508751]
["2017-09-25","5°24 N",null,null,null,null,"X",null,"05:55:00",null,null,4,3,17,3,3,null,null,null,null,null,null,null,null,null,"A",null,null,null,null,null,"DCP ESPAGNOL","Eaux internationales",null,null,null,null,null,28.2,200,10,{"$f":"K35+L35+N35+P35+R35","v":24},{"$f":"IF(G35=\"x\", 1,0)","v":1},{"$f":"IF(H35=\"x\", 1,0)","v":0},null,null,{"$f":"IF(A35=\"\",\"\",1)","v":1}]
[null,"59°00 E"]
["2017-09-25","5°32 N",null,null,null,null,null,null,"09:40:00",null,null,null,null,null,null,null,null,null,null,null,null,null,null,null,null,"A",null,null,null,null,"M3I","CHANGEMENT DE  BALISE","Eaux internationales",null,null,null,null,null,28.2,200,10,{"$f":"K37+L37+N37+P37+R37","v":0},{"$f":"IF(G37=\"x\", 1,0)","v":0},{"$f":"IF(H37=\"x\", 1,0)","v":0},null,null,{"$f":"IF(A37=\"\",\"\",1)","v":1}]
[null,"59°20 E",null,null,null,null,null,null,null,null,null,null,null,null,null,null,null,null,null,null,null,null,null,null,null,null,null,null,null,null,257163]
["2017-09-26","6°25 N",null,null,null,null,null,null,"01:30:00",null,null,null,null,null,null,null,null,null,null,null,null,null,null,null,null,"A",null,null,null,null,"M3I+","VISITE SANS PECHE","Eaux internationales",null,null,null,null,null,28.4,300,10,{"$f":"K39+L39+N39+P39+R39","v":0},{"$f":"IF(G39=\"x\", 1,0)","v":0},{"$f":"IF(H39=\"x\", 1,0)","v":0},null,null,{"$f":"IF(A39=\"\",\"\",1)","v":1}]
[null,"61°02 E",null,null,null,null,null,null,null,null,null,null,null,null,null,null,null,null,null,null,null,null,null,null,null,null,null,null,null,null,510090]
["2017-09-26","6°20 N",null,null,null,null,null,null,"02:30:00",null,null,null,null,null,null,null,null,null,null,null,null,null,null,null,null,"A",null,null,null,null,"M3I","VISITE SANS PECHE","Eaux internationales",null,null,null,null,null,28.4,300,10,{"$f":"K41+L41+N41+P41+R41","v":0},{"$f":"IF(G41=\"x\", 1,0)","v":0},{"$f":"IF(H41=\"x\", 1,0)","v":0},null,null,{"$f":"IF(A41=\"\",\"\",1)","v":1}]
[null,"60°52 E",null,null,null,null,null,null,null,null,null,null,null,null,null,null,null,null,null,null,null,null,null,null,null,null,null,null,null,null,199312]
["2017-09-26","6°25 N",null,null,null,null,"X",null,"03:40:00",15,1,1,2,2,3,1,null,null,null,null,null,null,null,null,null,"A",null,null,null,null,"M3I+","CHANGEMENT DE  BALISE","Eaux internationales",null,null,null,null,null,28.4,300,10,{"$f":"K43+L43+N43+P43+R43","v":5},{"$f":"IF(G43=\"x\", 1,0)","v":1},{"$f":"IF(H43=\"x\", 1,0)","v":0},null,null,{"$f":"IF(A43=\"\",\"\",1)","v":1}]
[null,"60°48 E",null,null,null,null,null,null,null,null,null,null,null,null,null,null,null,null,null,null,null,null,null,null,null,null,null,null,null,null,100584]
["2017-09-26","7°11 N",null,null,null,null,null,null,"09:50:00",null,null,null,null,null,null,null,null,null,null,null,null,null,null,null,null,"A",null,null,null,null,"M3I","CHANGEMENT DE  BALISE","Eaux internationales",null,null,null,null,null,28.4,300,10,{"$f":"K45+L45+N45+P45+R45","v":0},{"$f":"IF(G45=\"x\", 1,0)","v":0},{"$f":"IF(H45=\"x\", 1,0)","v":0},null,null,{"$f":"IF(A45=\"\",\"\",1)","v":1}]
[null,"60°37 E",null,null,null,null,null,null,null,null,null,null,null,null,null,null,null,null,null,null,null,null,null,null,null,null,null,null,null,null,244864]
["2017-09-27","7°02 N",null,null,null,null,"X",null,"01:55:00",null,null,5,2.5,14,3,4,null,null,null,null,null,null,null,null,null,"A",null,null,null,null,"M3I","VISITE AVEC PECHE","Eaux internationales",null,null,null,null,null,28,270,10,{"$f":"K47+L47+N47+P47+R47","v":23},{"$f":"IF(G47=\"x\", 1,0)","v":1},{"$f":"IF(H47=\"x\", 1,0)","v":0},null,null,{"$f":"IF(A47=\"\",\"\",1)","v":1}]
[null,"60°48 E",null,null,null,null,null,null,null,null,null,null,null,null,null,null,null,null,null,null,null,null,null,null,null,null,null,null,null,null,244864]
["2017-09-27","8°45 N",null,null,null,null,null,null,"14:05:00",null,null,null,null,null,null,null,null,null,null,null,null,null,null,null,null,"A",null,null,null,null,"M3I+","CHANGEMENT DE  BALISE","Eaux internationales",null,null,null,null,null,27.8,270,10,{"$f":"K49+L49+N49+P49+R49","v":0},{"$f":"IF(G49=\"x\", 1,0)","v":0},{"$f":"IF(H49=\"x\", 1,0)","v":0},null,null,{"$f":"IF(A49=\"\",\"\",1)","v":1}]
[null,"60°09 E",null,null,null,null,null,null,null,null,null,null,null,null,null,null,null,null,null,null,null,null,null,null,null,null,null,null,null,null,509848]
["2017-09-28","10°42 N",null,null,null,null,"X",null,"02:05:00",20,3,6,2.5,34,3,7,null,null,null,null,null,null,null,null,null,"A",null,null,null,null,"M3I+","VISITE SANS PECHE","Eaux internationales",null,null,null,null,null,27.3,230,16,{"$f":"K51+L51+N51+P51+R51","v":50},{"$f":"IF(G51=\"x\", 1,0)","v":1},{"$f":"IF(H51=\"x\", 1,0)","v":0},null,null,{"$f":"IF(A51=\"\",\"\",1)","v":1}]
[null,"58°52 E",null,null,null,null,null,null,null,null,null,null,null,null,null,null,null,null,null,null,null,null,null,null,null,null,null,null,null,null,514819]
["2017-09-28","10°55 N",null,null,null,null,null,null,"10:45:00",null,null,null,null,null,null,null,null,null,null,null,null,null,null,null,null,"A",null,null,null,null,"M3I","CHANGEMENT DE  BALISE","Eaux internationales",null,null,null,null,null,27.3,230,5,{"$f":"K53+L53+N53+P53+R53","v":0},{"$f":"IF(G53=\"x\", 1,0)","v":0},{"$f":"IF(H53=\"x\", 1,0)","v":0},null,null,{"$f":"IF(A53=\"\",\"\",1)","v":1}]
[null,"59°58 E",null,null,null,null,null,null,null,null,null,null,null,null,null,null,null,null,null,null,null,null,null,null,null,null,null,null,null,null,256890]
["2017-09-28","10°58 N",null,null,null,null,null,null,"11:10:00",null,null,null,null,null,null,null,null,null,null,null,null,null,null,null,null,"A",null,null,null,null,"M3I+","CHANGEMENT DE  BALISE","Eaux internationales",null,null,null,null,null,27.3,230,5,{"$f":"K55+L55+N55+P55+R55","v":0},{"$f":"IF(G55=\"x\", 1,0)","v":0},{"$f":"IF(H55=\"x\", 1,0)","v":0},null,null,{"$f":"IF(A55=\"\",\"\",1)","v":1}]
[null,"60°06 E",null,null,null,null,null,null,null,null,null,null,null,null,null,null,null,null,null,null,null,null,null,null,null,null,null,null,null,null,508719]
["2017-09-29","11°04 N",null,null,null,null,null,"X","01:45:00",null,null,null,null,null,null,null,null,null,null,null,null,null,null,null,null,"A",null,null,null,null,"M3I","RETRAIT","Eaux internationales",null,null,null,null,null,27.4,230,5,{"$f":"K57+L57+N57+P57+R57","v":0},{"$f":"IF(G57=\"x\", 1,0)","v":0},{"$f":"IF(H57=\"x\", 1,0)","v":1},null,null,{"$f":"IF(A57=\"\",\"\",2)","v":2}]
[null,"59°59 E",null,null,null,null,null,null,null,null,null,null,null,null,null,null,null,null,null,null,null,null,null,null,null,null,null,null,null,null,508719]
["2017-09-30","8°37 N",null,null,null,null,"X",null,"01:55:00",null,null,null,2,4,null,null,null,null,null,null,null,null,null,null,null,"A",null,null,null,null,"M3I+","RETRAIT","Eaux internationales",null,null,null,null,null,27.6,230,12,{"$f":"K59+L59+N59+P59+R59","v":4},{"$f":"IF(G59=\"x\", 1,0)","v":1},{"$f":"IF(H59=\"x\", 1,0)","v":0},null,null,{"$f":"IF(A59=\"\",\"\",2)","v":2}]
[null,"59°37 E",null,null,null,null,null,null,null,null,null,null,null,null,null,null,null,null,null,null,null,null,null,null,null,null,null,null,null,null,509848]
["2017-10-01","2°58 N",null,null,null,null,null,"X","09:40:00",null,null,null,null,null,null,null,null,null,null,null,null,null,null,null,null,"A",null,null,null,null,"M3I",null,"Eaux internationales",null,null,null,null,null,28.8,230,12,{"$f":"K61+L61+N61+P61+R61","v":0},{"$f":"IF(G61=\"x\", 1,0)","v":0},{"$f":"IF(H61=\"x\", 1,0)","v":1},null,null,{"$f":"IF(A61=\"\",\"\",2)","v":2}]
[null,"59°41 E",null,null,null,null,null,null,null,null,null,null,null,null,null,null,null,null,null,null,null,null,null,null,null,null,null,null,null,null,514663]
["2017-10-02","2°45 N",null,null,null,null,"X",null,"01:50:00",null,null,1,2.5,4,3,2,null,null,null,null,null,null,null,null,null,"A",null,null,null,null,"M3I+","VISITE AVEC PECHE","Eaux internationales",null,null,null,null,null,28.6,230,8,{"$f":"K63+L63+N63+P63+R63","v":7},{"$f":"IF(G63=\"x\", 1,0)","v":1},{"$f":"IF(H63=\"x\", 1,0)","v":0},null,null,{"$f":"IF(A63=\"\",\"\",2)","v":2}]
[null,"59°39 E",null,null,null,null,null,null,null,null,null,null,null,null,null,null,null,null,null,null,null,null,null,null,null,null,null,null,null,null,514663]
["2017-10-02","2°24 N",null,null,null,null,null,null,"10:45:00",null,null,null,null,null,null,null,null,null,null,null,null,null,null,null,null,"A",null,null,null,null,"M3I+","CHANGEMENT DE  BALISE","Eaux internationales",null,null,null,null,null,28.1,230,5,{"$f":"K65+L65+N65+P65+R65","v":0},{"$f":"IF(G65=\"x\", 1,0)","v":0},{"$f":"IF(H65=\"x\", 1,0)","v":0},null,null,{"$f":"IF(A65=\"\",\"\",2)","v":2}]
[null,"58°25 E",null,null,null,null,null,null,null,null,null,null,null,null,null,null,null,null,null,null,null,null,null,null,null,null,null,null,null,null,508719]
["2017-10-03","4°52 N",null,null,null,null,"X",null,"01:55:00",null,null,7,2.5,115,5,18,null,null,null,null,null,null,null,null,null,"A",null,null,null,null,"M3I","VISITE AVEC PECHE","Eaux internationales",null,null,null,null,null,27.6,230,10,{"$f":"K67+L67+N67+P67+R67","v":140},{"$f":"IF(G67=\"x\", 1,0)","v":1},{"$f":"IF(H67=\"x\", 1,0)","v":0},null,null,{"$f":"IF(A67=\"\",\"\",2)","v":2}]
[null,"56°39 E",null,null,null,null,null,null,null,null,null,null,null,null,null,null,null,null,null,null,null,null,null,null,null,null,null,null,null,null,508745]
["2017-10-03","5°36 N",null,null,null,null,null,null,"10:35:00",null,null,null,null,null,null,null,null,null,null,null,null,null,null,null,null,"N",null,null,null,null,"M3I+","VISITE SANS PECHE","Eaux internationales",null,null,null,null,null,27.6,230,10,{"$f":"K69+L69+N69+P69+R69","v":0},{"$f":"IF(G69=\"x\", 1,0)","v":0},{"$f":"IF(H69=\"x\", 1,0)","v":0},null,null,{"$f":"IF(A69=\"\",\"\",2)","v":2}]
[null,"56°39 E",null,null,null,null,null,null,null,null,null,null,null,null,null,null,null,null,null,null,null,null,null,null,null,null,null,null,null,null,514896]
["2017-10-04","3°32 N",null,null,null,null,"X",null,"01:45:00",null,null,3,3,31,3,4,null,null,null,null,null,null,null,null,null,"A",null,null,null,null,"M3I","VISITE AVEC PECHE","Eaux internationales",null,null,null,null,null,28.1,210,6,{"$f":"K71+L71+N71+P71+R71","v":38},{"$f":"IF(G71=\"x\", 1,0)","v":1},{"$f":"IF(H71=\"x\", 1,0)","v":0},null,null,{"$f":"IF(A71=\"\",\"\",2)","v":2}]
[null,"56°59 E",null,null,null,null,null,null,null,null,null,null,null,null,null,null,null,null,null,null,null,null,null,null,null,null,null,null,null,null,199908]
["2017-10-04","3°30 N",null,null,null,null,"X",null,"04:25:00",null,null,null,2.5,1,3,1,null,null,null,null,null,null,null,null,null,"A",null,null,null,null,"M3I","VISITE AVEC PECHE","Eaux internationales",null,null,null,null,null,28.1,210,6,{"$f":"K73+L73+N73+P73+R73","v":2},{"$f":"IF(G73=\"x\", 1,0)","v":1},{"$f":"IF(H73=\"x\", 1,0)","v":0},null,null,{"$f":"IF(A73=\"\",\"\",2)","v":2}]
[null,"56°59 E",null,null,null,null,null,null,null,null,null,null,null,null,null,null,null,null,null,null,null,null,null,null,null,null,null,null,null,null,199908]
["2017-10-04","3°18 N",null,null,null,null,null,null,"07:55:00",null,null,null,null,null,null,null,null,null,null,null,null,null,null,null,null,"A",null,null,null,null,"M3I","CHANGEMENT DE  BALISE","Eaux internationales",null,null,null,null,null,28.1,210,6,{"$f":"K75+L75+N75+P75+R75","v":0},{"$f":"IF(G75=\"x\", 1,0)","v":0},{"$f":"IF(H75=\"x\", 1,0)","v":0},null,null,{"$f":"IF(A75=\"\",\"\",2)","v":2}]
[null,"56°47 E",null,null,null,null,null,null,null,null,null,null,null,null,null,null,null,null,null,null,null,null,null,null,null,null,null,null,null,null,100748]
["2017-10-04","3°15 N",null,null,null,null,null,null,"08:15:00",null,null,null,null,null,null,null,null,null,null,null,null,null,null,null,null,"A",null,null,null,null,"M3I+","CHANGEMENT DE  BALISE","Eaux internationales",null,null,null,null,null,28.1,210,6,{"$f":"K77+L77+N77+P77+R77","v":0},{"$f":"IF(G77=\"x\", 1,0)","v":0},{"$f":"IF(H77=\"x\", 1,0)","v":0},null,null,{"$f":"IF(A77=\"\",\"\",2)","v":2}]
[null,"56°47 E",null,null,null,null,null,null,null,null,null,null,null,null,null,null,null,null,null,null,null,null,null,null,null,null,null,null,null,null,509848]
["2017-10-04","3°10 N",null,null,null,null,null,null,"09:00:00",null,null,null,null,null,null,null,null,null,null,null,null,null,null,null,null,"A",null,null,null,null,"M3I","CHANGEMENT DE  BALISE","Eaux internationales",null,null,null,null,null,28.1,210,6,{"$f":"K79+L79+N79+P79+R79","v":0},{"$f":"IF(G79=\"x\", 1,0)","v":0},{"$f":"IF(H79=\"x\", 1,0)","v":0},null,null,{"$f":"IF(A79=\"\",\"\",2)","v":2}]
[null,"56°44 E",null,null,null,null,null,null,null,null,null,null,null,null,null,null,null,null,null,null,null,null,null,null,null,null,null,null,null,null,226832]
["2017-10-04","2°58 N",null,null,null,null,null,null,"10:25:00",null,null,null,null,null,null,null,null,null,null,null,null,null,null,null,null,"A",null,null,null,null,"M3I","CHANGEMENT DE  BALISE","Eaux internationales",null,null,null,null,null,28.1,210,6,{"$f":"K81+L81+N81+P81+R81","v":0},{"$f":"IF(G81=\"x\", 1,0)","v":0},{"$f":"IF(H81=\"x\", 1,0)","v":0},null,null,{"$f":"IF(A81=\"\",\"\",2)","v":2}]
[null,"56°39 E",null,null,null,null,null,null,null,null,null,null,null,null,null,null,null,null,null,null,null,null,null,null,null,null,null,null,null,null,104497]
["2017-10-05","2°06 N",null,null,null,null,"X",null,"01:44:00",null,null,1,3,29,4,6,null,null,null,null,null,null,null,null,null,"A",null,null,null,null,"M3I","VISITE AVEC PECHE","Eaux internationales",null,null,null,null,null,27.7,230,10,{"$f":"K83+L83+N83+P83+R83","v":36},{"$f":"IF(G83=\"x\", 1,0)","v":1},{"$f":"IF(H83=\"x\", 1,0)","v":0},null,null,{"$f":"IF(A83=\"\",\"\",2)","v":2}]
[null,"55°25 E",null,null,null,null,null,null,null,null,null,null,null,null,null,null,null,null,null,null,null,null,null,null,null,null,null,null,null,null,514463]
["2017-10-05","3°58 N",null,null,null,null,null,null,"13:50:00",null,null,null,null,null,null,null,null,null,null,null,null,null,null,null,null,"A",null,null,null,null,"M3I","CHANGEMENT DE  BALISE","Eaux internationales",null,null,null,null,null,27.6,230,13,{"$f":"K85+L85+N85+P85+R85","v":0},{"$f":"IF(G85=\"x\", 1,0)","v":0},{"$f":"IF(H85=\"x\", 1,0)","v":0},null,null,{"$f":"IF(A85=\"\",\"\",2)","v":2}]
[null,"55°50 E",null,null,null,null,null,null,null,null,null,null,null,null,null,null,null,null,null,null,null,null,null,null,null,null,null,null,null,null,203920]
["2017-10-06","5°08 N",null,null,null,null,null,null,"01:40:00",null,null,null,null,null,null,null,null,null,null,null,null,null,null,null,null,"A",null,null,null,null,"M3I+","VISITE SANS PECHE","Eaux internationales",null,null,null,null,null,28.4,210,12,{"$f":"K87+L87+N87+P87+R87","v":0},{"$f":"IF(G87=\"x\", 1,0)","v":0},{"$f":"IF(H87=\"x\", 1,0)","v":0},null,null,{"$f":"IF(A87=\"\",\"\",2)","v":2}]
[null,"56°58 E",null,null,null,null,null,null,null,null,null,null,null,null,null,null,null,null,null,null,null,null,null,null,null,null,null,null,null,null,508745]
["2017-10-06","5°01 N",null,null,null,null,null,"X","09:15:00",null,null,null,null,null,null,null,null,null,null,null,null,null,null,null,null,"A",null,null,null,null,"M3I","CHANGEMENT DE  BALISE","Eaux internationales",null,null,null,null,null,28.4,210,12,{"$f":"K89+L89+N89+P89+R89","v":0},{"$f":"IF(G89=\"x\", 1,0)","v":0},{"$f":"IF(H89=\"x\", 1,0)","v":1},null,null,{"$f":"IF(A89=\"\",\"\",2)","v":2}]
[null,"58°20 E",null,null,null,null,null,null,null,null,null,null,null,null,null,null,null,null,null,null,null,null,null,null,null,null,null,null,null,null,105124]
["2017-10-06","5°02 N",null,null,null,null,null,null,"11:30:00",null,null,null,null,null,null,null,null,null,null,null,null,null,null,null,null,"A",null,null,null,null,"M3I","CHANGEMENT DE  BALISE","Eaux internationales",null,null,null,null,null,28.7,210,7,{"$f":"K91+L91+N91+P91+R91","v":0},{"$f":"IF(G91=\"x\", 1,0)","v":0},{"$f":"IF(H91=\"x\", 1,0)","v":0},null,null,{"$f":"IF(A91=\"\",\"\",3)","v":3}]
[null,"58°24 E",null,null,null,null,null,null,null,null,null,null,null,null,null,null,null,null,null,null,null,null,null,null,null,null,null,null,null,null,105276]
["2017-10-07","5°12 N",null,null,null,null,"X",null,"01:45:00",null,null,6,3,68,10,14,null,null,null,null,null,null,null,null,null,"A",null,null,null,null,"M3I","VISITE AVEC PECHE","Eaux internationales",null,null,null,null,null,28.5,230,10,{"$f":"K93+L93+N93+P93+R93","v":88},{"$f":"IF(G93=\"x\", 1,0)","v":1},{"$f":"IF(H93=\"x\", 1,0)","v":0},null,null,{"$f":"IF(A93=\"\",\"\",3)","v":3}]
[null,"59°48 E",null,null,null,null,null,null,null,null,null,null,null,null,null,null,null,null,null,null,null,null,null,null,null,null,null,null,null,null,257342]
["2017-10-07","5°10 N",null,null,null,null,"X",null,"08:35:00",null,null,3,3,11,3,7,null,null,null,null,null,null,null,null,null,"A",null,null,null,null,"M3I","CHANGEMENT DE  BALISE","Eaux internationales",null,null,null,null,null,28.5,230,10,{"$f":"K95+L95+N95+P95+R95","v":21},{"$f":"IF(G95=\"x\", 1,0)","v":1},{"$f":"IF(H95=\"x\", 1,0)","v":0},null,null,{"$f":"IF(A95=\"\",\"\",3)","v":3}]
[null,"60°19 E",null,null,null,null,null,null,null,null,null,null,null,null,null,null,null,null,null,null,null,null,null,null,null,null,null,null,null,null,105213]
["2017-10-08","4°37 N",null,null,null,null,null,null,"01:30:00",null,null,null,null,null,null,null,null,null,null,null,null,null,null,null,null,"A",null,null,null,null,"M3I+","RETRAIT","Eaux internationales",null,null,null,null,null,28.8,270,12,{"$f":"K97+L97+N97+P97+R97","v":0},{"$f":"IF(G97=\"x\", 1,0)","v":0},{"$f":"IF(H97=\"x\", 1,0)","v":0},null,null,{"$f":"IF(A97=\"\",\"\",3)","v":3}]
[null,"60°56 E",null,null,null,null,null,null,null,null,null,null,null,null,null,null,null,null,null,null,null,null,null,null,null,null,null,null,null,null,510090]
["2017-10-08","5°01 N",null,null,null,null,null,"X","04:30:00",null,null,null,null,null,null,null,null,null,null,null,null,null,null,null,null,"A",null,null,null,null,null,"DCP ESPAGNOL","Eaux internationales",null,null,null,null,null,28.8,270,12,{"$f":"K99+L99+N99+P99+R99","v":0},{"$f":"IF(G99=\"x\", 1,0)","v":0},{"$f":"IF(H99=\"x\", 1,0)","v":1},null,null,{"$f":"IF(A99=\"\",\"\",3)","v":3}]
[null,"61°02 E"]
["2017-10-09","7°11 N",null,null,null,null,null,null,"01:35:00",null,null,null,null,null,null,null,null,null,null,null,null,null,null,null,null,"A",null,null,null,null,"M3I","VISITE SANS PECHE","Eaux internationales",null,null,null,null,null,28.1,270,14,{"$f":"K101+L101+N101+P101+R101","v":0},{"$f":"IF(G101=\"x\", 1,0)","v":0},{"$f":"IF(H101=\"x\", 1,0)","v":0},null,null,{"$f":"IF(A101=\"\",\"\",3)","v":3}]
[null,"59°05 E",null,null,null,null,null,null,null,null,null,null,null,null,null,null,null,null,null,null,null,null,null,null,null,null,null,null,null,null,257316]
["2017-10-09","7°37 N",null,null,null,null,null,null,"03:50:00",null,null,null,null,null,null,null,null,null,null,null,null,null,null,null,null,"A",null,null,null,null,"M3I","VISITE SANS PECHE","Eaux internationales",null,null,null,null,null,28,270,10,{"$f":"K103+L103+N103+P103+R103","v":0},{"$f":"IF(G103=\"x\", 1,0)","v":0},{"$f":"IF(H103=\"x\", 1,0)","v":0},null,null,{"$f":"IF(A103=\"\",\"\",3)","v":3}]
[null,"59°20 E",null,null,null,null,null,null,null,null,null,null,null,null,null,null,null,null,null,null,null,null,null,null,null,null,null,null,null,null,226549]
["2017-10-10","11°19 N",null,null,null,null,"X",null,"01:55:00",null,null,16,3,107,5,7,null,null,null,null,null,null,null,null,null,"A",null,null,null,null,"M3I+","VISITE AVEC PECHE","Eaux internationales",null,null,null,null,null,27.8,320,20,{"$f":"K105+L105+N105+P105+R105","v":130},{"$f":"IF(G105=\"x\", 1,0)","v":1},{"$f":"IF(H105=\"x\", 1,0)","v":0},null,null,{"$f":"IF(A105=\"\",\"\",3)","v":3}]
[null,"62°17 E",null,null,null,null,null,null,null,null,null,null,null,null,null,null,null,null,null,null,null,null,null,null,null,null,null,null,null,null,508938]
["2017-10-10","11°44 N",null,null,null,null,"X",null,"07:55:00",null,null,6,3,8,4,2,null,null,null,null,null,null,null,null,null,"A",null,null,null,null,"M3I+","VISITE AVEC PECHE","Eaux internationales",null,null,null,null,null,27.9,320,17,{"$f":"K107+L107+N107+P107+R107","v":16},{"$f":"IF(G107=\"x\", 1,0)","v":1},{"$f":"IF(H107=\"x\", 1,0)","v":0},null,null,{"$f":"IF(A107=\"\",\"\",3)","v":3}]
[null,"61°59 E",null,null,null,null,null,null,null,null,null,null,null,null,null,null,null,null,null,null,null,null,null,null,null,null,null,null,null,null,514601]
["2017-10-11","12°09 N",null,null,null,null,"X",null,"02:05:00",null,null,42,4,2,null,null,null,null,null,null,null,null,null,null,null,"A",null,null,null,null,"M3I+",null,"Eaux internationales",null,null,null,null,null,27.1,320,10,{"$f":"K109+L109+N109+P109+R109","v":44},{"$f":"IF(G109=\"x\", 1,0)","v":1},{"$f":"IF(H109=\"x\", 1,0)","v":0},null,null,{"$f":"IF(A109=\"\",\"\",3)","v":3}]
[null,"58°14 E",null,null,null,null,null,null,null,null,null,null,null,null,null,null,null,null,null,null,null,null,null,null,null,null,null,null,null,null,505192]
["2017-10-12","9°42 N",null,null,null,null,"X",null,"02:25:00",null,null,30,4,4,null,null,null,null,null,null,null,null,null,null,null,"A",null,null,null,null,"M3I","VISITE AVEC PECHE","Eaux internationales","Remplacé par 105 269",null,null,null,null,27.6,320,5,{"$f":"K111+L111+N111+P111+R111","v":34},{"$f":"IF(G111=\"x\", 1,0)","v":1},{"$f":"IF(H111=\"x\", 1,0)","v":0},null,null,{"$f":"IF(A111=\"\",\"\",3)","v":3}]
[null,"56°45 E",null,null,null,null,null,null,null,null,null,null,null,null,null,null,null,null,null,null,null,null,null,null,null,null,null,null,null,null,219072]
["2017-10-12","8°41 N",null,null,null,null,null,null,"09:55:00",null,null,null,null,null,null,null,null,null,null,null,null,null,null,null,null,"A",null,null,null,null,"M3I","CHANGEMENT DE  BALISE","Eaux internationales",null,null,null,null,null,27.7,320,7,{"$f":"K113+L113+N113+P113+R113","v":0},{"$f":"IF(G113=\"x\", 1,0)","v":0},{"$f":"IF(H113=\"x\", 1,0)","v":0},null,null,{"$f":"IF(A113=\"\",\"\",3)","v":3}]
[null,"56°28 E",null,null,null,null,null,null,null,null,null,null,null,null,null,null,null,null,null,null,null,null,null,null,null,null,null,null,null,null,100370]
["2017-10-12","8°01 N",null,null,null,null,null,null,"13:00:00",null,null,null,null,null,null,null,null,null,null,null,null,null,null,null,null,"A",null,null,null,null,"M3I","MISE A L'EAU DCP ECO","Eaux internationales",null,null,null,null,null,27.7,320,10,{"$f":"K115+L115+N115+P115+R115","v":0},{"$f":"IF(G115=\"x\", 1,0)","v":0},{"$f":"IF(H115=\"x\", 1,0)","v":0},null,null,{"$f":"IF(A115=\"\",\"\",3)","v":3}]
[null,"56°13 E",null,null,null,null,null,null,null,null,null,null,null,null,null,null,null,null,null,null,null,null,null,null,null,null,null,null,null,null,171375]
["2017-10-13","6°13 N",null,null,null,null,null,null,"01:40:00",null,null,null,null,null,null,null,null,null,null,null,null,null,null,null,null,"A",null,null,null,null,"M3I","MISE A L'EAU DCP ECO","Eaux internationales",null,null,null,null,null,27.6,270,8,{"$f":"K117+L117+N117+P117+R117","v":0},{"$f":"IF(G117=\"x\", 1,0)","v":0},{"$f":"IF(H117=\"x\", 1,0)","v":0},null,null,{"$f":"IF(A117=\"\",\"\",3)","v":3}]
[null,"54°25 E",null,null,null,null,null,null,null,null,null,null,null,null,null,null,null,null,null,null,null,null,null,null,null,null,null,null,null,null,220910]
["2017-10-13","5°55 N",null,null,null,null,null,null,"04:00:00",null,null,null,null,null,null,null,null,null,null,null,null,null,null,null,null,"A",null,null,null,null,"M3I","MISE A L'EAU DCP ECO","Eaux internationales",null,null,null,null,null,27.2,270,9,{"$f":"K119+L119+N119+P119+R119","v":0},{"$f":"IF(G119=\"x\", 1,0)","v":0},{"$f":"IF(H119=\"x\", 1,0)","v":0},null,null,{"$f":"IF(A119=\"\",\"\",3)","v":3}]
[null,"54°10 E",null,null,null,null,null,null,null,null,null,null,null,null,null,null,null,null,null,null,null,null,null,null,null,null,null,null,null,null,229371]
["2017-10-13","5°48 N",null,null,null,null,null,null,"04:45:00",null,null,null,null,null,null,null,null,null,null,null,null,null,null,null,null,"A",null,null,null,null,"M3I","MISE A L'EAU DCP ECO","Eaux internationales",null,null,null,null,null,27.8,270,9,{"$f":"K121+L121+N121+P121+R121","v":0},{"$f":"IF(G121=\"x\", 1,0)","v":0},{"$f":"IF(H121=\"x\", 1,0)","v":0},null,null,{"$f":"IF(A121=\"\",\"\",3)","v":3}]
[null,"54°11 E",null,null,null,null,null,null,null,null,null,null,null,null,null,null,null,null,null,null,null,null,null,null,null,null,null,null,null,null,221049]
["2017-10-13","5°47 N",null,null,null,null,null,null,"05:10:00",null,null,null,null,null,null,null,null,null,null,null,null,null,null,null,null,"A",null,null,null,null,"M3I","MISE A L'EAU DCP ECO","Eaux internationales",null,null,null,null,null,27.8,270,8,{"$f":"K123+L123+N123+P123+R123","v":0},{"$f":"IF(G123=\"x\", 1,0)","v":0},{"$f":"IF(H123=\"x\", 1,0)","v":0},null,null,{"$f":"IF(A123=\"\",\"\",3)","v":3}]
[null,"54°10 E",null,null,null,null,null,null,null,null,null,null,null,null,null,null,null,null,null,null,null,null,null,null,null,null,null,null,null,null,200022]
["2017-10-13","5°34 N",null,null,null,null,"X",null,"06:50:00",20,1,6,2,8,3,3,null,null,null,null,null,null,null,null,null,"A",null,null,null,null,"M3I","CHANGEMENT DE  BALISE","Eaux internationales",null,null,null,null,null,27.8,270,9,{"$f":"K125+L125+N125+P125+R125","v":18},{"$f":"IF(G125=\"x\", 1,0)","v":1},{"$f":"IF(H125=\"x\", 1,0)","v":0},null,null,{"$f":"IF(A125=\"\",\"\",4)","v":4}]
[null,"54°11 E",null,null,null,null,null,null,null,null,null,null,null,null,null,null,null,null,null,null,null,null,null,null,null,null,null,null,null,null,200055]
["2017-10-13","4°43 N",null,null,null,null,null,null,"13:30:00",null,null,null,null,null,null,null,null,null,null,null,null,null,null,null,null,"A",null,null,null,null,"M3I","MISE A L'EAU DCP ECO","Eaux internationales",null,null,null,null,null,28.1,270,10,0,{"$f":"IF(G127=\"x\", 1,0)","v":0},{"$f":"IF(H127=\"x\", 1,0)","v":0},null,null,{"$f":"IF(A127=\"\",\"\",4)","v":4}]
[null,"54°20 E",null,null,null,null,null,null,null,null,null,null,null,null,null,null,null,null,null,null,null,null,null,null,null,null,null,null,null,null,185730]
["2017-10-14","1°53 N",null,null,null,null,null,null,"01:50:00",null,null,null,null,null,null,null,null,null,null,null,null,null,null,null,null,"A",null,null,null,null,"M3I","MISE A L'EAU DCP ECO","Eaux internationales",null,null,null,null,null,27.7,270,7,0,{"$f":"IF(G129=\"x\", 1,0)","v":0},{"$f":"IF(H129=\"x\", 1,0)","v":0},null,null,{"$f":"IF(A129=\"\",\"\",4)","v":4}]
[null,"54°23 E",null,null,null,null,null,null,null,null,null,null,null,null,null,null,null,null,null,null,null,null,null,null,null,null,null,null,null,null,172081]
["2017-10-14","028 N",null,null,null,null,null,null,"08:35:00",null,null,null,null,null,null,null,null,null,null,null,null,null,null,null,null,"A",null,null,null,null,"M3I","MISE A L'EAU DCP ECO","Eaux internationales",null,null,null,null,null,28.1,270,12,0,{"$f":"IF(G131=\"x\", 1,0)","v":0},{"$f":"IF(H131=\"x\", 1,0)","v":0},null,null,{"$f":"IF(A131=\"\",\"\",4)","v":4}]
[null,"54°19 E",null,null,null,null,null,null,null,null,null,null,null,null,null,null,null,null,null,null,null,null,null,null,null,null,null,null,null,null,508856]
["2017-10-14","0°01 S",null,null,null,null,null,null,"11:00:00",null,null,null,null,null,null,null,null,null,null,null,null,null,null,null,null,"A",null,null,null,null,"M3I+","MISE A L'EAU DCP ECO","Eaux internationales",null,null,null,null,null,28.1,270,11,0,{"$f":"IF(G133=\"x\", 1,0)","v":0},{"$f":"IF(H133=\"x\", 1,0)","v":0},null,null,{"$f":"IF(A133=\"\",\"\",4)","v":4}]
[null,"54°21 E",null,null,null,null,null,null,null,null,null,null,null,null,null,null,null,null,null,null,null,null,null,null,null,null,null,null,null,null,505005]
["2017-10-14","013 S",null,null,null,null,null,null,"12:10:00",null,null,null,null,null,null,null,null,null,null,null,null,null,null,null,null,"A",null,null,null,null,"M3I","CHANGEMENT DE  BALISE","Eaux internationales",null,null,null,null,null,28.2,270,10,0,{"$f":"IF(G135=\"x\", 1,0)","v":0},{"$f":"IF(H135=\"x\", 1,0)","v":0},null,null,{"$f":"IF(A135=\"\",\"\",4)","v":4}]
[null,"54°22 E",null,null,null,null,null,null,null,null,null,null,null,null,null,null,null,null,null,null,null,null,null,null,null,null,null,null,null,null,247557]
[null,null,null,null,null,null,null,null,null,null,null,null,null,null,null,null,null,null,null,null,null,null,null,null,null,null,null,null,null,null,null,null,null,null,null,null,null,null,null,null,null,0,{"$f":"IF(G137=\"x\", 1,0)","v":0},{"$f":"IF(H137=\"x\", 1,0)","v":0},null,null,{"$f":"IF(A137=\"\",\"\",4)","v":""}]
[]
[null,null,null,null,null,null,null,null,null,null,null,null,null,null,null,null,null,null,null,null,null,null,null,null,null,null,null,null,null,null,null,null,null,null,null,null,null,null,null,null,null,{"$f":"K139+L139+N139+P139+R139","v":0},{"$f":"IF(G139=\"x\", 1,0)","v":0},{"$f":"IF(H139=\"x\", 1,0)","v":0},null,null,{"$f":"IF(A139=\"\",\"\",4)","v":""}]
[]
[null,null,null,null,null,null,null,null,null,null,null,null,null,null,null,null,null,null,null,null,null,null,null,null,null,null,null,null,null,null,null,null,null,null,null,null,null,null,null,null,null,{"$f":"K141+L141+N141+P141+R141","v":0},{"$f":"IF(G143=\"x\", 1,0)","v":0},{"$f":"IF(H141=\"x\", 1,0)","v":0},null,null,{"$f":"IF(A141=\"\",\"\",4)","v":""}]
[]
[null,null,null,null,null,null,null,null,null,null,null,null,null,null,null,null,null,null,null,null,null,null,null,null,null,null,null,null,null,null,null,null,null,null,null,null,null,null,null,null,null,{"$f":"K143+L143+N143+P143+R143","v":0},{"$f":"IF(#REF!=\"x\", 1,0)","v":{"$error":"#REF!"}},{"$f":"IF(H143=\"x\", 1,0)","v":0},null,null,{"$f":"IF(A143=\"\",\"\",4)","v":""}]
[]
[null,null,null,null,null,null,null,null,null,null,null,null,null,null,null,null,null,null,null,null,null,null,null,null,null,null,null,null,null,null,null,null,null,null,null,null,null,null,null,null,null,{"$f":"K145+L145+N145+P145+R145","v":0},{"$f":"IF(G145=\"x\", 1,0)","v":0},{"$f":"IF(H145=\"x\", 1,0)","v":0},null,null,{"$f":"IF(A145=\"\",\"\",4)","v":""}]
[]
[null,null,null,null,null,null,null,null,null,null,null,null,null,null,null,null,null,null,null,null,null,null,null,null,null,null,null,null,null,null,null,null,null,null,null,null,null,null,null,null,null,{"$f":"K147+L147+N147+P147+R147","v":0},{"$f":"IF(G147=\"x\", 1,0)","v":0},{"$f":"IF(H147=\"x\", 1,0)","v":0},null,null,{"$f":"IF(A147=\"\",\"\",4)","v":""}]
[]
[null,null,null,null,null,null,null,null,null,null,null,null,null,null,null,null,null,null,null,null,null,null,null,null,null,null,null,null,null,null,null,null,null,null,null,null,null,null,null,null,null,{"$f":"K149+L149+N149+P149+R149","v":0},{"$f":"IF(G149=\"x\", 1,0)","v":0},{"$f":"IF(H149=\"x\", 1,0)","v":0},null,null,{"$f":"IF(A149=\"\",\"\",4)","v":""}]
[]
[null,null,null,null,null,null,null,null,null,null,null,null,null,null,null,null,null,null,null,null,null,null,null,null,null,null,null,null,null,null,null,null,null,null,null,null,null,null,null,null,null,{"$f":"K151+L151+N151+P151+R151","v":0},{"$f":"IF(G151=\"x\", 1,0)","v":0},{"$f":"IF(H151=\"x\", 1,0)","v":0},null,null,{"$f":"IF(A151=\"\",\"\",4)","v":""}]
[]
[null,null,null,null,null,null,null,null,null,null,null,null,null,null,null,null,null,null,null,null,null,null,null,null,null,null,null,null,null,null,null,null,null,null,null,null,null,null,null,null,null,{"$f":"K153+L153+N153+P153+R153","v":0},{"$f":"IF(G153=\"x\", 1,0)","v":0},{"$f":"IF(H153=\"x\", 1,0)","v":0},null,null,{"$f":"IF(A153=\"\",\"\",4)","v":""}]
[]
[null,null,null,null,null,null,null,null,null,null,null,null,null,null,null,null,null,null,null,null,null,null,null,null,null,null,null,null,null,null,null,null,null,null,null,null,null,null,null,null,null,{"$f":"K155+L155+N155+P155+R155","v":0},{"$f":"IF(G155=\"x\", 1,0)","v":0},{"$f":"IF(H155=\"x\", 1,0)","v":0},null,null,{"$f":"IF(A155=\"\",\"\",4)","v":""}]
[]
[null,null,null,null,null,null,null,null,null,null,null,null,null,null,null,null,null,null,null,null,null,null,null,null,null,null,null,null,null,null,null,null,null,null,null,null,null,null,null,null,null,{"$f":"K157+L157+N157+P157+R157","v":0},{"$f":"IF(G157=\"x\", 1,0)","v":0},{"$f":"IF(H157=\"x\", 1,0)","v":0},null,null,{"$f":"IF(A157=\"\",\"\",4)","v":""}]
[]
[null,null,null,null,null,null,null,null,null,null,null,null,null,null,null,null,null,null,null,null,null,null,null,null,null,null,null,null,null,null,null,null,null,null,null,null,null,null,null,null,null,{"$f":"K159+L159+N159+P159+R159","v":0},{"$f":"IF(G159=\"x\", 1,0)","v":0},{"$f":"IF(H159=\"x\", 1,0)","v":0},null,null,{"$f":"IF(A159=\"\",\"\",5)","v":""}]
[]
[null,null,null,null,null,null,null,null,null,null,null,null,null,null,null,null,null,null,null,null,null,null,null,null,null,null,null,null,null,null,null,null,null,null,null,null,null,null,null,null,null,{"$f":"K161+L161+N161+P161+R161","v":0},{"$f":"IF(G161=\"x\", 1,0)","v":0},{"$f":"IF(H161=\"x\", 1,0)","v":0},null,null,{"$f":"IF(A161=\"\",\"\",5)","v":""}]
[]
[null,null,null,null,null,null,null,null,null,null,null,null,null,null,null,null,null,null,null,null,null,null,null,null,null,null,null,null,null,null,null,null,null,null,null,null,null,null,null,null,null,{"$f":"K163+L163+N163+P163+R163","v":0},{"$f":"IF(G163=\"x\", 1,0)","v":0},{"$f":"IF(H163=\"x\", 1,0)","v":0},null,null,{"$f":"IF(A163=\"\",\"\",5)","v":""}]
[]
[null,null,null,null,null,null,null,null,null,null,null,null,null,null,null,null,null,null,null,null,null,null,null,null,null,null,null,null,null,null,null,null,null,null,null,null,null,null,null,null,null,{"$f":"K165+L165+N165+P165+R165","v":0},{"$f":"IF(G165=\"x\", 1,0)","v":0},{"$f":"IF(H165=\"x\", 1,0)","v":0},null,null,{"$f":"IF(A165=\"\",\"\",5)","v":""}]
[]
[null,null,null,null,null,null,null,null,null,null,null,null,null,null,null,null,null,null,null,null,null,null,null,null,null,null,null,null,null,null,null,null,null,null,null,null,null,null,null,null,null,{"$f":"K167+L167+N167+P167+R167","v":0},{"$f":"IF(G167=\"x\", 1,0)","v":0},{"$f":"IF(H167=\"x\", 1,0)","v":0},null,null,{"$f":"IF(A167=\"\",\"\",5)","v":""}]
[]
[null,null,null,null,null,null,null,null,null,null,null,null,null,null,null,null,null,null,null,null,null,null,null,null,null,null,null,null,null,null,null,null,null,null,null,null,null,null,null,null,null,{"$f":"K169+L169+N169+P169+R169","v":0},{"$f":"IF(G169=\"x\", 1,0)","v":0},{"$f":"IF(H169=\"x\", 1,0)","v":0},null,null,{"$f":"IF(A169=\"\",\"\",5)","v":""}]
[]
[null,null,null,null,null,null,null,null,null,null,null,null,null,null,null,null,null,null,null,null,null,null,null,null,null,null,null,null,null,null,null,null,null,null,null,null,null,null,null,null,null,{"$f":"K171+L171+N171+P171+R171","v":0},{"$f":"IF(G171=\"x\", 1,0)","v":0},{"$f":"IF(H171=\"x\", 1,0)","v":0},null,null,{"$f":"IF(A171=\"\",\"\",5)","v":""}]
[]
[null,null,null,null,null,null,null,null,null,null,null,null,null,null,null,null,null,null,null,null,null,null,null,null,null,null,null,null,null,null,null,null,null,null,null,null,null,null,null,null,null,{"$f":"K173+L173+N173+P173+R173","v":0},{"$f":"IF(G173=\"x\", 1,0)","v":0},{"$f":"IF(H173=\"x\", 1,0)","v":0},null,null,{"$f":"IF(A173=\"\",\"\",5)","v":""}]
[]
[null,null,null,null,null,null,null,null,null,null,null,null,null,null,null,null,null,null,null,null,null,null,null,null,null,null,null,null,null,null,null,null,null,null,null,null,null,null,null,null,null,{"$f":"K175+L175+N175+P175+R175","v":0},{"$f":"IF(G175=\"x\", 1,0)","v":0},{"$f":"IF(H175=\"x\", 1,0)","v":0},null,null,{"$f":"IF(A175=\"\",\"\",5)","v":""}]
[]
[null,null,null,null,null,null,null,null,null,null,null,null,null,null,null,null,null,null,null,null,null,null,null,null,null,null,null,null,null,null,null,null,null,null,null,null,null,null,null,null,null,{"$f":"K177+L177+N177+P177+R177","v":0},{"$f":"IF(G177=\"x\", 1,0)","v":0},{"$f":"IF(H177=\"x\", 1,0)","v":0},null,null,{"$f":"IF(A177=\"\",\"\",5)","v":""}]
[]
[null,null,null,null,null,null,null,null,null,null,null,null,null,null,null,null,null,null,null,null,null,null,null,null,null,null,null,null,null,null,null,null,null,null,null,null,null,null,null,null,null,{"$f":"K179+L179+N179+P179+R179","v":0},{"$f":"IF(G179=\"x\", 1,0)","v":0},{"$f":"IF(H179=\"x\", 1,0)","v":0},null,null,{"$f":"IF(A179=\"\",\"\",5)","v":""}]
[]
[null,null,null,null,null,null,null,null,null,null,null,null,null,null,null,null,null,null,null,null,null,null,null,null,null,null,null,null,null,null,null,null,null,null,null,null,null,null,null,null,null,{"$f":"K181+L181+N181+P181+R181","v":0},{"$f":"IF(G181=\"x\", 1,0)","v":0},{"$f":"IF(H181=\"x\", 1,0)","v":0},null,null,{"$f":"IF(A181=\"\",\"\",5)","v":""}]
[]
[null,null,null,null,null,null,null,null,null,null,null,null,null,null,null,null,null,null,null,null,null,null,null,null,null,null,null,null,null,null,null,null,null,null,null,null,null,null,null,null,null,{"$f":"K183+L183+N183+P183+R183","v":0},{"$f":"IF(G183=\"x\", 1,0)","v":0},{"$f":"IF(H183=\"x\", 1,0)","v":0},null,null,{"$f":"IF(A183=\"\",\"\",5)","v":""}]
[]
[null,null,null,null,null,null,null,null,null,null,null,null,null,null,null,null,null,null,null,null,null,null,null,null,null,null,null,null,null,null,null,null,null,null,null,null,null,null,null,null,null,{"$f":"K185+L185+N185+P185+R185","v":0},{"$f":"IF(G185=\"x\", 1,0)","v":0},{"$f":"IF(H185=\"x\", 1,0)","v":0},null,null,{"$f":"IF(A185=\"\",\"\",5)","v":""}]
[]
[null,null,null,null,null,null,null,null,null,null,null,null,null,null,null,null,null,null,null,null,null,null,null,null,null,null,null,null,null,null,null,null,null,null,null,null,null,null,null,null,null,{"$f":"K187+L187+N187+P187+R187","v":0},{"$f":"IF(G187=\"x\", 1,0)","v":0},{"$f":"IF(H187=\"x\", 1,0)","v":0},null,null,{"$f":"IF(A187=\"\",\"\",5)","v":""}]
[]
[null,null,null,null,null,null,null,null,null,null,null,null,null,null,null,null,null,null,null,null,null,null,null,null,null,null,null,null,null,null,null,null,null,null,null,null,null,null,null,null,null,{"$f":"K189+L189+N189+P189+R189","v":0},{"$f":"IF(G189=\"x\", 1,0)","v":0},{"$f":"IF(H189=\"x\", 1,0)","v":0},null,null,{"$f":"IF(A189=\"\",\"\",5)","v":""}]
[]
[null,null,null,null,null,null,null,null,null,null,null,null,null,null,null,null,null,null,null,null,null,null,null,null,null,null,null,null,null,null,null,null,null,null,null,null,null,null,null,null,null,{"$f":"K191+L191+N191+P191+R191","v":0},{"$f":"IF(G191=\"x\", 1,0)","v":0},{"$f":"IF(H191=\"x\", 1,0)","v":0},null,null,{"$f":"IF(A191=\"\",\"\",5)","v":""}]
[]
[null,null,null,null,null,null,null,null,null,null,null,null,null,null,null,null,null,null,null,null,null,null,null,null,null,null,null,null,null,null,null,null,null,null,null,null,null,null,null,null,null,{"$f":"K193+L193+N193+P193+R193","v":0},{"$f":"IF(G193=\"x\", 1,0)","v":0},{"$f":"IF(H193=\"x\", 1,0)","v":0},null,null,{"$f":"IF(A193=\"\",\"\",6)","v":""}]
[]
[null,null,null,null,null,null,null,null,null,null,null,null,null,null,null,null,null,null,null,null,null,null,null,null,null,null,null,null,null,null,null,null,null,null,null,null,null,null,null,null,null,{"$f":"K195+L195+N195+P195+R195","v":0},{"$f":"IF(G195=\"x\", 1,0)","v":0},{"$f":"IF(H195=\"x\", 1,0)","v":0},null,null,{"$f":"IF(A195=\"\",\"\",6)","v":""}]
[]
[null,null,null,null,null,null,null,null,null,null,null,null,null,null,null,null,null,null,null,null,null,null,null,null,null,null,null,null,null,null,null,null,null,null,null,null,null,null,null,null,null,{"$f":"K197+L197+N197+P197+R197","v":0},{"$f":"IF(G197=\"x\", 1,0)","v":0},{"$f":"IF(H197=\"x\", 1,0)","v":0},null,null,{"$f":"IF(A197=\"\",\"\",6)","v":""}]
[]
[null,null,null,null,null,null,null,null,null,null,null,null,null,null,null,null,null,null,null,null,null,null,null,null,null,null,null,null,null,null,null,null,null,null,null,null,null,null,null,null,null,{"$f":"K199+L199+N199+P199+R199","v":0},{"$f":"IF(G199=\"x\", 1,0)","v":0},{"$f":"IF(H199=\"x\", 1,0)","v":0},null,null,{"$f":"IF(A199=\"\",\"\",6)","v":""}]
[]
[null,null,null,null,null,null,null,null,null,null,null,null,null,null,null,null,null,null,null,null,null,null,null,null,null,null,null,null,null,null,null,null,null,null,null,null,null,null,null,null,null,{"$f":"K201+L201+N201+P201+R201","v":0},{"$f":"IF(G201=\"x\", 1,0)","v":0},{"$f":"IF(H201=\"x\", 1,0)","v":0},null,null,{"$f":"IF(A201=\"\",\"\",6)","v":""}]
[]
[null,null,null,null,null,null,null,null,null,null,null,null,null,null,null,null,null,null,null,null,null,null,null,null,null,null,null,null,null,null,null,null,null,null,null,null,null,null,null,null,null,{"$f":"K203+L203+N203+P203+R203","v":0},{"$f":"IF(G203=\"x\", 1,0)","v":0},{"$f":"IF(H203=\"x\", 1,0)","v":0},null,null,{"$f":"IF(A203=\"\",\"\",6)","v":""}]
[]
[null,null,null,null,null,null,null,null,null,null,null,null,null,null,null,null,null,null,null,null,null,null,null,null,null,null,null,null,null,null,null,null,null,null,null,null,null,null,null,null,null,{"$f":"K205+L205+N205+P205+R205","v":0},{"$f":"IF(G205=\"x\", 1,0)","v":0},{"$f":"IF(H205=\"x\", 1,0)","v":0},null,null,{"$f":"IF(A205=\"\",\"\",6)","v":""}]
[]
[null,null,null,null,null,null,null,null,null,null,null,null,null,null,null,null,null,null,null,null,null,null,null,null,null,null,null,null,null,null,null,null,null,null,null,null,null,null,null,null,null,{"$f":"K207+L207+N207+P207+R207","v":0},{"$f":"IF(G207=\"x\", 1,0)","v":0},{"$f":"IF(H207=\"x\", 1,0)","v":0},null,null,{"$f":"IF(A207=\"\",\"\",6)","v":""}]
[]
[null,null,null,null,null,null,null,null,null,null,null,null,null,null,null,null,null,null,null,null,null,null,null,null,null,null,null,null,null,null,null,null,null,null,null,null,null,null,null,null,null,{"$f":"K209+L209+N209+P209+R209","v":0},{"$f":"IF(G209=\"x\", 1,0)","v":0},{"$f":"IF(H209=\"x\", 1,0)","v":0},null,null,{"$f":"IF(A209=\"\",\"\",6)","v":""}]
[]
[null,null,null,null,null,null,null,null,null,null,null,null,null,null,null,null,null,null,null,null,null,null,null,null,null,null,null,null,null,null,null,null,null,null,null,null,null,null,null,null,null,{"$f":"K211+L211+N211+P211+R211","v":0},{"$f":"IF(G211=\"x\", 1,0)","v":0},{"$f":"IF(H211=\"x\", 1,0)","v":0},null,null,{"$f":"IF(A211=\"\",\"\",6)","v":""}]
[]
[null,null,null,null,null,null,null,null,null,null,null,null,null,null,null,null,null,null,null,null,null,null,null,null,null,null,null,null,null,null,null,null,null,null,null,null,null,null,null,null,null,{"$f":"K213+L213+N213+P213+R213","v":0},{"$f":"IF(G213=\"x\", 1,0)","v":0},{"$f":"IF(H213=\"x\", 1,0)","v":0},null,null,{"$f":"IF(A213=\"\",\"\",6)","v":""}]
[]
[null,null,null,null,null,null,null,null,null,null,null,null,null,null,null,null,null,null,null,null,null,null,null,null,null,null,null,null,null,null,null,null,null,null,null,null,null,null,null,null,null,{"$f":"K215+L215+N215+P215+R215","v":0},{"$f":"IF(G215=\"x\", 1,0)","v":0},{"$f":"IF(H215=\"x\", 1,0)","v":0},null,null,{"$f":"IF(A215=\"\",\"\",6)","v":""}]
[]
[null,null,null,null,null,null,null,null,null,null,null,null,null,null,null,null,null,null,null,null,null,null,null,null,null,null,null,null,null,null,null,null,null,null,null,null,null,null,null,null,null,{"$f":"K217+L217+N217+P217+R217","v":0},{"$f":"IF(G217=\"x\", 1,0)","v":0},{"$f":"IF(H217=\"x\", 1,0)","v":0},null,null,{"$f":"IF(A217=\"\",\"\",6)","v":""}]
[]
[null,null,null,null,null,null,null,null,null,null,null,null,null,null,null,null,null,null,null,null,null,null,null,null,null,null,null,null,null,null,null,null,null,null,null,null,null,null,null,null,null,{"$f":"K219+L219+N219+P219+R219","v":0},{"$f":"IF(G219=\"x\", 1,0)","v":0},{"$f":"IF(H219=\"x\", 1,0)","v":0},null,null,{"$f":"IF(A219=\"\",\"\",6)","v":""}]
[]
[null,null,null,null,null,null,null,null,null,null,null,null,null,null,null,null,null,null,null,null,null,null,null,null,null,null,null,null,null,null,null,null,null,null,null,null,null,null,null,null,null,{"$f":"K221+L221+N221+P221+R221","v":0},{"$f":"IF(G221=\"x\", 1,0)","v":0},{"$f":"IF(H221=\"x\", 1,0)","v":0},null,null,{"$f":"IF(A221=\"\",\"\",6)","v":""}]
[]
[null,null,null,null,null,null,null,null,null,null,null,null,null,null,null,null,null,null,null,null,null,null,null,null,null,null,null,null,null,null,null,null,null,null,null,null,null,null,null,null,null,{"$f":"K223+L223+N223+P223+R223","v":0},{"$f":"IF(G223=\"x\", 1,0)","v":0},{"$f":"IF(H223=\"x\", 1,0)","v":0},null,null,{"$f":"IF(A223=\"\",\"\",6)","v":""}]
[]
[null,null,null,null,null,null,null,null,null,null,null,null,null,null,null,null,null,null,null,null,null,null,null,null,null,null,null,null,null,null,null,null,null,null,null,null,null,null,null,null,null,{"$f":"K225+L225+N225+P225+R225","v":0},{"$f":"IF(G225=\"x\", 1,0)","v":0},{"$f":"IF(H225=\"x\", 1,0)","v":0},null,null,{"$f":"IF(A225=\"\",\"\",6)","v":""}]
[]
[null,null,null,null,null,null,null,null,null,null,null,null,null,null,null,null,null,null,null,null,null,null,null,null,null,null,null,null,null,null,null,null,null,null,null,null,null,null,null,null,null,{"$f":"K227+L227+N227+P227+R227","v":0},{"$f":"IF(G227=\"x\", 1,0)","v":0},{"$f":"IF(H227=\"x\", 1,0)","v":0},null,null,{"$f":"IF(A227=\"\",\"\",7)","v":""}]
[]
[null,null,null,null,null,null,null,null,null,null,null,null,null,null,null,null,null,null,null,null,null,null,null,null,null,null,null,null,null,null,null,null,null,null,null,null,null,null,null,null,null,{"$f":"K229+L229+N229+P229+R229","v":0},{"$f":"IF(G229=\"x\", 1,0)","v":0},{"$f":"IF(H229=\"x\", 1,0)","v":0},null,null,{"$f":"IF(A229=\"\",\"\",7)","v":""}]
[]
[null,null,null,null,null,null,null,null,null,null,null,null,null,null,null,null,null,null,null,null,null,null,null,null,null,null,null,null,null,null,null,null,null,null,null,null,null,null,null,null,null,{"$f":"K231+L231+N231+P231+R231","v":0},{"$f":"IF(G231=\"x\", 1,0)","v":0},{"$f":"IF(H231=\"x\", 1,0)","v":0},null,null,{"$f":"IF(A231=\"\",\"\",7)","v":""}]
[]
[null,null,null,null,null,null,null,null,null,null,null,null,null,null,null,null,null,null,null,null,null,null,null,null,null,null,null,null,null,null,null,null,null,null,null,null,null,null,null,null,null,{"$f":"K233+L233+N233+P233+R233","v":0},{"$f":"IF(G233=\"x\", 1,0)","v":0},{"$f":"IF(H233=\"x\", 1,0)","v":0},null,null,{"$f":"IF(A233=\"\",\"\",7)","v":""}]
[]
[null,null,null,null,null,null,null,null,null,null,null,null,null,null,null,null,null,null,null,null,null,null,null,null,null,null,null,null,null,null,null,null,null,null,null,null,null,null,null,null,null,{"$f":"K235+L235+N235+P235+R235","v":0},{"$f":"IF(G235=\"x\", 1,0)","v":0},{"$f":"IF(H235=\"x\", 1,0)","v":0},null,null,{"$f":"IF(A235=\"\",\"\",7)","v":""}]
[]
[null,null,null,null,null,null,null,null,null,null,null,null,null,null,null,null,null,null,null,null,null,null,null,null,null,null,null,null,null,null,null,null,null,null,null,null,null,null,null,null,null,{"$f":"K237+L237+N237+P237+R237","v":0},{"$f":"IF(G237=\"x\", 1,0)","v":0},{"$f":"IF(H237=\"x\", 1,0)","v":0},null,null,{"$f":"IF(A237=\"\",\"\",7)","v":""}]
[]
[null,null,null,null,null,null,null,null,null,null,null,null,null,null,null,null,null,null,null,null,null,null,null,null,null,null,null,null,null,null,null,null,null,null,null,null,null,null,null,null,null,{"$f":"K239+L239+N239+P239+R239","v":0},{"$f":"IF(G239=\"x\", 1,0)","v":0},{"$f":"IF(H239=\"x\", 1,0)","v":0},null,null,{"$f":"IF(A239=\"\",\"\",7)","v":""}]
[]
[null,null,null,null,null,null,null,null,null,null,null,null,null,null,null,null,null,null,null,null,null,null,null,null,null,null,null,null,null,null,null,null,null,null,null,null,null,null,null,null,null,{"$f":"K241+L241+N241+P241+R241","v":0},{"$f":"IF(G241=\"x\", 1,0)","v":0},{"$f":"IF(H241=\"x\", 1,0)","v":0},null,null,{"$f":"IF(A241=\"\",\"\",7)","v":""}]
[]
[null,null,null,null,null,null,null,null,null,null,null,null,null,null,null,null,null,null,null,null,null,null,null,null,null,null,null,null,null,null,null,null,null,null,null,null,null,null,null,null,null,{"$f":"K243+L243+N243+P243+R243","v":0},{"$f":"IF(G243=\"x\", 1,0)","v":0},{"$f":"IF(H243=\"x\", 1,0)","v":0},null,null,{"$f":"IF(A243=\"\",\"\",7)","v":""}]
[]
[null,null,null,null,null,null,null,null,null,null,null,null,null,null,null,null,null,null,null,null,null,null,null,null,null,null,null,null,null,null,null,null,null,null,null,null,null,null,null,null,null,{"$f":"K245+L245+N245+P245+R245","v":0},{"$f":"IF(G245=\"x\", 1,0)","v":0},{"$f":"IF(H245=\"x\", 1,0)","v":0},null,null,{"$f":"IF(A245=\"\",\"\",7)","v":""}]
[]
[null,null,null,null,null,null,null,null,null,null,null,null,null,null,null,null,null,null,null,null,null,null,null,null,null,null,null,null,null,null,null,null,null,null,null,null,null,null,null,null,null,{"$f":"K247+L247+N247+P247+R247","v":0},{"$f":"IF(G247=\"x\", 1,0)","v":0},{"$f":"IF(H247=\"x\", 1,0)","v":0},null,null,{"$f":"IF(A247=\"\",\"\",7)","v":""}]
[]
[null,null,null,null,null,null,null,null,null,null,null,null,null,null,null,null,null,null,null,null,null,null,null,null,null,null,null,null,null,null,null,null,null,null,null,null,null,null,null,null,null,{"$f":"K249+L249+N249+P249+R249","v":0},{"$f":"IF(G249=\"x\", 1,0)","v":0},{"$f":"IF(H249=\"x\", 1,0)","v":0},null,null,{"$f":"IF(A249=\"\",\"\",7)","v":""}]
[]
[null,null,null,null,null,null,null,null,null,null,null,null,null,null,null,null,null,null,null,null,null,null,null,null,null,null,null,null,null,null,null,null,null,null,null,null,null,null,null,null,null,{"$f":"K251+L251+N251+P251+R251","v":0},{"$f":"IF(G251=\"x\", 1,0)","v":0},{"$f":"IF(H251=\"x\", 1,0)","v":0},null,null,{"$f":"IF(A251=\"\",\"\",7)","v":""}]
[]
[null,null,null,null,null,null,null,null,null,null,null,null,null,null,null,null,null,null,null,null,null,null,null,null,null,null,null,null,null,null,null,null,null,null,null,null,null,null,null,null,null,{"$f":"K253+L253+N253+P253+R253","v":0},{"$f":"IF(G253=\"x\", 1,0)","v":0},{"$f":"IF(H253=\"x\", 1,0)","v":0},null,null,{"$f":"IF(A253=\"\",\"\",7)","v":""}]
[]
[null,null,null,null,null,null,null,null,null,null,null,null,null,null,null,null,null,null,null,null,null,null,null,null,null,null,null,null,null,null,null,null,null,null,null,null,null,null,null,null,null,{"$f":"K255+L255+N255+P255+R255","v":0},{"$f":"IF(G255=\"x\", 1,0)","v":0},{"$f":"IF(H255=\"x\", 1,0)","v":0},null,null,{"$f":"IF(A255=\"\",\"\",7)","v":""}]
[]
[null,null,null,null,null,null,null,null,null,null,null,null,null,null,null,null,null,null,null,null,null,null,null,null,null,null,null,null,null,null,null,null,null,null,null,null,null,null,null,null,null,{"$f":"K257+L257+N257+P257+R257","v":0},{"$f":"IF(G257=\"x\", 1,0)","v":0},{"$f":"IF(H257=\"x\", 1,0)","v":0},null,null,{"$f":"IF(A257=\"\",\"\",7)","v":""}]
[]
[null,null,null,null,null,null,null,null,null,null,null,null,null,null,null,null,null,null,null,null,null,null,null,null,null,null,null,null,null,null,null,null,null,null,null,null,null,null,null,null,null,{"$f":"K259+L259+N259+P259+R259","v":0},{"$f":"IF(G259=\"x\", 1,0)","v":0},{"$f":"IF(H259=\"x\", 1,0)","v":0},null,null,{"$f":"IF(A259=\"\",\"\",7)","v":""}]
[]
[null,null,null,null,null,null,null,null,null,null,null,null,null,null,null,null,null,null,null,null,null,null,null,null,null,null,null,null,null,null,null,null,null,null,null,null,null,null,null,null,null,{"$f":"K261+L261+N261+P261+R261","v":0},{"$f":"IF(G261=\"x\", 1,0)","v":0},{"$f":"IF(H261=\"x\", 1,0)","v":0},null,null,{"$f":"IF(A261=\"\",\"\",8)","v":""}]
[]
[null,null,null,null,null,null,null,null,null,null,null,null,null,null,null,null,null,null,null,null,null,null,null,null,null,null,null,null,null,null,null,null,null,null,null,null,null,null,null,null,null,{"$f":"K263+L263+N263+P263+R263","v":0},{"$f":"IF(G263=\"x\", 1,0)","v":0},{"$f":"IF(H263=\"x\", 1,0)","v":0},null,null,{"$f":"IF(A263=\"\",\"\",8)","v":""}]
[]
[null,null,null,null,null,null,null,null,null,null,null,null,null,null,null,null,null,null,null,null,null,null,null,null,null,null,null,null,null,null,null,null,null,null,null,null,null,null,null,null,null,{"$f":"K265+L265+N265+P265+R265","v":0},{"$f":"IF(G265=\"x\", 1,0)","v":0},{"$f":"IF(H265=\"x\", 1,0)","v":0},null,null,{"$f":"IF(A265=\"\",\"\",8)","v":""}]
[]
[null,null,null,null,null,null,null,null,null,null,null,null,null,null,null,null,null,null,null,null,null,null,null,null,null,null,null,null,null,null,null,null,null,null,null,null,null,null,null,null,null,{"$f":"K267+L267+N267+P267+R267","v":0},{"$f":"IF(G267=\"x\", 1,0)","v":0},{"$f":"IF(H267=\"x\", 1,0)","v":0},null,null,{"$f":"IF(A267=\"\",\"\",8)","v":""}]
[]
[null,null,null,null,null,null,null,null,null,null,null,null,null,null,null,null,null,null,null,null,null,null,null,null,null,null,null,null,null,null,null,null,null,null,null,null,null,null,null,null,null,{"$f":"K269+L269+N269+P269+R269","v":0},{"$f":"IF(G269=\"x\", 1,0)","v":0},{"$f":"IF(H269=\"x\", 1,0)","v":0},null,null,{"$f":"IF(A269=\"\",\"\",8)","v":""}]
[]
[null,null,null,null,null,null,null,null,null,null,null,null,null,null,null,null,null,null,null,null,null,null,null,null,null,null,null,null,null,null,null,null,null,null,null,null,null,null,null,null,null,{"$f":"K271+L271+N271+P271+R271","v":0},{"$f":"IF(G271=\"x\", 1,0)","v":0},{"$f":"IF(H271=\"x\", 1,0)","v":0},null,null,{"$f":"IF(A271=\"\",\"\",8)","v":""}]
[]
[null,null,null,null,null,null,null,null,null,null,null,null,null,null,null,null,null,null,null,null,null,null,null,null,null,null,null,null,null,null,null,null,null,null,null,null,null,null,null,null,null,{"$f":"K273+L273+N273+P273+R273","v":0},{"$f":"IF(G273=\"x\", 1,0)","v":0},{"$f":"IF(H273=\"x\", 1,0)","v":0},null,null,{"$f":"IF(A273=\"\",\"\",8)","v":""}]
[]
[null,null,null,null,null,null,null,null,null,null,null,null,null,null,null,null,null,null,null,null,null,null,null,null,null,null,null,null,null,null,null,null,null,null,null,null,null,null,null,null,null,{"$f":"K275+L275+N275+P275+R275","v":0},{"$f":"IF(G275=\"x\", 1,0)","v":0},{"$f":"IF(H275=\"x\", 1,0)","v":0},null,null,{"$f":"IF(A275=\"\",\"\",8)","v":""}]
[]
[null,null,null,null,null,null,null,null,null,null,null,null,null,null,null,null,null,null,null,null,null,null,null,null,null,null,null,null,null,null,null,null,null,null,null,null,null,null,null,null,null,{"$f":"K277+L277+N277+P277+R277","v":0},{"$f":"IF(G277=\"x\", 1,0)","v":0},{"$f":"IF(H277=\"x\", 1,0)","v":0},null,null,{"$f":"IF(A277=\"\",\"\",8)","v":""}]
[]
[null,null,null,null,null,null,null,null,null,null,null,null,null,null,null,null,null,null,null,null,null,null,null,null,null,null,null,null,null,null,null,null,null,null,null,null,null,null,null,null,null,{"$f":"K279+L279+N279+P279+R279","v":0},{"$f":"IF(G279=\"x\", 1,0)","v":0},{"$f":"IF(H279=\"x\", 1,0)","v":0},null,null,{"$f":"IF(A279=\"\",\"\",8)","v":""}]
[]
[null,null,null,null,null,null,null,null,null,null,null,null,null,null,null,null,null,null,null,null,null,null,null,null,null,null,null,null,null,null,null,null,null,null,null,null,null,null,null,null,null,{"$f":"K281+L281+N281+P281+R281","v":0},{"$f":"IF(G281=\"x\", 1,0)","v":0},{"$f":"IF(H281=\"x\", 1,0)","v":0},null,null,{"$f":"IF(A281=\"\",\"\",8)","v":""}]
[]
[null,null,null,null,null,null,null,null,null,null,null,null,null,null,null,null,null,null,null,null,null,null,null,null,null,null,null,null,null,null,null,null,null,null,null,null,null,null,null,null,null,{"$f":"K283+L283+N283+P283+R283","v":0},{"$f":"IF(G283=\"x\", 1,0)","v":0},{"$f":"IF(H283=\"x\", 1,0)","v":0},null,null,{"$f":"IF(A283=\"\",\"\",8)","v":""}]
[]
[null,null,null,null,null,null,null,null,null,null,null,null,null,null,null,null,null,null,null,null,null,null,null,null,null,null,null,null,null,null,null,null,null,null,null,null,null,null,null,null,null,{"$f":"K285+L285+N285+P285+R285","v":0},{"$f":"IF(G285=\"x\", 1,0)","v":0},{"$f":"IF(H285=\"x\", 1,0)","v":0},null,null,{"$f":"IF(A285=\"\",\"\",8)","v":""}]
[]
[null,null,null,null,null,null,null,null,null,null,null,null,null,null,null,null,null,null,null,null,null,null,null,null,null,null,null,null,null,null,null,null,null,null,null,null,null,null,null,null,null,{"$f":"K287+L287+N287+P287+R287","v":0},{"$f":"IF(G287=\"x\", 1,0)","v":0},{"$f":"IF(H287=\"x\", 1,0)","v":0},null,null,{"$f":"IF(A287=\"\",\"\",8)","v":""}]
[]
[null,null,null,null,null,null,null,null,null,null,null,null,null,null,null,null,null,null,null,null,null,null,null,null,null,null,null,null,null,null,null,null,null,null,null,null,null,null,null,null,null,{"$f":"K289+L289+N289+P289+R289","v":0},{"$f":"IF(G289=\"x\", 1,0)","v":0},{"$f":"IF(H289=\"x\", 1,0)","v":0},null,null,{"$f":"IF(A289=\"\",\"\",8)","v":""}]
[]
[null,null,null,null,null,null,null,null,null,null,null,null,null,null,null,null,null,null,null,null,null,null,null,null,null,null,null,null,null,null,null,null,null,null,null,null,null,null,null,null,null,{"$f":"K291+L291+N291+P291+R291","v":0},{"$f":"IF(G291=\"x\", 1,0)","v":0},{"$f":"IF(H291=\"x\", 1,0)","v":0},null,null,{"$f":"IF(A291=\"\",\"\",8)","v":""}]
[]
[null,null,null,null,null,null,null,null,null,null,null,null,null,null,null,null,null,null,null,null,null,null,null,null,null,null,null,null,null,null,null,null,null,null,null,null,null,null,null,null,null,{"$f":"K293+L293+N293+P293+R293","v":0},{"$f":"IF(G293=\"x\", 1,0)","v":0},{"$f":"IF(H293=\"x\", 1,0)","v":0},null,null,{"$f":"IF(A293=\"\",\"\",8)","v":""}]
[]
[null,null,null,null,null,null,null,null,null,null,null,null,null,null,null,null,null,null,null,null,null,null,null,null,null,null,null,null,null,null,null,null,null,null,null,null,null,null,null,null,null,{"$f":"K295+L295+N295+P295+R295","v":0},{"$f":"IF(G295=\"x\", 1,0)","v":0},{"$f":"IF(H295=\"x\", 1,0)","v":0},null,null,{"$f":"IF(A295=\"\",\"\",9)","v":""}]
[]
[null,null,null,null,null,null,null,null,null,null,null,null,null,null,null,null,null,null,null,null,null,null,null,null,null,null,null,null,null,null,null,null,null,null,null,null,null,null,null,null,null,{"$f":"K297+L297+N297+P297+R297","v":0},{"$f":"IF(G297=\"x\", 1,0)","v":0},{"$f":"IF(H297=\"x\", 1,0)","v":0},null,null,{"$f":"IF(A297=\"\",\"\",9)","v":""}]
[]
[null,null,null,null,null,null,null,null,null,null,null,null,null,null,null,null,null,null,null,null,null,null,null,null,null,null,null,null,null,null,null,null,null,null,null,null,null,null,null,null,null,{"$f":"K299+L299+N299+P299+R299","v":0},{"$f":"IF(G299=\"x\", 1,0)","v":0},{"$f":"IF(H299=\"x\", 1,0)","v":0},null,null,{"$f":"IF(A299=\"\",\"\",9)","v":""}]
[]
[null,null,null,null,null,null,null,null,null,null,null,null,null,null,null,null,null,null,null,null,null,null,null,null,null,null,null,null,null,null,null,null,null,null,null,null,null,null,null,null,null,{"$f":"K301+L301+N301+P301+R301","v":0},{"$f":"IF(G301=\"x\", 1,0)","v":0},{"$f":"IF(H301=\"x\", 1,0)","v":0},null,null,{"$f":"IF(A301=\"\",\"\",9)","v":""}]
[]
[null,null,null,null,null,null,null,null,null,null,null,null,null,null,null,null,null,null,null,null,null,null,null,null,null,null,null,null,null,null,null,null,null,null,null,null,null,null,null,null,null,{"$f":"K303+L303+N303+P303+R303","v":0},{"$f":"IF(G303=\"x\", 1,0)","v":0},{"$f":"IF(H303=\"x\", 1,0)","v":0},null,null,{"$f":"IF(A303=\"\",\"\",9)","v":""}]
[]
[null,null,null,null,null,null,null,null,null,null,null,null,null,null,null,null,null,null,null,null,null,null,null,null,null,null,null,null,null,null,null,null,null,null,null,null,null,null,null,null,null,{"$f":"K305+L305+N305+P305+R305","v":0},{"$f":"IF(G305=\"x\", 1,0)","v":0},{"$f":"IF(H305=\"x\", 1,0)","v":0},null,null,{"$f":"IF(A305=\"\",\"\",9)","v":""}]
[]
[null,null,null,null,null,null,null,null,null,null,null,null,null,null,null,null,null,null,null,null,null,null,null,null,null,null,null,null,null,null,null,null,null,null,null,null,null,null,null,null,null,{"$f":"K307+L307+N307+P307+R307","v":0},{"$f":"IF(G307=\"x\", 1,0)","v":0},{"$f":"IF(H307=\"x\", 1,0)","v":0},null,null,{"$f":"IF(A307=\"\",\"\",9)","v":""}]
[]
[null,null,null,null,null,null,null,null,null,null,null,null,null,null,null,null,null,null,null,null,null,null,null,null,null,null,null,null,null,null,null,null,null,null,null,null,null,null,null,null,null,{"$f":"K309+L309+N309+P309+R309","v":0},{"$f":"IF(G309=\"x\", 1,0)","v":0},{"$f":"IF(H309=\"x\", 1,0)","v":0},null,null,{"$f":"IF(A309=\"\",\"\",9)","v":""}]
[]
[null,null,null,null,null,null,null,null,null,null,null,null,null,null,null,null,null,null,null,null,null,null,null,null,null,null,null,null,null,null,null,null,null,null,null,null,null,null,null,null,null,{"$f":"K311+L311+N311+P311+R311","v":0},{"$f":"IF(G311=\"x\", 1,0)","v":0},{"$f":"IF(H311=\"x\", 1,0)","v":0},null,null,{"$f":"IF(A311=\"\",\"\",9)","v":""}]
[]
[null,null,null,null,null,null,null,null,null,null,null,null,null,null,null,null,null,null,null,null,null,null,null,null,null,null,null,null,null,null,null,null,null,null,null,null,null,null,null,null,null,{"$f":"K313+L313+N313+P313+R313","v":0},{"$f":"IF(G313=\"x\", 1,0)","v":0},{"$f":"IF(H313=\"x\", 1,0)","v":0},null,null,{"$f":"IF(A313=\"\",\"\",9)","v":""}]
[]
[null,null,null,null,null,null,null,null,null,null,null,null,null,null,null,null,null,null,null,null,null,null,null,null,null,null,null,null,null,null,null,null,null,null,null,null,null,null,null,null,null,{"$f":"K315+L315+N315+P315+R315","v":0},{"$f":"IF(G315=\"x\", 1,0)","v":0},{"$f":"IF(H315=\"x\", 1,0)","v":0},null,null,{"$f":"IF(A315=\"\",\"\",9)","v":""}]
[]
[null,null,null,null,null,null,null,null,null,null,null,null,null,null,null,null,null,null,null,null,null,null,null,null,null,null,null,null,null,null,null,null,null,null,null,null,null,null,null,null,null,{"$f":"K317+L317+N317+P317+R317","v":0},{"$f":"IF(G317=\"x\", 1,0)","v":0},{"$f":"IF(H317=\"x\", 1,0)","v":0},null,null,{"$f":"IF(A317=\"\",\"\",9)","v":""}]
[]
[null,null,null,null,null,null,null,null,null,null,null,null,null,null,null,null,null,null,null,null,null,null,null,null,null,null,null,null,null,null,null,null,null,null,null,null,null,null,null,null,null,{"$f":"K319+L319+N319+P319+R319","v":0},{"$f":"IF(G319=\"x\", 1,0)","v":0},{"$f":"IF(H319=\"x\", 1,0)","v":0},null,null,{"$f":"IF(A319=\"\",\"\",9)","v":""}]
[]
[null,null,null,null,null,null,null,null,null,null,null,null,null,null,null,null,null,null,null,null,null,null,null,null,null,null,null,null,null,null,null,null,null,null,null,null,null,null,null,null,null,{"$f":"K321+L321+N321+P321+R321","v":0},{"$f":"IF(G321=\"x\", 1,0)","v":0},{"$f":"IF(H321=\"x\", 1,0)","v":0},null,null,{"$f":"IF(A321=\"\",\"\",9)","v":""}]
[]
[null,null,null,null,null,null,null,null,null,null,null,null,null,null,null,null,null,null,null,null,null,null,null,null,null,null,null,null,null,null,null,null,null,null,null,null,null,null,null,null,null,{"$f":"K323+L323+N323+P323+R323","v":0},{"$f":"IF(G323=\"x\", 1,0)","v":0},{"$f":"IF(H323=\"x\", 1,0)","v":0},null,null,{"$f":"IF(A323=\"\",\"\",9)","v":""}]
[]
[null,null,null,null,null,null,null,null,null,null,null,null,null,null,null,null,null,null,null,null,null,null,null,null,null,null,null,null,null,null,null,null,null,null,null,null,null,null,null,null,null,{"$f":"K325+L325+N325+P325+R325","v":0},{"$f":"IF(G325=\"x\", 1,0)","v":0},{"$f":"IF(H325=\"x\", 1,0)","v":0},null,null,{"$f":"IF(A325=\"\",\"\",9)","v":""}]
[]
[null,null,null,null,null,null,null,null,null,null,null,null,null,null,null,null,null,null,null,null,null,null,null,null,null,null,null,null,null,null,null,null,null,null,null,null,null,null,null,null,null,{"$f":"K327+L327+N327+P327+R327","v":0},{"$f":"IF(G327=\"x\", 1,0)","v":0},{"$f":"IF(H327=\"x\", 1,0)","v":0},null,null,{"$f":"IF(A327=\"\",\"\",9)","v":""}]
[]
[null,null,null,null,null,null,null,null,null,null,null,null,null,null,null,null,null,null,null,null,null,null,null,null,null,null,null,null,null,null,null,null,null,null,null,null,null,null,null,null,null,{"$f":"K329+L329+N329+P329+R329","v":0},{"$f":"IF(G329=\"x\", 1,0)","v":0},{"$f":"IF(H329=\"x\", 1,0)","v":0},null,null,{"$f":"IF(A329=\"\",\"\",10)","v":""}]
[]
[null,null,null,null,null,null,null,null,null,null,null,null,null,null,null,null,null,null,null,null,null,null,null,null,null,null,null,null,null,null,null,null,null,null,null,null,null,null,null,null,null,{"$f":"K331+L331+N331+P331+R331","v":0},{"$f":"IF(G331=\"x\", 1,0)","v":0},{"$f":"IF(H331=\"x\", 1,0)","v":0},null,null,{"$f":"IF(A331=\"\",\"\",10)","v":""}]
[]
[null,null,null,null,null,null,null,null,null,null,null,null,null,null,null,null,null,null,null,null,null,null,null,null,null,null,null,null,null,null,null,null,null,null,null,null,null,null,null,null,null,{"$f":"K333+L333+N333+P333+R333","v":0},{"$f":"IF(G333=\"x\", 1,0)","v":0},{"$f":"IF(H333=\"x\", 1,0)","v":0},null,null,{"$f":"IF(A333=\"\",\"\",10)","v":""}]
[]
[null,null,null,null,null,null,null,null,null,null,null,null,null,null,null,null,null,null,null,null,null,null,null,null,null,null,null,null,null,null,null,null,null,null,null,null,null,null,null,null,null,{"$f":"K335+L335+N335+P335+R335","v":0},{"$f":"IF(G335=\"x\", 1,0)","v":0},{"$f":"IF(H335=\"x\", 1,0)","v":0},null,null,{"$f":"IF(A335=\"\",\"\",10)","v":""}]
[]
[null,null,null,null,null,null,null,null,null,null,null,null,null,null,null,null,null,null,null,null,null,null,null,null,null,null,null,null,null,null,null,null,null,null,null,null,null,null,null,null,null,{"$f":"K337+L337+N337+P337+R337","v":0},{"$f":"IF(G337=\"x\", 1,0)","v":0},{"$f":"IF(H337=\"x\", 1,0)","v":0},null,null,{"$f":"IF(A337=\"\",\"\",10)","v":""}]
[]
[null,null,null,null,null,null,null,null,null,null,null,null,null,null,null,null,null,null,null,null,null,null,null,null,null,null,null,null,null,null,null,null,null,null,null,null,null,null,null,null,null,{"$f":"K339+L339+N339+P339+R339","v":0},{"$f":"IF(G339=\"x\", 1,0)","v":0},{"$f":"IF(H339=\"x\", 1,0)","v":0},null,null,{"$f":"IF(A339=\"\",\"\",10)","v":""}]
[]
[null,null,null,null,null,null,null,null,null,null,null,null,null,null,null,null,null,null,null,null,null,null,null,null,null,null,null,null,null,null,null,null,null,null,null,null,null,null,null,null,null,{"$f":"K341+L341+N341+P341+R341","v":0},{"$f":"IF(G341=\"x\", 1,0)","v":0},{"$f":"IF(H341=\"x\", 1,0)","v":0},null,null,{"$f":"IF(A341=\"\",\"\",10)","v":""}]
[]
[null,null,null,null,null,null,null,null,null,null,null,null,null,null,null,null,null,null,null,null,null,null,null,null,null,null,null,null,null,null,null,null,null,null,null,null,null,null,null,null,null,{"$f":"K343+L343+N343+P343+R343","v":0},{"$f":"IF(G343=\"x\", 1,0)","v":0},{"$f":"IF(H343=\"x\", 1,0)","v":0},null,null,{"$f":"IF(A343=\"\",\"\",10)","v":""}]
[]
[null,null,null,null,null,null,null,null,null,null,null,null,null,null,null,null,null,null,null,null,null,null,null,null,null,null,null,null,null,null,null,null,null,null,null,null,null,null,null,null,null,{"$f":"K345+L345+N345+P345+R345","v":0},{"$f":"IF(G345=\"x\", 1,0)","v":0},{"$f":"IF(H345=\"x\", 1,0)","v":0},null,null,{"$f":"IF(A345=\"\",\"\",10)","v":""}]
[]
[null,null,null,null,null,null,null,null,null,null,null,null,null,null,null,null,null,null,null,null,null,null,null,null,null,null,null,null,null,null,null,null,null,null,null,null,null,null,null,null,null,{"$f":"K347+L347+N347+P347+R347","v":0},{"$f":"IF(G347=\"x\", 1,0)","v":0},{"$f":"IF(H347=\"x\", 1,0)","v":0},null,null,{"$f":"IF(A347=\"\",\"\",10)","v":""}]
[]
[null,null,null,null,null,null,null,null,null,null,null,null,null,null,null,null,null,null,null,null,null,null,null,null,null,null,null,null,null,null,null,null,null,null,null,null,null,null,null,null,null,{"$f":"K349+L349+N349+P349+R349","v":0},{"$f":"IF(G349=\"x\", 1,0)","v":0},{"$f":"IF(H349=\"x\", 1,0)","v":0},null,null,{"$f":"IF(A349=\"\",\"\",10)","v":""}]
[]
[null,null,null,null,null,null,null,null,null,null,null,null,null,null,null,null,null,null,null,null,null,null,null,null,null,null,null,null,null,null,null,null,null,null,null,null,null,null,null,null,null,{"$f":"K351+L351+N351+P351+R351","v":0},{"$f":"IF(G351=\"x\", 1,0)","v":0},{"$f":"IF(H351=\"x\", 1,0)","v":0},null,null,{"$f":"IF(A351=\"\",\"\",10)","v":""}]
[]
[null,null,null,null,null,null,null,null,null,null,null,null,null,null,null,null,null,null,null,null,null,null,null,null,null,null,null,null,null,null,null,null,null,null,null,null,null,null,null,null,null,{"$f":"K353+L353+N353+P353+R353","v":0},{"$f":"IF(G353=\"x\", 1,0)","v":0},{"$f":"IF(H353=\"x\", 1,0)","v":0},null,null,{"$f":"IF(A353=\"\",\"\",10)","v":""}]
[]
[null,null,null,null,null,null,null,null,null,null,null,null,null,null,null,null,null,null,null,null,null,null,null,null,null,null,null,null,null,null,null,null,null,null,null,null,null,null,null,null,null,{"$f":"K355+L355+N355+P355+R355","v":0},{"$f":"IF(G355=\"x\", 1,0)","v":0},{"$f":"IF(H355=\"x\", 1,0)","v":0},null,null,{"$f":"IF(A355=\"\",\"\",10)","v":""}]
[]
[null,null,null,null,null,null,null,null,null,null,null,null,null,null,null,null,null,null,null,null,null,null,null,null,null,null,null,null,null,null,null,null,null,null,null,null,null,null,null,null,null,{"$f":"K357+L357+N357+P357+R357","v":0},{"$f":"IF(G357=\"x\", 1,0)","v":0},{"$f":"IF(H357=\"x\", 1,0)","v":0},null,null,{"$f":"IF(A357=\"\",\"\",10)","v":""}]
[]
[null,null,null,null,null,null,null,null,null,null,null,null,null,null,null,null,null,null,null,null,null,null,null,null,null,null,null,null,null,null,null,null,null,null,null,null,null,null,null,null,null,{"$f":"K359+L359+N359+P359+R359","v":0},{"$f":"IF(G359=\"x\", 1,0)","v":0},{"$f":"IF(H359=\"x\", 1,0)","v":0},null,null,{"$f":"IF(A359=\"\",\"\",10)","v":""}]
[]
[null,null,null,null,null,null,null,null,null,null,null,null,null,null,null,null,null,null,null,null,null,null,null,null,null,null,null,null,null,null,null,null,null,null,null,null,null,null,null,null,null,{"$f":"K361+L361+N361+P361+R361","v":0},{"$f":"IF(G361=\"x\", 1,0)","v":0},{"$f":"IF(H361=\"x\", 1,0)","v":0},null,null,{"$f":"IF(A361=\"\",\"\",10)","v":""}]
[]
[null,null,null,null,null,null,null,null,null,null,null,null,null,null,null,null,null,null,null,null,null,null,null,null,null,null,null,null,null,null,null,null,null,null,null,null,null,null,null,null,null,{"$f":"K363+L363+N363+P363+R363","v":0},{"$f":"IF(G363=\"x\", 1,0)","v":0},{"$f":"IF(H363=\"x\", 1,0)","v":0},null,null,{"$f":"IF(A363=\"\",\"\",11)","v":""}]
[]
[null,null,null,null,null,null,null,null,null,null,null,null,null,null,null,null,null,null,null,null,null,null,null,null,null,null,null,null,null,null,null,null,null,null,null,null,null,null,null,null,null,{"$f":"K365+L365+N365+P365+R365","v":0},{"$f":"IF(G365=\"x\", 1,0)","v":0},{"$f":"IF(H365=\"x\", 1,0)","v":0},null,null,{"$f":"IF(A365=\"\",\"\",11)","v":""}]
[]
[null,null,null,null,null,null,null,null,null,null,null,null,null,null,null,null,null,null,null,null,null,null,null,null,null,null,null,null,null,null,null,null,null,null,null,null,null,null,null,null,null,{"$f":"K367+L367+N367+P367+R367","v":0},{"$f":"IF(G367=\"x\", 1,0)","v":0},{"$f":"IF(H367=\"x\", 1,0)","v":0},null,null,{"$f":"IF(A367=\"\",\"\",11)","v":""}]
[]
[null,null,null,null,null,null,null,null,null,null,null,null,null,null,null,null,null,null,null,null,null,null,null,null,null,null,null,null,null,null,null,null,null,null,null,null,null,null,null,null,null,{"$f":"K369+L369+N369+P369+R369","v":0},{"$f":"IF(G369=\"x\", 1,0)","v":0},{"$f":"IF(H369=\"x\", 1,0)","v":0},null,null,{"$f":"IF(A369=\"\",\"\",11)","v":""}]
[]
[null,null,null,null,null,null,null,null,null,null,null,null,null,null,null,null,null,null,null,null,null,null,null,null,null,null,null,null,null,null,null,null,null,null,null,null,null,null,null,null,null,{"$f":"K371+L371+N371+P371+R371","v":0},{"$f":"IF(G371=\"x\", 1,0)","v":0},{"$f":"IF(H371=\"x\", 1,0)","v":0},null,null,{"$f":"IF(A371=\"\",\"\",11)","v":""}]
[]
[null,null,null,null,null,null,null,null,null,null,null,null,null,null,null,null,null,null,null,null,null,null,null,null,null,null,null,null,null,null,null,null,null,null,null,null,null,null,null,null,null,{"$f":"K373+L373+N373+P373+R373","v":0},{"$f":"IF(G373=\"x\", 1,0)","v":0},{"$f":"IF(H373=\"x\", 1,0)","v":0},null,null,{"$f":"IF(A373=\"\",\"\",11)","v":""}]
[]
[null,null,null,null,null,null,null,null,null,null,null,null,null,null,null,null,null,null,null,null,null,null,null,null,null,null,null,null,null,null,null,null,null,null,null,null,null,null,null,null,null,{"$f":"K375+L375+N375+P375+R375","v":0},{"$f":"IF(G375=\"x\", 1,0)","v":0},{"$f":"IF(H375=\"x\", 1,0)","v":0},null,null,{"$f":"IF(A375=\"\",\"\",11)","v":""}]
[]
[null,null,null,null,null,null,null,null,null,null,null,null,null,null,null,null,null,null,null,null,null,null,null,null,null,null,null,null,null,null,null,null,null,null,null,null,null,null,null,null,null,{"$f":"K377+L377+N377+P377+R377","v":0},{"$f":"IF(G377=\"x\", 1,0)","v":0},{"$f":"IF(H377=\"x\", 1,0)","v":0},null,null,{"$f":"IF(A377=\"\",\"\",11)","v":""}]
[]
[null,null,null,null,null,null,null,null,null,null,null,null,null,null,null,null,null,null,null,null,null,null,null,null,null,null,null,null,null,null,null,null,null,null,null,null,null,null,null,null,null,{"$f":"K379+L379+N379+P379+R379","v":0},{"$f":"IF(G379=\"x\", 1,0)","v":0},{"$f":"IF(H379=\"x\", 1,0)","v":0},null,null,{"$f":"IF(A379=\"\",\"\",11)","v":""}]
[]
[null,null,null,null,null,null,null,null,null,null,null,null,null,null,null,null,null,null,null,null,null,null,null,null,null,null,null,null,null,null,null,null,null,null,null,null,null,null,null,null,null,{"$f":"K381+L381+N381+P381+R381","v":0},{"$f":"IF(G381=\"x\", 1,0)","v":0},{"$f":"IF(H381=\"x\", 1,0)","v":0},null,null,{"$f":"IF(A381=\"\",\"\",11)","v":""}]
[]
[null,null,null,null,null,null,null,null,null,null,null,null,null,null,null,null,null,null,null,null,null,null,null,null,null,null,null,null,null,null,null,null,null,null,null,null,null,null,null,null,null,{"$f":"K383+L383+N383+P383+R383","v":0},{"$f":"IF(G383=\"x\", 1,0)","v":0},{"$f":"IF(H383=\"x\", 1,0)","v":0},null,null,{"$f":"IF(A383=\"\",\"\",11)","v":""}]
[]
[null,null,null,null,null,null,null,null,null,null,null,null,null,null,null,null,null,null,null,null,null,null,null,null,null,null,null,null,null,null,null,null,null,null,null,null,null,null,null,null,null,{"$f":"K385+L385+N385+P385+R385","v":0},{"$f":"IF(G385=\"x\", 1,0)","v":0},{"$f":"IF(H385=\"x\", 1,0)","v":0},null,null,{"$f":"IF(A385=\"\",\"\",11)","v":""}]
[]
[null,null,null,null,null,null,null,null,null,null,null,null,null,null,null,null,null,null,null,null,null,null,null,null,null,null,null,null,null,null,null,null,null,null,null,null,null,null,null,null,null,{"$f":"K387+L387+N387+P387+R387","v":0},{"$f":"IF(G387=\"x\", 1,0)","v":0},{"$f":"IF(H387=\"x\", 1,0)","v":0},null,null,{"$f":"IF(A387=\"\",\"\",11)","v":""}]
[]
[null,null,null,null,null,null,null,null,null,null,null,null,null,null,null,null,null,null,null,null,null,null,null,null,null,null,null,null,null,null,null,null,null,null,null,null,null,null,null,null,null,{"$f":"K389+L389+N389+P389+R389","v":0},{"$f":"IF(G389=\"x\", 1,0)","v":0},{"$f":"IF(H389=\"x\", 1,0)","v":0},null,null,{"$f":"IF(A389=\"\",\"\",11)","v":""}]
[]
[null,null,null,null,null,null,null,null,null,null,null,null,null,null,null,null,null,null,null,null,null,null,null,null,null,null,null,null,null,null,null,null,null,null,null,null,null,null,null,null,null,{"$f":"K391+L391+N391+P391+R391","v":0},{"$f":"IF(G391=\"x\", 1,0)","v":0},{"$f":"IF(H391=\"x\", 1,0)","v":0},null,null,{"$f":"IF(A391=\"\",\"\",11)","v":""}]
[]
[null,null,null,null,null,null,null,null,null,null,null,null,null,null,null,null,null,null,null,null,null,null,null,null,null,null,null,null,null,null,null,null,null,null,null,null,null,null,null,null,null,{"$f":"K393+L393+N393+P393+R393","v":0},{"$f":"IF(G393=\"x\", 1,0)","v":0},{"$f":"IF(H393=\"x\", 1,0)","v":0},null,null,{"$f":"IF(A393=\"\",\"\",11)","v":""}]
[]
[null,null,null,null,null,null,null,null,null,null,null,null,null,null,null,null,null,null,null,null,null,null,null,null,null,null,null,null,null,null,null,null,null,null,null,null,null,null,null,null,null,{"$f":"K395+L395+N395+P395+R395","v":0},{"$f":"IF(G395=\"x\", 1,0)","v":0},{"$f":"IF(H395=\"x\", 1,0)","v":0},null,null,{"$f":"IF(A395=\"\",\"\",11)","v":""}]
[]
[null,null,null,null,null,null,null,null,null,null,null,null,null,null,null,null,null,null,null,null,null,null,null,null,null,null,null,null,null,null,null,null,null,null,null,null,null,null,null,null,null,{"$f":"K397+L397+N397+P397+R397","v":0},{"$f":"IF(G397=\"x\", 1,0)","v":0},{"$f":"IF(H397=\"x\", 1,0)","v":0},null,null,{"$f":"IF(A397=\"\",\"\",12)","v":""}]
[]
[null,null,null,null,null,null,null,null,null,null,null,null,null,null,null,null,null,null,null,null,null,null,null,null,null,null,null,null,null,null,null,null,null,null,null,null,null,null,null,null,null,{"$f":"K399+L399+N399+P399+R399","v":0},{"$f":"IF(G399=\"x\", 1,0)","v":0},{"$f":"IF(H399=\"x\", 1,0)","v":0},null,null,{"$f":"IF(A399=\"\",\"\",12)","v":""}]
[]
[null,null,null,null,null,null,null,null,null,null,null,null,null,null,null,null,null,null,null,null,null,null,null,null,null,null,null,null,null,null,null,null,null,null,null,null,null,null,null,null,null,{"$f":"K401+L401+N401+P401+R401","v":0},{"$f":"IF(G401=\"x\", 1,0)","v":0},{"$f":"IF(H401=\"x\", 1,0)","v":0},null,null,{"$f":"IF(A401=\"\",\"\",12)","v":""}]
[]
[null,null,null,null,null,null,null,null,null,null,null,null,null,null,null,null,null,null,null,null,null,null,null,null,null,null,null,null,null,null,null,null,null,null,null,null,null,null,null,null,null,{"$f":"K403+L403+N403+P403+R403","v":0},{"$f":"IF(G403=\"x\", 1,0)","v":0},{"$f":"IF(H403=\"x\", 1,0)","v":0},null,null,{"$f":"IF(A403=\"\",\"\",12)","v":""}]
[]
[null,null,null,null,null,null,null,null,null,null,null,null,null,null,null,null,null,null,null,null,null,null,null,null,null,null,null,null,null,null,null,null,null,null,null,null,null,null,null,null,null,{"$f":"K405+L405+N405+P405+R405","v":0},{"$f":"IF(G405=\"x\", 1,0)","v":0},{"$f":"IF(H405=\"x\", 1,0)","v":0},null,null,{"$f":"IF(A405=\"\",\"\",12)","v":""}]
[]
[null,null,null,null,null,null,null,null,null,null,null,null,null,null,null,null,null,null,null,null,null,null,null,null,null,null,null,null,null,null,null,null,null,null,null,null,null,null,null,null,null,{"$f":"K407+L407+N407+P407+R407","v":0},{"$f":"IF(G407=\"x\", 1,0)","v":0},{"$f":"IF(H407=\"x\", 1,0)","v":0},null,null,{"$f":"IF(A407=\"\",\"\",12)","v":""}]
[]
[null,null,null,null,null,null,null,null,null,null,null,null,null,null,null,null,null,null,null,null,null,null,null,null,null,null,null,null,null,null,null,null,null,null,null,null,null,null,null,null,null,{"$f":"K409+L409+N409+P409+R409","v":0},{"$f":"IF(G409=\"x\", 1,0)","v":0},{"$f":"IF(H409=\"x\", 1,0)","v":0},null,null,{"$f":"IF(A409=\"\",\"\",12)","v":""}]
[]
[null,null,null,null,null,null,null,null,null,null,null,null,null,null,null,null,null,null,null,null,null,null,null,null,null,null,null,null,null,null,null,null,null,null,null,null,null,null,null,null,null,{"$f":"K411+L411+N411+P411+R411","v":0},{"$f":"IF(G411=\"x\", 1,0)","v":0},{"$f":"IF(H411=\"x\", 1,0)","v":0},null,null,{"$f":"IF(A411=\"\",\"\",12)","v":""}]
[]
[null,null,null,null,null,null,null,null,null,null,null,null,null,null,null,null,null,null,null,null,null,null,null,null,null,null,null,null,null,null,null,null,null,null,null,null,null,null,null,null,null,{"$f":"K413+L413+N413+P413+R413","v":0},{"$f":"IF(G413=\"x\", 1,0)","v":0},{"$f":"IF(H413=\"x\", 1,0)","v":0},null,null,{"$f":"IF(A413=\"\",\"\",12)","v":""}]
[]
[null,null,null,null,null,null,null,null,null,null,null,null,null,null,null,null,null,null,null,null,null,null,null,null,null,null,null,null,null,null,null,null,null,null,null,null,null,null,null,null,null,{"$f":"K415+L415+N415+P415+R415","v":0},{"$f":"IF(G415=\"x\", 1,0)","v":0},{"$f":"IF(H415=\"x\", 1,0)","v":0},null,null,{"$f":"IF(A415=\"\",\"\",12)","v":""}]
[]
[null,null,null,null,null,null,null,null,null,null,null,null,null,null,null,null,null,null,null,null,null,null,null,null,null,null,null,null,null,null,null,null,null,null,null,null,null,null,null,null,null,{"$f":"K417+L417+N417+P417+R417","v":0},{"$f":"IF(G417=\"x\", 1,0)","v":0},{"$f":"IF(H417=\"x\", 1,0)","v":0},null,null,{"$f":"IF(A417=\"\",\"\",12)","v":""}]
[]
[null,null,null,null,null,null,null,null,null,null,null,null,null,null,null,null,null,null,null,null,null,null,null,null,null,null,null,null,null,null,null,null,null,null,null,null,null,null,null,null,null,{"$f":"K419+L419+N419+P419+R419","v":0},{"$f":"IF(G419=\"x\", 1,0)","v":0},{"$f":"IF(H419=\"x\", 1,0)","v":0},null,null,{"$f":"IF(A419=\"\",\"\",12)","v":""}]
[]
[null,null,null,null,null,null,null,null,null,null,null,null,null,null,null,null,null,null,null,null,null,null,null,null,null,null,null,null,null,null,null,null,null,null,null,null,null,null,null,null,null,{"$f":"K421+L421+N421+P421+R421","v":0},{"$f":"IF(G421=\"x\", 1,0)","v":0},{"$f":"IF(H421=\"x\", 1,0)","v":0},null,null,{"$f":"IF(A421=\"\",\"\",12)","v":""}]
[]
[null,null,null,null,null,null,null,null,null,null,null,null,null,null,null,null,null,null,null,null,null,null,null,null,null,null,null,null,null,null,null,null,null,null,null,null,null,null,null,null,null,{"$f":"K423+L423+N423+P423+R423","v":0},{"$f":"IF(G423=\"x\", 1,0)","v":0},{"$f":"IF(H423=\"x\", 1,0)","v":0},null,null,{"$f":"IF(A423=\"\",\"\",12)","v":""}]
[]
[null,null,null,null,null,null,null,null,null,null,null,null,null,null,null,null,null,null,null,null,null,null,null,null,null,null,null,null,null,null,null,null,null,null,null,null,null,null,null,null,null,{"$f":"K425+L425+N425+P425+R425","v":0},{"$f":"IF(G425=\"x\", 1,0)","v":0},{"$f":"IF(H425=\"x\", 1,0)","v":0},null,null,{"$f":"IF(A425=\"\",\"\",12)","v":""}]
[]
[]
[null,null,null,null,null,null,{"$f":"COUNTA(G23:G427)","v":17},{"$f":"COUNTA(H23:H426)","v":4},null,"YFT+10",null,"YFT-10","SKJ",null,"BET",null,"ALB",null,"AUTRES / OTHERS",null,null,"REJETS / DISCARDS"]
["TOTAL",null,null,null,null,null,null,null,null,{"$f":"SUM(K23:K426)","v":5},null,{"$f":"SUM(L23:L426)","v":137},{"$f":"SUM(N23:N426)","v":459},null,{"$f":"SUM(P23:P426)","v":79},null,{"$f":"SUM(R23:R426)","v":0},null,{"$f":"SUM(U23:U426)","v":0},null,null,{"$f":"SUM(X23:X426)","v":0}]