{"text_format":"1","workbook":"xlsx","n_sheets":3,"sheets":["1.Marée","2.Log Book","3.By-catch"],"not_rendered":{"charts":0,"images":2,"macros":1,"external_links":0,"defined_names":29,"comments":1,"pivot_tables":0},"unopened":[],"bounds":{"document_bytes":16777216,"sheet_cells":100000,"rows_first":2000,"rows_last":500,"rows_between":2000,"halvings":0,"cell_chars":16384,"cell_head_chars":4096},"cells_cut":0,"cells_raw":0,"read":"whole","date_system":"1900"}

{"sheet":"1.Marée","index":0,"n_rows":35,"n_cols":31,"rows_kept":35,"cut":false,"hidden":false,"merged":[[4,5,4,6],[2,5,2,6],[2,15,2,17],[3,5,3,6],[3,15,3,17],[2,9,2,12],[5,5,5,6],[6,5,6,6],[11,3,11,6],[12,15,12,17],[13,5,13,6],[13,15,13,17],[7,5,7,6],[8,5,8,6],[10,3,10,6],[14,5,14,6],[14,11,14,13],[14,15,14,17],[20,5,20,6],[21,5,21,6],[15,5,15,6],[15,11,15,13],[15,15,15,17],[16,5,16,6],[18,5,18,6],[19,5,19,6]]}
[null,null,null,null,null,null,null,null,null,null,null,null,null,null,null,null,null,null,null,null,null,null,null,null,null,null,"Coche","Type DCP","Type bouées","Action DCP","Liste ZEE"]
[]
[null,"Navire           ",null,null,":","Manapany",null,null,null,"Stock bord ",null,null,null,null,null,null,null,null,null,null,null,null,null,null,null,null,"x","N","M3I","MISE A L'EAU DCP ECO","Eaux internationales"]
[null,"Pavillon",null,null,":","Français",null,null,null,"Albacore",":",23,null,null,null,null,null,null,null,null,null,null,null,null,null,null,"X","A","M3I+","DCP ESPAGNOL","Chagos"]
[null,"Numéro d'immatriculation",null,null,":","DI 929204",null,null,null,"Listao",":",35,null,null,null,null,null,null,null,null,null,null,null,null,null,null,null,null,null,"CHANGEMENT DE  BALISE","Comores"]
[null,"Port d'immatriculation",null,null,":","Dzaoudzi",null,null,null,"Patudo",":",23,null,null,null,null,null,null,null,null,null,null,null,null,null,null,null,null,null,"VISITE AVEC PECHE","Glorieuses"]
[null,"Signal d'appel international",null,null,":","FLSZ",null,null,null,"Germon",":",1,null,null,null,null,null,null,null,null,null,null,null,null,null,null,null,null,null,"VISITE SANS PECHE","Ile Maurice"]
[null,"Numéro OMI",null,null,":",9476238,null,null,null,null,null,null,null,null,null,null,null,null,null,null,null,null,null,null,null,null,null,null,null,"RETRAIT","Iles Eparses"]
[null,"Numéro CFR",null,null,":",null,null,null,null,"Total",":",{"$f":"SUM(L4:L7)","v":82},null,null,null,null,null,null,null,null,null,null,null,null,null,null,null,null,null,"PERTE / FIN TRANSMISSION BALISE","Kenya"]
[null,null,null,null,null,null,null,null,null,null,null,null,null,null,null,null,null,null,null,null,null,null,null,null,null,null,null,null,null,null,"La Réunion"]
[null,"Patron          :",null,"JOURDAIN j marc",null,null,null,null,null,null,null,null,null,null,null,null,null,null,null,null,null,null,null,null,null,null,null,null,null,null,"Madagascar"]
[null,"Marée          :",null,"1705 B",null,null,null,null,null,null,null,null,null,null,null,null,null,null,null,null,null,null,null,null,null,null,null,null,null,null,"Maldives"]
[null,null,null,null,null,null,null,null,null,null,null,null,null,null,null,null,null,null,null,null,null,null,null,null,null,null,null,null,null,null,"Maurice"]
[null,"Départ       -",null,"Port",":","Port Victoria",null,null,null,null,null,null,null,null,null,null,null,null,null,null,null,null,null,null,null,null,null,null,null,null,"Mayotte"]
[null,null,null,"Date",":","2017-12-28",null,null,null,null,null,null,null,null,null,null,null,null,null,null,null,null,null,null,null,null,null,null,null,null,"Mozambique"]
[null,null,null,"Heure",":","17:20:00",null,null,null,null,null,null,null,null,null,null,null,null,null,null,null,null,null,null,null,null,null,null,null,null,"Seychelles"]
[null,null,null,"Loch",":",0,null,null,null,null,null,null,null,null,null,null,null,null,null,null,null,null,null,null,null,null,null,null,null,null,"Tanzanie"]
[null,null,null,null,null,null,null,null,null,null,null,null,null,null,null,null,null,null,null,null,null,null,null,null,null,null,null,null,null,null,"Tromelin"]
[null,"Arrivée       -",null,"Port",":","Port Victoria"]
[null,null,null,"Date",":","2018-02-03"]
[null,null,null,"Heure",":","07:00:00"]
[null,null,null,"Loch",":",7428]
[]
[null,{"$f":"ROUND((F20+F21)-(F15+F16),2)","v":36.57},null,"Jours de mer pendant la marée.",null,null,null,{"$f":"F22-F17","v":7428},null,"milles parcourus"]
[]
[null,"Nombre de coups de filets dans la marée ",null,null,null,null,null,"   Portants ",":",{"$f":"'2.Log Book'!G434","v":32}]
[null,null,null,null,null,null,null,"   Nuls ",":",{"$f":"'2.Log Book'!H434","v":2}]
[null,null,null,null,null,null,null,"   Total ",":",{"$f":"J26+J27","v":34}]
[]
[null,"Albacore",":",{"$f":"'2.Log Book'!J435+'2.Log Book'!L435","v":263},null,{"$f":"D30/D35","v":0.2941834451901566},"Autres",{"$f":"'2.Log Book'!S435","v":5.1999999999999993}]
[null,"Listao",":",{"$f":"'2.Log Book'!M435","v":541},null,{"$f":"D31/D35","v":0.60514541387024612},"Rejets",{"$f":"'2.Log Book'!V435","v":0}]
[null,"Patudo",":",{"$f":"'2.Log Book'!O435","v":89},null,{"$f":"D32/D35","v":9.9552572706935127E-2}]
[null,"Germon",":",{"$f":"'2.Log Book'!Q435","v":1}]
[]
[null,"Total",":",{"$f":"SUM(D30:D33)","v":894},null,{"$f":"SUM(F30:F33)","v":0.99888143176733779}]

{"sheet":"2.Log Book","index":1,"n_rows":435,"n_cols":47,"rows_kept":435,"cut":false,"hidden":false,"merged":[[164,29,165,29],[164,31,165,31],[164,32,165,32],[164,33,165,37],[164,38,165,38],[164,39,165,39],[164,40,165,40],[165,1,165,5],[170,33,171,37],[164,0,165,0],[164,1,164,5],[164,6,165,6],[164,7,165,7],[164,8,165,8],[164,9,165,9],[164,10,165,10],[164,11,165,11],[164,12,165,12],[164,13,165,13],[164,14,165,14],[164,15,165,15],[164,16,165,16],[164,17,165,17],[164,18,165,18],[164,19,165,19],[166,18,167,18],[166,29,167,29],[166,31,167,31],[166,19,167,19],[166,20,167,20],[166,21,167,21],[166,22,167,22],[144,6,145,6],[128,6,129,6],[130,6,131,6],[142,9,143,9],[142,10,143,10],[142,11,143,11],[142,12,143,12],[142,13,143,13],[142,14,143,14],[142,15,143,15],[142,16,143,16],[142,17,143,17],[144,9,145,9],[144,10,145,10],[144,11,145,11],[144,12,145,12],[144,13,145,13],[144,14,145,14],[144,15,145,15],[144,16,145,16],[144,17,145,17],[138,9,139,9],[138,10,139,10],[138,11,139,11],[138,12,139,12],[138,13,139,13],[138,14,139,14],[138,15,139,15],[138,16,139,16],[138,17,139,17],[140,15,141,15],[140,16,141,16],[140,17,141,17],[134,10,135,10],[134,11,135,11],[134,12,135,12],[134,13,135,13],[134,14,135,14],[134,15,135,15],[134,16,135,16],[134,17,135,17],[136,9,137,9],[136,10,137,10],[136,11,137,11],[136,12,137,12],[136,13,137,13],[136,14,137,14],[136,15,137,15],[136,16,137,16],[136,17,137,17],[140,14,141,14],[140,12,141,12],[140,13,141,13],[128,17,129,17],[130,9,131,9],[130,10,131,10],[130,11,131,11],[130,12,131,12],[130,13,131,13],[130,14,131,14],[130,15,131,15],[130,16,131,16],[130,17,131,17],[132,9,133,9],[132,10,133,10],[132,11,133,11],[132,12,133,12],[132,13,133,13],[132,14,133,14],[132,15,133,15],[132,16,133,16],[132,17,133,17],[128,14,129,14],[128,15,129,15],[434,0,434,8],[434,9,434,10],[434,12,434,13],[434,14,434,15],[434,18,434,20],[405,1,405,5],[404,6,405,6],[404,7,405,7],[404,8,405,8],[406,18,407,18],[434,21,434,23],[9,16,9,17],[10,16,11,17],[12,16,14,17],[433,9,433,10],[433,12,433,13],[433,14,433,15],[433,18,433,20],[433,21,433,23],[404,9,405,9],[404,14,405,14],[414,0,415,0],[414,1,414,5],[402,1,402,5],[403,1,403,5],[408,1,408,5],[406,1,406,5],[407,1,407,5],[404,0,405,0],[404,1,404,5],[414,6,415,6],[414,7,415,7],[414,8,415,8],[404,10,405,10],[404,11,405,11],[404,12,405,12],[404,13,405,13],[388,1,388,5],[389,1,389,5],[386,1,386,5],[387,1,387,5],[392,1,392,5],[393,1,393,5],[390,1,390,5],[391,1,391,5],[396,1,396,5],[397,1,397,5],[394,1,394,5],[395,1,395,5],[400,1,400,5],[401,1,401,5],[398,1,398,5],[399,1,399,5],[406,11,407,11],[372,0,373,0],[372,1,372,5],[372,39,373,39],[372,40,373,40],[373,1,373,5],[374,0,375,0],[374,1,374,5],[374,6,375,6],[374,7,375,7],[374,8,375,8],[374,13,375,13],[378,31,379,31],[372,6,373,6],[372,7,373,7],[372,8,373,8],[372,9,373,9],[372,10,373,10],[372,11,373,11],[372,12,373,12],[372,13,373,13],[372,14,373,14],[372,15,373,15],[372,18,373,18],[376,23,377,23],[376,24,377,24],[376,25,377,25],[376,26,377,26],[376,27,377,27],[376,28,377,28],[376,29,377,29],[376,31,377,31],[376,32,377,32],[382,31,383,31],[385,1,385,5],[374,9,375,9],[374,10,375,10],[374,11,375,11],[374,12,375,12],[372,26,373,26],[372,27,373,27],[372,28,373,28],[372,29,373,29],[372,31,373,31],[358,31,359,31],[358,19,359,19],[366,20,367,20],[366,21,367,21],[366,22,367,22],[366,23,367,23],[366,24,367,24],[366,25,367,25],[366,26,367,26],[366,27,367,27],[362,27,363,27],[368,27,369,27],[368,28,369,28],[368,29,369,29],[368,31,369,31],[366,28,367,28],[366,29,367,29],[370,25,371,25],[362,21,363,21],[362,22,363,22],[362,23,363,23],[358,39,359,39],[358,40,359,40],[360,25,361,25],[360,26,361,26],[360,27,361,27],[360,28,361,28],[360,31,361,31],[360,40,361,40],[372,32,373,32],[372,33,373,37],[372,38,373,38],[360,18,361,18],[360,19,361,19],[360,20,361,20],[360,21,361,21],[360,22,361,22],[360,16,361,16],[360,17,361,17],[360,23,361,23],[360,24,361,24],[358,20,359,20],[372,19,373,19],[372,20,373,20],[372,21,373,21],[372,22,373,22],[372,23,373,23],[372,24,373,24],[372,25,373,25],[364,19,365,19],[364,20,365,20],[370,23,371,23],[370,24,371,24],[362,24,363,24],[362,25,363,25],[357,1,357,5],[360,0,361,0],[360,1,360,5],[360,6,361,6],[360,7,361,7],[360,8,361,8],[356,0,357,0],[356,1,356,5],[356,6,357,6],[356,7,357,7],[360,9,361,9],[360,10,361,10],[360,11,361,11],[360,12,361,12],[360,13,361,13],[360,14,361,14],[360,15,361,15],[356,23,357,23],[356,24,357,24],[354,25,355,25],[354,26,355,26],[354,27,355,27],[354,28,355,28],[354,38,355,38],[354,39,355,39],[354,40,355,40],[354,29,355,29],[354,31,355,31],[354,32,355,32],[354,33,355,37],[356,43,357,43],[356,39,357,39],[356,40,357,40],[356,42,357,42],[356,32,357,32],[354,43,355,43],[356,33,357,37],[356,38,357,38],[356,28,357,28],[356,29,357,29],[356,31,357,31],[356,25,357,25],[356,26,357,26],[356,27,357,27],[350,28,351,28],[350,31,351,31],[352,21,353,21],[352,42,353,42],[352,43,353,43],[353,1,353,5],[354,10,355,10],[354,11,355,11],[354,12,355,12],[354,13,355,13],[354,42,355,42],[354,14,355,14],[354,15,355,15],[354,1,354,5],[354,6,355,6],[354,7,355,7],[354,8,355,8],[354,9,355,9],[355,1,355,5],[354,18,355,18],[354,19,355,19],[354,20,355,20],[354,21,355,21],[354,17,355,17],[354,22,355,22],[354,23,355,23],[354,24,355,24],[350,43,351,43],[351,1,351,5],[352,6,353,6],[352,7,353,7],[352,10,353,10],[348,28,349,28],[348,31,349,31],[348,32,349,32],[348,33,349,37],[348,39,349,39],[348,40,349,40],[352,39,353,39],[352,40,353,40],[356,8,357,8],[356,9,357,9],[356,10,357,10],[354,16,355,16],[350,32,351,32],[350,33,351,37],[350,20,351,20],[350,21,351,21],[350,22,351,22],[350,23,351,23],[356,11,357,11],[356,12,357,12],[356,13,357,13],[356,14,357,14],[356,15,357,15],[356,18,357,18],[356,16,357,16],[356,17,357,17],[356,19,357,19],[356,20,357,20],[356,21,357,21],[356,22,357,22],[352,8,353,8],[352,9,353,9],[352,11,353,11],[352,12,353,12],[352,13,353,13],[352,14,353,14],[352,15,353,15],[352,18,353,18],[352,19,353,19],[352,16,353,16],[352,17,353,17],[352,20,353,20],[348,43,349,43],[349,1,349,5],[350,1,350,5],[350,6,351,6],[350,7,351,7],[350,8,351,8],[350,9,351,9],[350,10,351,10],[350,11,351,11],[350,24,351,24],[350,25,351,25],[350,12,351,12],[350,13,351,13],[350,14,351,14],[350,15,351,15],[350,18,351,18],[350,19,351,19],[348,22,349,22],[348,23,349,23],[348,24,349,24],[348,25,349,25],[348,26,349,26],[348,27,349,27],[348,42,349,42],[346,16,347,16],[346,17,347,17],[348,16,349,16],[348,17,349,17],[352,22,353,22],[352,23,353,23],[352,24,353,24],[352,25,353,25],[352,26,353,26],[352,27,353,27],[352,28,353,28],[350,26,351,26],[350,27,351,27],[346,18,347,18],[346,19,347,19],[346,20,347,20],[346,21,347,21],[346,22,347,22],[346,23,347,23],[350,16,351,16],[350,17,351,17],[350,38,351,38],[350,39,351,39],[350,40,351,40],[350,42,351,42],[346,39,347,39],[346,40,347,40],[346,42,347,42],[352,33,353,37],[352,38,353,38],[347,1,347,5],[348,0,349,0],[348,1,348,5],[348,6,349,6],[348,7,349,7],[348,8,349,8],[348,9,349,9],[348,10,349,10],[348,11,349,11],[348,12,349,12],[348,13,349,13],[348,14,349,14],[348,15,349,15],[348,18,349,18],[348,19,349,19],[348,20,349,20],[348,21,349,21],[346,0,347,0],[346,1,346,5],[346,6,347,6],[346,7,347,7],[346,8,347,8],[346,9,347,9],[346,10,347,10],[346,11,347,11],[346,12,347,12],[346,13,347,13],[346,14,347,14],[346,15,347,15],[342,39,343,39],[342,40,343,40],[342,42,343,42],[342,12,343,12],[342,13,343,13],[342,14,343,14],[342,15,343,15],[342,18,343,18],[342,19,343,19],[342,20,343,20],[342,21,343,21],[342,16,343,16],[342,17,343,17],[346,43,347,43],[344,39,345,39],[344,40,345,40],[344,42,345,42],[344,43,345,43],[344,25,345,25],[344,26,345,26],[344,27,345,27],[344,28,345,28],[344,29,345,29],[346,29,347,29],[341,1,341,5],[338,42,339,42],[338,43,339,43],[338,21,339,21],[338,31,339,31],[338,32,339,32],[334,32,335,32],[340,22,341,22],[340,23,341,23],[340,11,341,11],[338,16,339,16],[338,17,339,17],[340,16,341,16],[344,22,345,22],[344,23,345,23],[344,24,345,24],[342,22,343,22],[342,23,343,23],[342,24,343,24],[342,25,343,25],[342,1,342,5],[342,6,343,6],[342,7,343,7],[342,8,343,8],[342,9,343,9],[342,10,343,10],[345,1,345,5],[342,43,343,43],[343,1,343,5],[338,27,339,27],[338,28,339,28],[340,24,341,24],[344,0,345,0],[344,1,344,5],[344,6,345,6],[344,7,345,7],[344,8,345,8],[344,9,345,9],[344,10,345,10],[344,11,345,11],[344,12,345,12],[344,13,345,13],[344,14,345,14],[344,15,345,15],[344,18,345,18],[344,19,345,19],[344,20,345,20],[344,21,345,21],[342,0,343,0],[334,33,335,37],[340,32,341,32],[340,33,341,37],[338,33,339,37],[338,29,339,29],[336,29,337,29],[342,11,343,11],[340,19,341,19],[340,20,341,20],[340,21,341,21],[340,12,341,12],[340,13,341,13],[334,31,335,31],[334,38,335,38],[336,31,337,31],[338,6,339,6],[338,7,339,7],[338,8,339,8],[340,9,341,9],[340,10,341,10],[338,9,339,9],[336,6,337,6],[336,7,337,7],[336,8,337,8],[336,9,337,9],[334,26,335,26],[334,29,335,29],[334,21,335,21],[334,22,335,22],[334,23,335,23],[334,24,335,24],[334,14,335,14],[340,43,341,43],[338,10,339,10],[338,11,339,11],[338,12,339,12],[338,13,339,13],[338,14,339,14],[338,15,339,15],[338,18,339,18],[338,19,339,19],[338,20,339,20],[338,22,339,22],[338,23,339,23],[340,15,341,15],[340,18,341,18],[340,29,341,29],[340,31,341,31],[340,38,341,38],[340,25,341,25],[340,26,341,26],[340,27,341,27],[340,28,341,28],[340,39,341,39],[340,40,341,40],[340,42,341,42],[300,39,301,39],[300,40,301,40],[338,38,339,38],[338,39,339,39],[338,40,339,40],[336,40,337,40],[312,40,313,40],[304,39,305,39],[310,40,311,40],[300,27,301,27],[300,28,301,28],[300,29,301,29],[300,31,301,31],[300,32,301,32],[300,33,301,37],[306,31,307,31],[306,32,307,32],[306,33,307,37],[306,39,307,39],[306,40,307,40],[308,39,309,39],[308,40,309,40],[308,38,309,38],[312,39,313,39],[336,32,337,32],[336,33,337,37],[336,38,337,38],[310,39,311,39],[314,40,315,40],[314,39,315,39],[318,40,319,40],[316,39,317,39],[334,42,335,42],[334,43,335,43],[336,42,337,42],[336,43,337,43],[334,40,335,40],[304,40,305,40],[280,31,281,31],[294,1,294,5],[292,1,292,5],[293,1,293,5],[292,6,293,6],[292,7,293,7],[292,8,293,8],[284,31,285,31],[284,19,285,19],[284,20,285,20],[284,21,285,21],[284,22,285,22],[284,23,285,23],[284,24,285,24],[284,25,285,25],[284,26,285,26],[284,27,285,27],[284,28,285,28],[284,11,285,11],[284,7,285,7],[284,8,285,8],[296,22,297,22],[296,23,297,23],[306,27,307,27],[306,28,307,28],[306,29,307,29],[254,27,255,27],[254,28,255,28],[252,1,252,5],[254,29,255,29],[256,18,257,18],[256,19,257,19],[256,20,257,20],[256,21,257,21],[256,22,257,22],[256,23,257,23],[256,24,257,24],[256,25,257,25],[256,26,257,26],[256,27,257,27],[256,28,257,28],[255,1,255,5],[252,7,253,7],[252,8,253,8],[252,9,253,9],[252,10,253,10],[252,11,253,11],[252,12,253,12],[252,13,253,13],[252,14,253,14],[252,15,253,15],[252,18,253,18],[252,19,253,19],[252,20,253,20],[252,21,253,21],[252,22,253,22],[256,17,257,17],[257,1,257,5],[250,40,251,40],[251,1,251,5],[248,32,249,32],[252,32,253,32],[252,33,253,37],[252,38,253,38],[252,39,253,39],[252,40,253,40],[252,42,253,42],[252,43,253,43],[253,1,253,5],[254,0,255,0],[254,1,254,5],[254,6,255,6],[254,7,255,7],[254,8,255,8],[254,9,255,9],[254,10,255,10],[254,11,255,11],[254,12,255,12],[254,13,255,13],[254,14,255,14],[254,15,255,15],[254,18,255,18],[254,19,255,19],[254,20,255,20],[254,21,255,21],[254,22,255,22],[254,23,255,23],[254,24,255,24],[254,25,255,25],[254,26,255,26],[248,39,249,39],[250,7,251,7],[250,8,251,8],[250,9,251,9],[250,10,251,10],[250,11,251,11],[250,12,251,12],[250,13,251,13],[250,14,251,14],[250,15,251,15],[250,18,251,18],[250,19,251,19],[250,20,251,20],[250,21,251,21],[250,22,251,22],[250,23,251,23],[252,25,253,25],[252,26,253,26],[252,27,253,27],[252,28,253,28],[252,29,253,29],[250,24,251,24],[252,31,253,31],[250,38,251,38],[248,38,249,38],[250,32,251,32],[250,39,251,39],[252,16,253,16],[252,17,253,17],[246,20,247,20],[246,21,247,21],[246,22,247,22],[246,23,247,23],[246,24,247,24],[246,25,247,25],[246,26,247,26],[248,31,249,31],[250,25,251,25],[250,26,251,26],[250,27,251,27],[250,28,251,28],[250,29,251,29],[250,31,251,31],[250,33,251,37],[252,23,253,23],[252,24,253,24],[246,39,247,39],[248,33,249,37],[246,40,247,40],[247,1,247,5],[248,1,248,5],[248,6,249,6],[248,7,249,7],[248,8,249,8],[248,9,249,9],[248,10,249,10],[248,11,249,11],[248,12,249,12],[248,13,249,13],[248,14,249,14],[248,15,249,15],[248,18,249,18],[248,19,249,19],[248,20,249,20],[248,17,249,17],[248,21,249,21],[248,22,249,22],[248,23,249,23],[248,24,249,24],[248,25,249,25],[248,26,249,26],[248,27,249,27],[248,28,249,28],[248,29,249,29],[248,40,249,40],[246,7,247,7],[246,18,247,18],[246,19,247,19],[240,32,241,32],[240,33,241,37],[240,38,241,38],[242,31,243,31],[240,39,241,39],[240,40,241,40],[238,42,239,42],[242,40,243,40],[238,20,239,20],[240,21,241,21],[240,22,241,22],[240,23,241,23],[240,25,241,25],[240,26,241,26],[240,27,241,27],[240,17,241,17],[242,29,243,29],[242,39,243,39],[242,21,243,21],[242,22,243,22],[242,23,243,23],[242,24,243,24],[242,25,243,25],[238,26,239,26],[242,38,243,38],[242,42,243,42],[238,24,239,24],[238,40,239,40],[238,29,239,29],[242,33,243,37],[242,17,243,17],[238,22,239,22],[244,40,245,40],[244,39,245,39],[246,32,247,32],[246,27,247,27],[246,28,247,28],[246,29,247,29],[246,38,247,38],[238,27,239,27],[238,18,239,18],[238,19,239,19],[240,18,241,18],[240,24,241,24],[238,21,239,21],[244,22,245,22],[238,31,239,31],[238,32,239,32],[238,33,239,37],[238,38,239,38],[244,24,245,24],[244,25,245,25],[238,28,239,28],[238,25,239,25],[244,26,245,26],[244,19,245,19],[244,23,245,23],[240,28,241,28],[240,29,241,29],[240,19,241,19],[240,20,241,20],[244,27,245,27],[244,28,245,28],[240,31,241,31],[244,20,245,20],[244,21,245,21],[244,18,245,18],[240,9,241,9],[238,15,239,15],[232,16,233,16],[240,0,241,0],[240,10,241,10],[240,13,241,13],[242,11,243,11],[242,12,243,12],[244,8,245,8],[240,11,241,11],[244,0,245,0],[244,16,245,16],[244,15,245,15],[244,9,245,9],[244,10,245,10],[232,11,233,11],[232,12,233,12],[232,13,233,13],[232,14,233,14],[238,14,239,14],[242,15,243,15],[234,16,235,16],[240,16,241,16],[232,7,233,7],[195,1,195,5],[242,10,243,10],[242,13,243,13],[244,1,244,5],[244,6,245,6],[244,7,245,7],[238,7,239,7],[238,8,239,8],[238,9,239,9],[236,14,237,14],[194,6,195,6],[194,7,195,7],[194,8,195,8],[194,9,195,9],[194,10,195,10],[194,11,195,11],[194,12,195,12],[194,13,195,13],[196,6,197,6],[205,1,205,5],[244,14,245,14],[198,8,199,8],[204,6,205,6],[204,7,205,7],[204,11,205,11],[204,12,205,12],[204,13,205,13],[236,7,237,7],[240,12,241,12],[245,1,245,5],[198,9,199,9],[198,10,199,10],[238,23,239,23],[234,13,235,13],[236,8,237,8],[236,16,237,16],[232,8,233,8],[236,20,237,20],[234,28,235,28],[234,21,235,21],[234,22,235,22],[234,23,235,23],[234,24,235,24],[234,25,235,25],[234,26,235,26],[236,21,237,21],[236,22,237,22],[236,23,237,23],[232,20,233,20],[232,21,233,21],[238,11,239,11],[238,12,239,12],[236,15,237,15],[238,13,239,13],[236,9,237,9],[236,10,237,10],[236,17,237,17],[234,14,235,14],[238,16,239,16],[238,17,239,17],[236,11,237,11],[236,12,237,12],[236,13,237,13],[236,25,237,25],[144,0,145,0],[144,1,144,5],[144,8,145,8],[145,1,145,5],[198,1,198,5],[199,1,199,5],[196,1,196,5],[197,1,197,5],[198,6,199,6],[198,7,199,7],[232,15,233,15],[192,6,193,6],[232,22,233,22],[232,23,233,23],[194,1,194,5],[192,1,192,5],[191,1,191,5],[188,1,188,5],[189,1,189,5],[179,1,179,5],[190,1,190,5],[178,1,178,5],[193,1,193,5],[194,15,195,15],[144,19,145,19],[200,6,201,6],[200,7,201,7],[200,8,201,8],[200,9,201,9],[200,10,201,10],[146,0,147,0],[149,1,149,5],[146,11,147,11],[146,12,147,12],[236,38,237,38],[236,42,237,42],[146,27,147,27],[138,42,139,42],[232,42,233,42],[234,31,235,31],[234,32,235,32],[234,33,235,37],[234,39,235,39],[234,38,235,38],[232,39,233,39],[232,38,233,38],[232,27,233,27],[232,28,233,28],[232,19,233,19],[146,16,147,16],[234,18,235,18]],"merged_total":7685,"flags":["merged_cut"]}
["DEPART / SALIDA / DEPARTURE :",null,null,null,null,null,null,null,null,null,"ARRIVEE / LLEGADA / ARRIVAL",null,null,null,null,null,null,null,null,null,null,"PATRON / PATRON / MASTER",null,null,null,null,null,null,"NAVIRE / BARCO / VESSEL",null,null,null,null,null,null,null,null,null,"FEUILLE\nHOJA \nSHEET"]
["PORT / PUERTO / PORT",null,null,null,null,null,{"$f":"PORT_DEPART","v":"Port Victoria"},null,null,null,"PORT / PUERTO / PORT",null,null,null,null,{"$f":"PORT_arrivée","v":"Port Victoria"},null,null,null,null,null,{"$f":"Patron","v":"JOURDAIN j marc"}]
["DATE / FECHA / DATE",null,null,null,null,null,{"$f":"Date_départ","v":"2017-12-28"},null,null,null,"DATE / FECHA / DATE",null,null,null,null,{"$f":"Date_arrivée","v":"2018-02-03"}]
["HEURE / HORA / HOUR",null,null,null,null,null,{"$f":"Heure_départ","v":"17:20:00"},null,null,null,"HEURE / HORA / HOUR",null,null,null,null,{"$f":"Heure_arrivée","v":"07:00:00"},null,null,null,null,null,"MAREE",null,{"$f":"Nr_Marée","v":"1705 B"},null,null,null,null,null,null,null,null,null,null,null,null,null,null,null,null,1]
["LOCH / CORREDERA / LOCH",null,null,null,null,null,{"$f":"Loch_départ","v":0},null,null,null,"LOCH / CORREDERA / LOCH",null,null,null,null,{"$f":"Loch_arrivée","v":7428}]
[]
["DATE","POSITION                                                     (chaque calée \nou à midi)",null,null,null,null,"CALEE",null,null,"CAPTURE ESTIMEE (en tonnes)",null,null,null,null,null,null,null,null,null,null,null,null,null,null,"ASSOCIATION",null,null,null,null,null,"Balise","DCP","ZEE","COMMENTAIRES",null,null,null,null,"T° Mer / Mar / Sea","VENT"]
[null,null,null,null,null,null,"LANCE",null,null,"ESTIMATION DE LA CAPTURA (en toneladas)",null,null,null,null,null,null,null,null,null,null,null,null,null,null,"ASSOCIACION",null,null,null,null,null,"Boyas","DCP","ZEE","COMMENTARIOS",null,null,null,null,null,"VIENTO"]
[null,null,null,null,null,null,"SET",null,null,"ESTIMATED CATCH (metric tons)",null,null,null,null,null,null,null,null,null,null,null,null,null,null,"ASSOCIATION",null,null,null,null,null,"Buoy","FAD","EEZ","COMMENTS",null,null,null,null,null,"WIND"]
[null,null,null,null,null,null,"Portant / Positivo / Successful","Nul / Nulo / Nil","Heure / Hora / Time TU",1,null,null,2,null,3,null,4,null,"AUTRE ESPECE",null,null,"REJETS",null,null,"Banc libre/banco libre/Free school","Epave / Objeto / Log\nN (naturelle/natural)  A (artificielle/artificial)","Bateau d'assistance \nBarco de appoyo / Supply","Balise / Baliza / Beacon","Requin Baleine \nTiburon Ballena / Shark Wale","Baleine / Ballena / Wale","Type :","CRÉER UNE LIGNE PAR EVENNEMENT SUR DCP NATUREL OU ARTIFICIEL","NOM DE \nLA ZEE\n\n(hors zee indiquer eaux internatio\nnales)","Problèmes divers\nPrise accessoire\nTaille du banc \nAutres associations\nAutres remarques",null,null,null,null,null,"Direction / Direccion / Direction                                      Degrés / Grados / Degree","Vitesse / Velocidad / Speed\nNoeuds / Nudos / Knots"]
[null,null,null,null,null,null,null,null,null,"ALBACORE",null,null,"LISTAO",null,"PATUDO",null,"GERMON",null,null,null,null,"Préciser le / les nom(s)"]
["FECHA ","POSICION                                                     (cada lance o mediadia)",null,null,null,null,null,null,null,null,null,null,null,null,null,null,null,null,"Préciser Noms"]
[null,null,null,null,null,null,null,null,null,"RABIL",null,null,"LISTADO",null,"PATUDO",null,"ALBACORA",null,null,null,null,"DESCARTES",null,null,null,null,null,null,null,null,"MSI","MISE A L'EAU DCP ECO"]
[null,null,null,null,null,null,null,null,null,null,null,null,null,null,null,null,null,null,null,null,null,"dar el / los nombre(s)",null,null,null,null,null,null,null,null,"M3I","CHANGEMENT DE BALISE "]
[null,null,null,null,null,null,null,null,null,null,null,null,null,null,null,null,null,null,"OTHER SPECIES",null,null,null,null,null,null,null,null,null,null,null,"M4I"]
[null,null,null,null,null,null,null,null,null,"YELLOWFIN",null,null,"SKIPJACK",null,"BIGEYE",null,"ALBACORE",null,null,null,null,"DISCARDS",null,null,null,null,null,null,null,null,"Numéro","VISITE AVEC PECHE"]
["DATE","POSITION                                                      (each set \nor midday)",null,null,null,null,null,null,null,null,null,null,null,null,null,null,null,null,"give name(s)",null,null,"give name(s)",null,null,null,null,null,null,null,null,null,"VISITE SANS PECHE"]
[null,null,null,null,null,null,null,null,null,"YFT+10",null,"YFT-10","SKJ",null,"BET",null,"ALB",null,null,null,null,null,null,null,null,null,null,null,null,null,null,"RETRAIT"]
[null,null,null,null,null,null,null,null,null,"Taille","Capture","Capture","Taille","Capture","Taille","Capture","Taille","Capture","Nom","Taille","Capture","Nom","Taille","Capture",null,null,null,null,null,null,null,null,null,null,null,null,null,null,null,null,null,null,null,null,"total"]
[null,null,null,null,null,null,null,null,null,"Tailla","Captura","Captura","Tailla","Captura","Tailla","Captura","Tailla","Captura","Nombre","Tailla","Captura","Nomb.","Tailla","Captura",null,null,null,null,null,null,null,"PERTE / FIN TRANSMISSION BALISE",null,null,null,null,null,null,null,null,null,null,null,null,"portant","nul"]
[null,null,null,null,null,null,null,null,null,"Size","Catch","Catch","Size","Catch","Size","Catch","Size","Catch","Name","Size","Catch","Name","Size","Catch",null,null,null,null,null,null,null,null,null,null,null,null,null,null,null,null,null,null,null,null,{"$f":"SUM(AQ23:AQ1416)","v":{"$error":"#REF!"}},{"$f":"SUM(AR23:AR1416)","v":1},{"$f":"MAX(AU23:AU432)","v":6}]
["Une calée par ligne / Une ligne par DCP rencontré (visite / pêche / mise à l'eau, etc)",null,null,null,null,null,null,null,null,null,null,null,null,null,null,null,null,null,null,null,null,null,null,null,null,null,null,null,null,null,null,null,null,null,null,null,null,null,null,null,null,null,"portant","nul",null,null,"page"]
["2017-12-28",null,null,null,null,null,null,null,null,null,null,null,null,null,null,null,null,null,null,null,null,null,null,null,null,null,null,null,null,null,null,null,null,"sortie en mer 17:20",null,null,null,null,null,null,null,{"$f":"K23+L23+N23+P23+R23","v":0},{"$f":"IF(G23=\"x\", 1,0)","v":0},{"$f":"IF(H23=\"x\", 1,0)","v":0},null,null,{"$f":"IF(A23=\"\",\"\",1)","v":1}]
[]
["2017-12-29","03°13s",null,null,null,null,null,null,"08:10:00",null,null,null,null,null,null,null,null,null,null,null,null,null,null,null,null,"A",null,"X",null,null,"M3I","CHANGEMENT DE  BALISE","Seychelles","radeau",null,null,null,null,27.3,320,12,{"$f":"K25+L25+N25+P25+R25","v":0},{"$f":"IF(G25=\"x\", 1,0)","v":0},{"$f":"IF(H25=\"x\", 1,0)","v":0},null,null,{"$f":"IF(A25=\"\",\"\",1)","v":1}]
[null,"53°49e",null,null,null,null,null,null,null,null,null,null,null,null,null,null,null,null,null,null,null,null,null,null,null,null,null,null,null,null,107665]
["2017-12-29","02°53s",null,null,null,null,null,null,"10:25:00",null,null,null,null,null,null,null,null,null,null,null,null,null,null,null,null,"A",null,"X",null,null,"M3I+","CHANGEMENT DE  BALISE","Seychelles","radeau",null,null,null,null,27.8,320,10,{"$f":"K27+L27+N27+P27+R27","v":0},{"$f":"IF(G27=\"x\", 1,0)","v":0},{"$f":"IF(H27=\"x\", 1,0)","v":0},null,null,{"$f":"IF(A27=\"\",\"\",1)","v":1}]
[null,"53°47e",null,null,null,null,null,null,null,null,null,null,null,null,null,null,null,null,null,null,null,null,null,null,null,null,null,null,null,null,516581]
["2017-12-29","02°28s",null,null,null,null,null,null,"14:35:00",null,null,null,null,null,null,null,null,null,null,null,null,null,null,null,null,"A",null,"X",null,null,"M3I","CHANGEMENT DE  BALISE","Seychelles","radeau",null,null,null,null,27.9,280,12,{"$f":"K29+L29+N29+P29+R29","v":0},{"$f":"IF(G29=\"x\", 1,0)","v":0},{"$f":"IF(H29=\"x\", 1,0)","v":0},null,null,{"$f":"IF(A29=\"\",\"\",1)","v":1}]
[null,"54°09e",null,null,null,null,null,null,null,null,null,null,null,null,null,null,null,null,null,null,null,null,null,null,null,null,null,null,null,null,509777]
["2017-12-30","01°27s",null,null,null,null,null,null,"17:50:00",null,null,null,null,null,null,null,null,null,null,null,null,null,null,null,null,null,null,null,null,null,null,null,"Seychelles","ras",null,null,null,null,27.5,340,12,{"$f":"K31+L31+N31+P31+R31","v":0},{"$f":"IF(G31=\"x\", 1,0)","v":0},{"$f":"IF(H31=\"x\", 1,0)","v":0},null,null,{"$f":"IF(A31=\"\",\"\",1)","v":1}]
[null,"54°33e"]
["2017-12-31","01°32s",null,null,null,null,null,null,"07:20:00",null,null,null,null,null,null,null,null,null,null,null,null,null,null,null,null,"A",null,"X",null,null,"M3I+","CHANGEMENT DE  BALISE","Seychelles","radeau",null,null,null,null,27.4,350,10,{"$f":"K33+L33+N33+P33+R33","v":0},{"$f":"IF(G33=\"x\", 1,0)","v":0},{"$f":"IF(H33=\"x\", 1,0)","v":0},null,null,{"$f":"IF(A33=\"\",\"\",1)","v":1}]
[null,"54°28e",null,null,null,null,null,null,null,null,null,null,null,null,null,null,null,null,null,null,null,null,null,null,null,null,null,null,null,null,514749]
["2017-12-31","01°48s",null,null,null,null,null,null,"10:55:00",null,null,null,null,null,null,null,null,null,null,null,null,null,null,null,null,"A",null,"X",null,null,"M3I","CHANGEMENT DE  BALISE","Seychelles","radeau",null,null,null,null,27.6,350,12,{"$f":"K35+L35+N35+P35+R35","v":0},{"$f":"IF(G35=\"x\", 1,0)","v":0},{"$f":"IF(H35=\"x\", 1,0)","v":0},null,null,{"$f":"IF(A35=\"\",\"\",1)","v":1}]
[null,"54°16e",null,null,null,null,null,null,null,null,null,null,null,null,null,null,null,null,null,null,null,null,null,null,null,null,null,null,null,null,107741]
["2017-12-31","02°01s",null,null,null,null,null,null,"16:30:00",null,null,null,null,null,null,null,null,null,null,null,null,null,null,null,null,"A",null,"X",null,null,"M3I","CHANGEMENT DE  BALISE","Seychelles","radeau cassé",null,null,null,null,27.8,350,12,{"$f":"K37+L37+N37+P37+R37","v":0},{"$f":"IF(G37=\"x\", 1,0)","v":0},{"$f":"IF(H37=\"x\", 1,0)","v":0},null,null,{"$f":"IF(A37=\"\",\"\",1)","v":1}]
[null,"54°49e",null,null,null,null,null,null,null,null,null,null,null,null,null,null,null,null,null,null,null,null,null,null,null,null,null,null,null,null,100436]
["2018-01-01","02°03s",null,null,null,null,"X",null,"06:25:00",15,6,2,2.2000000000000002,22,3,5,null,null,"RRU",null,0.2,null,null,null,null,"A",null,"X",null,null,"M3I","VISITE AVEC PECHE","Seychelles","radeau cassé",null,null,null,null,27.6,20,12,{"$f":"K39+L39+N39+P39+R39","v":35},{"$f":"IF(G39=\"x\", 1,0)","v":1},{"$f":"IF(H39=\"x\", 1,0)","v":0},null,null,{"$f":"IF(A39=\"\",\"\",1)","v":1}]
[null,"54°56e",null,null,null,null,null,null,null,null,null,null,null,null,null,null,null,null,null,null,null,null,null,null,null,null,null,null,null,null,100436]
["2018-01-01","01°53s",null,null,null,null,"X",null,"10:35:00",15,4,null,2.2000000000000002,28,3,8,null,null,"DOL",null,0.2,null,null,null,null,"A",null,"X",null,null,"M3I+","VISITE AVEC PECHE","Seychelles","radeau",null,null,null,null,27.3,10,15,{"$f":"K41+L41+N41+P41+R41","v":40},{"$f":"IF(G41=\"x\", 1,0)","v":1},{"$f":"IF(H41=\"x\", 1,0)","v":0},null,null,{"$f":"IF(A41=\"\",\"\",1)","v":1}]
[null,"54°58e",null,null,null,null,null,null,null,null,null,null,null,null,null,null,null,null,null,null,null,null,null,null,null,null,null,null,null,null,516733]
[null,null,null,null,null,null,null,null,null,null,null,null,null,null,null,null,null,null,"WAH",null,0.1,null,null,null,null,null,null,null,null,null,null,null,null,null,null,null,null,null,null,null,null,{"$f":"K43+L43+N43+P43+R43","v":0},{"$f":"IF(G43=\"x\", 1,0)","v":0},{"$f":"IF(H43=\"x\", 1,0)","v":0},null,null,{"$f":"IF(A43=\"\",\"\",1)","v":""}]
[]
[null,null,null,null,null,null,null,null,null,null,null,null,null,null,null,null,null,null,"TRI",null,0.2,null,null,null,null,null,null,null,null,null,null,null,null,null,null,null,null,null,null,null,null,{"$f":"K45+L45+N45+P45+R45","v":0},{"$f":"IF(G45=\"x\", 1,0)","v":0},{"$f":"IF(H45=\"x\", 1,0)","v":0},null,null,{"$f":"IF(A45=\"\",\"\",1)","v":""}]
[]
["2018-01-01","02°12s",null,null,null,null,null,null,"15:10:00",null,null,null,null,null,null,null,null,null,null,null,null,null,null,null,null,null,null,null,null,null,"M3I+","CHANGEMENT DE  BALISE","Seychelles","radeau",null,null,null,null,27.7,20,12,{"$f":"K47+L47+N47+P47+R47","v":0},{"$f":"IF(G47=\"x\", 1,0)","v":0},{"$f":"IF(H47=\"x\", 1,0)","v":0},null,null,{"$f":"IF(A47=\"\",\"\",1)","v":1}]
[null,"55°04e",null,null,null,null,null,null,null,null,null,null,null,null,null,null,null,null,null,null,null,null,null,null,null,null,null,null,null,null,509028]
["2018-01-02","02°15s",null,null,null,null,"X",null,"06:40:00",15,2,3,2.2000000000000002,10,3,1,null,null,"WAH",null,0.1,null,null,null,null,"A",null,"X",null,null,"M3I+","VISITE AVEC PECHE","Seychelles","radeau",null,null,null,null,27.5,40,10,{"$f":"K49+L49+N49+P49+R49","v":16},{"$f":"IF(G49=\"x\", 1,0)","v":1},{"$f":"IF(H49=\"x\", 1,0)","v":0},null,null,{"$f":"IF(A49=\"\",\"\",1)","v":1}]
[null,"55°12e",null,null,null,null,null,null,null,null,null,null,null,null,null,null,null,null,null,null,null,null,null,null,null,null,null,null,null,null,509028]
[null,null,null,null,null,null,null,null,null,null,null,null,null,null,null,null,null,null,"TRI",null,0.1,null,null,null,null,null,null,null,null,null,null,null,null,null,null,null,null,null,null,null,null,{"$f":"K51+L51+N51+P51+R51","v":0},{"$f":"IF(G51=\"x\", 1,0)","v":0},{"$f":"IF(H51=\"x\", 1,0)","v":0},null,null,{"$f":"IF(A51=\"\",\"\",1)","v":""}]
[]
["2018-01-02","02°15s",null,null,null,null,"X",null,"11:55:00",15,1,4,2.2000000000000002,10,null,null,null,null,"DOL",null,0.1,null,null,null,null,"A",null,"X",null,null,"M3I+","CHANGEMENT DE  BALISE","Seychelles","radeau",null,null,null,null,27.6,10,10,{"$f":"K53+L53+N53+P53+R53","v":15},{"$f":"IF(G53=\"x\", 1,0)","v":1},{"$f":"IF(H53=\"x\", 1,0)","v":0},null,null,{"$f":"IF(A53=\"\",\"\",1)","v":1}]
[null,"55°46e",null,null,null,null,null,null,null,null,null,null,null,null,null,null,null,null,null,null,null,null,null,null,null,null,null,null,null,null,508750]
[null,null,null,null,null,null,null,null,null,null,null,null,null,null,null,null,null,null,"WAH",null,0.1,null,null,null,null,null,null,null,null,null,null,null,null,null,null,null,null,null,null,null,null,{"$f":"K55+L55+N55+P55+R55","v":0},{"$f":"IF(G55=\"x\", 1,0)","v":0},{"$f":"IF(H55=\"x\", 1,0)","v":0},null,null,{"$f":"IF(A55=\"\",\"\",1)","v":""}]
[]
["2018-01-03","02°10s",null,null,null,null,"X",null,"06:30:00",null,null,null,2.2000000000000002,5,null,null,null,null,"RRU",null,0.1,null,null,null,null,"A",null,"X",null,null,"M3I","CHANGEMENT DE  BALISE","Eaux internationales","radeau",null,null,null,null,27.5,40,5,{"$f":"K57+L57+N57+P57+R57","v":5},{"$f":"IF(G57=\"x\", 1,0)","v":1},{"$f":"IF(H57=\"x\", 1,0)","v":0},null,null,{"$f":"IF(A57=\"\",\"\",2)","v":2}]
[null,"59°36e",null,null,null,null,null,null,null,null,null,null,null,null,null,null,null,null,null,null,null,null,null,null,null,null,null,null,null,null,100531]
["2018-01-04","03°34s",null,null,null,null,"X",null,"10:20:00",null,null,9,2.2000000000000002,31,3,7,null,null,"RRU",null,0.1,null,null,null,null,"A",null,"X",null,null,"M3I","VISITE AVEC PECHE","Eaux internationales","radeau",null,null,null,null,27.3,280,5,{"$f":"K59+L59+N59+P59+R59","v":47},{"$f":"IF(G59=\"x\", 1,0)","v":1},{"$f":"IF(H59=\"x\", 1,0)","v":0},null,null,{"$f":"IF(A59=\"\",\"\",2)","v":2}]
[null,"65°22e",null,null,null,null,null,null,null,null,null,null,null,null,null,null,null,null,null,null,null,null,null,null,null,null,null,null,null,null,100521]
["2018-01-05","03°30s",null,null,null,null,"X",null,"09:20:00",15,2,10,2.2000000000000002,49,3,4,null,null,null,null,null,null,null,null,null,"A",null,null,null,null,null,null,"Eaux internationales","radeau",null,null,null,null,27.4,250,10,{"$f":"K61+L61+N61+P61+R61","v":65},{"$f":"IF(G61=\"x\", 1,0)","v":1},{"$f":"IF(H61=\"x\", 1,0)","v":0},null,null,{"$f":"IF(A61=\"\",\"\",2)","v":2}]
[null,"68°26e"]
["2018-01-06","01°35s",null,null,null,null,"X",null,"06:35:00",null,null,5,2.2000000000000002,17,null,null,null,null,"SWO",null,0.1,null,null,null,null,"A",null,"X",null,null,"M3I","RETRAIT","Eaux internationales","radeau",null,null,null,null,27.8,340,10,{"$f":"K63+L63+N63+P63+R63","v":22},{"$f":"IF(G63=\"x\", 1,0)","v":1},{"$f":"IF(H63=\"x\", 1,0)","v":0},null,null,{"$f":"IF(A63=\"\",\"\",2)","v":2}]
[null,"68°47e",null,null,null,null,null,null,null,null,null,null,null,null,null,null,null,null,null,null,null,null,null,null,null,null,null,null,null,null,100539]
[null,null,null,null,null,null,null,null,null,null,null,null,null,null,null,null,null,null,"RRU",null,0.1,null,null,null,null,null,null,null,null,null,null,null,null,null,null,null,null,null,null,null,null,{"$f":"K65+L65+N65+P65+R65","v":0},{"$f":"IF(G65=\"x\", 1,0)","v":0},{"$f":"IF(H65=\"x\", 1,0)","v":0},null,null,{"$f":"IF(A65=\"\",\"\",2)","v":""}]
[]
["2018-01-06","00°33s",null,null,null,null,"X",null,"14:35:00",15,3,2,2.2000000000000002,31,3,5,null,null,"SWO",null,0.2,null,null,null,null,"A",null,"X",null,null,"M3I","RETRAIT","Eaux internationales","radeau",null,null,null,null,28.2,350,10,{"$f":"K67+L67+N67+P67+R67","v":41},{"$f":"IF(G67=\"x\", 1,0)","v":1},{"$f":"IF(H67=\"x\", 1,0)","v":0},null,null,{"$f":"IF(A67=\"\",\"\",2)","v":2}]
[null,"69°31e",null,null,null,null,null,null,null,null,null,null,null,null,null,null,null,null,null,null,null,null,null,null,null,null,null,null,null,null,230616]
["2018-01-07","01°10s",null,null,null,null,"X",null,"07:40:00",15,5,2,2.2000000000000002,12,3,1,null,null,"SWO",null,0.1,null,null,null,null,"A",null,null,null,null,null,null,"Eaux internationales","radeau",null,null,null,null,27.9,10,12,{"$f":"K69+L69+N69+P69+R69","v":20},{"$f":"IF(G69=\"x\", 1,0)","v":1},{"$f":"IF(H69=\"x\", 1,0)","v":0},null,null,{"$f":"IF(A69=\"\",\"\",2)","v":2}]
[null,"69°34e"]
[null,null,null,null,null,null,null,null,null,null,null,null,null,null,null,null,null,null,"TRI",null,0.1,null,null,null,null,null,null,null,null,null,null,null,null,null,null,null,null,null,null,null,null,{"$f":"K71+L71+N71+P71+R71","v":0},{"$f":"IF(G71=\"x\", 1,0)","v":0},{"$f":"IF(H71=\"x\", 1,0)","v":0},null,null,{"$f":"IF(A71=\"\",\"\",2)","v":""}]
[]
["2018-01-07","01°16s",null,null,null,null,null,null,"16:00:00",null,null,null,null,null,null,null,null,null,null,null,null,null,null,null,null,"A",null,null,null,null,"M3I","RETRAIT","Eaux internationales","radeau",null,null,null,null,28,330,15,{"$f":"K73+L73+N73+P73+R73","v":0},{"$f":"IF(G73=\"x\", 1,0)","v":0},{"$f":"IF(H73=\"x\", 1,0)","v":0},null,null,{"$f":"IF(A73=\"\",\"\",2)","v":2}]
[null,"68°28e",null,null,null,null,null,null,null,null,null,null,null,null,null,null,null,null,null,null,null,null,null,null,null,null,null,null,null,null,203860]
["2018-01-08","01°22n",null,null,null,null,null,null,"09:00:00",null,null,null,null,null,null,null,null,null,null,null,null,null,null,null,null,"A",null,"X",null,null,"M3I+","MISE A L'EAU DCP ECO","Eaux internationales","radeau",null,null,null,null,27.6,330,12,{"$f":"K75+L75+N75+P75+R75","v":0},{"$f":"IF(G75=\"x\", 1,0)","v":0},{"$f":"IF(H75=\"x\", 1,0)","v":0},null,null,{"$f":"IF(A75=\"\",\"\",2)","v":2}]
[null,"66°12e",null,null,null,null,null,null,null,null,null,null,null,null,null,null,null,null,null,null,null,null,null,null,null,null,null,null,null,null,517672]
["2018-01-08","01°38n",null,null,null,null,null,null,"10:25:00",null,null,null,null,null,null,null,null,null,null,null,null,null,null,null,null,"A",null,"X",null,null,"M3I","MISE A L'EAU DCP ECO","Eaux internationales","radeau",null,null,null,null,27.5,340,12,{"$f":"K77+L77+N77+P77+R77","v":0},{"$f":"IF(G77=\"x\", 1,0)","v":0},{"$f":"IF(H77=\"x\", 1,0)","v":0},null,null,{"$f":"IF(A77=\"\",\"\",2)","v":2}]
[null,"66°02e",null,null,null,null,null,null,null,null,null,null,null,null,null,null,null,null,null,null,null,null,null,null,null,null,null,null,null,null,100539]
["2018-01-08","01°54n",null,null,null,null,null,null,"12:00:00",null,null,null,null,null,null,null,null,null,null,null,null,null,null,null,null,"A",null,"X",null,null,"M3I","MISE A L'EAU DCP ECO","Eaux internationales","radeau",null,null,null,null,27.6,330,12,{"$f":"K79+L79+N79+P79+R79","v":0},{"$f":"IF(G79=\"x\", 1,0)","v":0},{"$f":"IF(H79=\"x\", 1,0)","v":0},null,null,{"$f":"IF(A79=\"\",\"\",2)","v":2}]
[null,"65°48e",null,null,null,null,null,null,null,null,null,null,null,null,null,null,null,null,null,null,null,null,null,null,null,null,null,null,null,null,100449]
["2018-01-08","02°03n",null,null,null,null,null,null,"13:00:00",null,null,null,null,null,null,null,null,null,null,null,null,null,null,null,null,"A",null,"X",null,null,"M3I+","MISE A L'EAU DCP ECO","Eaux internationales","radeau",null,null,null,null,27.6,320,10,{"$f":"K81+L81+N81+P81+R81","v":0},{"$f":"IF(G81=\"x\", 1,0)","v":0},{"$f":"IF(H81=\"x\", 1,0)","v":0},null,null,{"$f":"IF(A81=\"\",\"\",2)","v":2}]
[null,"65°39e",null,null,null,null,null,null,null,null,null,null,null,null,null,null,null,null,null,null,null,null,null,null,null,null,null,null,null,null,505227]
["2018-01-08","02°13n",null,null,null,null,null,null,"14:15:00",null,null,null,null,null,null,null,null,null,null,null,null,null,null,null,null,"A",null,"X",null,null,"M3I","MISE A L'EAU DCP ECO","Eaux internationales","radeau",null,null,null,null,27.6,320,12,{"$f":"K83+L83+N83+P83+R83","v":0},{"$f":"IF(G83=\"x\", 1,0)","v":0},{"$f":"IF(H83=\"x\", 1,0)","v":0},null,null,{"$f":"IF(A83=\"\",\"\",2)","v":2}]
[null,"65°25e",null,null,null,null,null,null,null,null,null,null,null,null,null,null,null,null,null,null,null,null,null,null,null,null,null,null,null,null,100580]
["2018-01-08","02°24n",null,null,null,null,null,null,"15:15:00",null,null,null,null,null,null,null,null,null,null,null,null,null,null,null,null,"A",null,"X",null,null,"M3I+","MISE A L'EAU DCP ECO","Eaux internationales","radeau",null,null,null,null,27.4,310,12,{"$f":"K85+L85+N85+P85+R85","v":0},{"$f":"IF(G85=\"x\", 1,0)","v":0},{"$f":"IF(H85=\"x\", 1,0)","v":0},null,null,{"$f":"IF(A85=\"\",\"\",2)","v":2}]
[null,"65°13e",null,null,null,null,null,null,null,null,null,null,null,null,null,null,null,null,null,null,null,null,null,null,null,null,null,null,null,null,508856]
["2018-01-08","02°34n",null,null,null,null,null,null,"16:25:00",null,null,null,null,null,null,null,null,null,null,null,null,null,null,null,null,"A",null,"X",null,null,"M3I","MISE A L'EAU DCP ECO","Eaux internationales","radeau",null,null,null,null,27.6,320,12,{"$f":"K87+L87+N87+P87+R87","v":0},{"$f":"IF(G87=\"x\", 1,0)","v":0},{"$f":"IF(H87=\"x\", 1,0)","v":0},null,null,{"$f":"IF(A87=\"\",\"\",2)","v":2}]
[null,"65°02e",null,null,null,null,null,null,null,null,null,null,null,null,null,null,null,null,null,null,null,null,null,null,null,null,null,null,null,null,230616]
["2018-01-08","02°45n",null,null,null,null,null,null,"17:30:00",null,null,null,null,null,null,null,null,null,null,null,null,null,null,null,null,"A",null,"X",null,null,"M3I","MISE A L'EAU DCP ECO","Eaux internationales","radeau",null,null,null,null,27.5,320,12,{"$f":"K89+L89+N89+P89+R89","v":0},{"$f":"IF(G89=\"x\", 1,0)","v":0},{"$f":"IF(H89=\"x\", 1,0)","v":0},null,null,{"$f":"IF(A89=\"\",\"\",2)","v":2}]
[null,"64°52e",null,null,null,null,null,null,null,null,null,null,null,null,null,null,null,null,null,null,null,null,null,null,null,null,null,null,null,null,257207]
["2018-01-08","02°59n",null,null,null,null,null,null,"18:45:00",null,null,null,null,null,null,null,null,null,null,null,null,null,null,null,null,"A",null,"X",null,null,"M3I","MISE A L'EAU DCP ECO","Eaux internationales","radeau",null,null,null,null,27.8,320,12,{"$f":"K91+L91+N91+P91+R91","v":0},{"$f":"IF(G91=\"x\", 1,0)","v":0},{"$f":"IF(H91=\"x\", 1,0)","v":0},null,null,{"$f":"IF(A91=\"\",\"\",3)","v":3}]
[null,"64°41e",null,null,null,null,null,null,null,null,null,null,null,null,null,null,null,null,null,null,null,null,null,null,null,null,null,null,null,null,104949]
["2018-01-09","05°23n",null,null,null,null,"X",null,"07:35:00",12,3,3,2.2000000000000002,23,3,11,null,null,"RMB",null,0.2,null,null,null,null,"A",null,"X",null,null,"M3I","VISITE AVEC PECHE","Eaux internationales","radeau",null,null,null,null,27.6,330,10,{"$f":"K93+L93+N93+P93+R93","v":40},{"$f":"IF(G93=\"x\", 1,0)","v":1},{"$f":"IF(H93=\"x\", 1,0)","v":0},null,null,{"$f":"IF(A93=\"\",\"\",3)","v":3}]
[null,"62°56e",null,null,null,null,null,null,null,null,null,null,null,null,null,null,null,null,null,null,null,null,null,null,null,null,null,null,null,null,105213]
[null,null,null,null,null,null,null,null,null,null,null,null,null,null,null,null,null,null,"SWO",null,0.1,null,null,null,null,null,null,null,null,null,null,null,null,null,null,null,null,null,null,null,null,{"$f":"K95+L95+N95+P95+R95","v":0},{"$f":"IF(G95=\"x\", 1,0)","v":0},{"$f":"IF(H95=\"x\", 1,0)","v":0},null,null,{"$f":"IF(A95=\"\",\"\",3)","v":""}]
[]
[null,null,null,null,null,null,null,null,null,null,null,null,null,null,null,null,null,null,"FRZ",null,0.3,null,null,null,null,null,null,null,null,null,null,null,null,null,null,null,null,null,null,null,null,{"$f":"K97+L97+N97+P97+R97","v":0},{"$f":"IF(G97=\"x\", 1,0)","v":0},{"$f":"IF(H97=\"x\", 1,0)","v":0},null,null,{"$f":"IF(A97=\"\",\"\",3)","v":""}]
[]
["2018-01-09","06°02n",null,null,null,null,null,null,"14:00:00",null,null,null,null,null,null,null,null,null,null,null,null,null,null,null,null,"A",null,"X",null,null,"M3I","MISE A L'EAU DCP ECO","Eaux internationales","radeau",null,null,null,null,27.3,350,15,{"$f":"K99+L99+N99+P99+R99","v":0},{"$f":"IF(G99=\"x\", 1,0)","v":0},{"$f":"IF(H99=\"x\", 1,0)","v":0},null,null,{"$f":"IF(A99=\"\",\"\",3)","v":3}]
[null,"62°12e",null,null,null,null,null,null,null,null,null,null,null,null,null,null,null,null,null,null,null,null,null,null,null,null,null,null,null,null,203521]
["2018-01-09","06°10n",null,null,null,null,null,null,"15:45:00",null,null,null,null,null,null,null,null,null,null,null,null,null,null,null,null,"A",null,"X",null,null,"M3I","MISE A L'EAU DCP ECO","Eaux internationales","radeau",null,null,null,null,27.2,350,15,{"$f":"K101+L101+N101+P101+R101","v":0},{"$f":"IF(G101=\"x\", 1,0)","v":0},{"$f":"IF(H101=\"x\", 1,0)","v":0},null,null,{"$f":"IF(A101=\"\",\"\",3)","v":3}]
[null,"61°56e",null,null,null,null,null,null,null,null,null,null,null,null,null,null,null,null,null,null,null,null,null,null,null,null,null,null,null,null,257342]
["2018-01-09","06°15n",null,null,null,null,null,null,"17:30:00",null,null,null,null,null,null,null,null,null,null,null,null,null,null,null,null,"A",null,"X",null,null,"M3I","MISE A L'EAU DCP ECO","Eaux internationales","radeau",null,null,null,null,27.2,10,12,{"$f":"K103+L103+N103+P103+R103","v":0},{"$f":"IF(G103=\"x\", 1,0)","v":0},{"$f":"IF(H103=\"x\", 1,0)","v":0},null,null,{"$f":"IF(A103=\"\",\"\",3)","v":3}]
[null,"61°38e",null,null,null,null,null,null,null,null,null,null,null,null,null,null,null,null,null,null,null,null,null,null,null,null,null,null,null,null,105276]
["2018-01-10","06°28n",null,null,null,null,"X",null,"06:20:00",15,7,3,2.2000000000000002,25,null,null,null,null,"SWO",null,0.2,null,null,null,null,"A",null,"X",null,null,"M3I","VISITE AVEC PECHE","Eaux internationales","radeau",null,null,null,null,27.1,20,12,{"$f":"K105+L105+N105+P105+R105","v":35},{"$f":"IF(G105=\"x\", 1,0)","v":1},{"$f":"IF(H105=\"x\", 1,0)","v":0},null,null,{"$f":"IF(A105=\"\",\"\",3)","v":3}]
[null,"61°12e",null,null,null,null,null,null,null,null,null,null,null,null,null,null,null,null,null,null,null,null,null,null,null,null,null,null,null,null,256906]
[null,null,null,null,null,null,null,null,null,null,null,null,null,null,null,null,null,null,"FRZ",null,0.1,null,null,null,null,null,null,null,null,null,null,null,null,null,null,null,null,null,null,null,null,{"$f":"K107+L107+N107+P107+R107","v":0},{"$f":"IF(G107=\"x\", 1,0)","v":0},{"$f":"IF(H107=\"x\", 1,0)","v":0},null,null,{"$f":"IF(A107=\"\",\"\",3)","v":""}]
[]
["2018-01-10","06°38n",null,null,null,null,null,null,"11:00:00",null,null,null,null,null,null,null,null,null,null,null,null,null,null,null,null,"A",null,"X",null,null,"M3I","CHANGEMENT DE  BALISE","Eaux internationales","radeau",null,null,null,null,27.2,10,12,{"$f":"K109+L109+N109+P109+R109","v":0},{"$f":"IF(G109=\"x\", 1,0)","v":0},{"$f":"IF(H109=\"x\", 1,0)","v":0},null,null,{"$f":"IF(A109=\"\",\"\",3)","v":3}]
[null,"61°21e",null,null,null,null,null,null,null,null,null,null,null,null,null,null,null,null,null,null,null,null,null,null,null,null,null,null,null,null,103983]
["2018-01-10","06°03n",null,null,null,null,null,null,"18:00:00",null,null,null,null,null,null,null,null,null,null,null,null,null,null,null,null,"A",null,"X",null,null,"M3I","MISE A L'EAU DCP ECO","Eaux internationales","radeau",null,null,null,null,27.3,30,10,{"$f":"K111+L111+N111+P111+R111","v":0},{"$f":"IF(G111=\"x\", 1,0)","v":0},{"$f":"IF(H111=\"x\", 1,0)","v":0},null,null,{"$f":"IF(A111=\"\",\"\",3)","v":3}]
[null,"62°11e",null,null,null,null,null,null,null,null,null,null,null,null,null,null,null,null,null,null,null,null,null,null,null,null,null,null,null,null,100312]
["2018-01-11","05°04n",null,null,null,null,null,null,"10:30:00",null,null,null,null,null,null,null,null,null,null,null,null,null,null,null,null,"A",null,null,null,null,"M3I","MISE A L'EAU DCP ECO","Eaux internationales","radeau",null,null,null,null,26.9,340,15,{"$f":"K113+L113+N113+P113+R113","v":0},{"$f":"IF(G113=\"x\", 1,0)","v":0},{"$f":"IF(H113=\"x\", 1,0)","v":0},null,null,{"$f":"IF(A113=\"\",\"\",3)","v":3}]
[null,"61°35e",null,null,null,null,null,null,null,null,null,null,null,null,null,null,null,null,null,null,null,null,null,null,null,null,null,null,null,null,257404]
["2018-01-11","04°47n",null,null,null,null,"X",null,"13:00:00",12,1,2,2,5,3,2,null,null,"FRZ",null,0.1,null,null,null,null,"A",null,"X",null,null,"M3I","CHANGEMENT DE  BALISE","Eaux internationales","radeau",null,null,null,null,26.8,10,15,{"$f":"K115+L115+N115+P115+R115","v":10},{"$f":"IF(G115=\"x\", 1,0)","v":1},{"$f":"IF(H115=\"x\", 1,0)","v":0},null,null,{"$f":"IF(A115=\"\",\"\",3)","v":3}]
[null,"61°41e",null,null,null,null,null,null,null,null,null,null,null,null,null,null,null,null,null,null,null,null,null,null,null,null,null,null,null,null,257206]
["2018-01-11","04°30n",null,null,null,null,null,null,"16:45:00",null,null,null,null,null,null,null,null,null,null,null,null,null,null,null,null,"A",null,"X",null,null,"M3I+","MISE A L'EAU DCP ECO","Eaux internationales","radeau",null,null,null,null,26.9,350,15,{"$f":"K117+L117+N117+P117+R117","v":0},{"$f":"IF(G117=\"x\", 1,0)","v":0},{"$f":"IF(H117=\"x\", 1,0)","v":0},null,null,{"$f":"IF(A117=\"\",\"\",3)","v":3}]
[null,"61°46e",null,null,null,null,null,null,null,null,null,null,null,null,null,null,null,null,null,null,null,null,null,null,null,null,null,null,null,null,244768]
["2018-01-11","04°17n",null,null,null,null,null,null,"18:00:00",null,null,null,null,null,null,null,null,null,null,null,null,null,null,null,null,"A",null,"X",null,null,"M3I","MISE A L'EAU DCP ECO","Eaux internationales","radeau",null,null,null,null,26.8,345,12,{"$f":"K119+L119+N119+P119+R119","v":0},{"$f":"IF(G119=\"x\", 1,0)","v":0},{"$f":"IF(H119=\"x\", 1,0)","v":0},null,null,{"$f":"IF(A119=\"\",\"\",3)","v":3}]
[null,"61°50e",null,null,null,null,null,null,null,null,null,null,null,null,null,null,null,null,null,null,null,null,null,null,null,null,null,null,null,null,257174]
["2018-01-12","01°53n",null,null,null,null,null,null,"07:15:00",null,null,null,null,null,null,null,null,null,null,null,null,null,null,null,null,"A",null,"X",null,null,"M3I","MISE A L'EAU DCP ECO","Eaux internationales","tas de bout + radeau",null,null,null,null,26.5,350,10,{"$f":"K121+L121+N121+P121+R121","v":0},{"$f":"IF(G121=\"x\", 1,0)","v":0},{"$f":"IF(H121=\"x\", 1,0)","v":0},null,null,{"$f":"IF(A121=\"\",\"\",3)","v":3}]
[null,"62°39e",null,null,null,null,null,null,null,null,null,null,null,null,null,null,null,null,null,null,null,null,null,null,null,null,null,null,null,null,221049]
["2018-01-13","02°58s",null,null,null,null,"X",null,"09:20:00",null,null,10,2.2000000000000002,30,3,10,null,null,"RRU",null,0.5,null,null,null,null,"A",null,"X",null,null,"M3I+","VISITE AVEC PECHE","Eaux internationales","radeau",null,null,null,null,27.3,340,10,{"$f":"K123+L123+N123+P123+R123","v":50},{"$f":"IF(G123=\"x\", 1,0)","v":1},{"$f":"IF(H123=\"x\", 1,0)","v":0},null,null,{"$f":"IF(A123=\"\",\"\",3)","v":3}]
[null,"64°59e",null,null,null,null,null,null,null,null,null,null,null,null,null,null,null,null,null,null,null,null,null,null,null,null,null,null,null,null,516328]
["2018-01-13","02°43s",null,null,null,null,null,null,"15:45:00",null,null,null,null,null,null,null,null,null,null,null,null,null,null,null,null,"A",null,"X",null,null,"M3I","RETRAIT","Eaux internationales","radeau",null,null,null,null,27.9,330,10,{"$f":"K125+L125+N125+P125+R125","v":0},{"$f":"IF(G125=\"x\", 1,0)","v":0},{"$f":"IF(H125=\"x\", 1,0)","v":0},null,null,{"$f":"IF(A125=\"\",\"\",4)","v":4}]
[null,"65°29e",null,null,null,null,null,null,null,null,null,null,null,null,null,null,null,null,null,null,null,null,null,null,null,null,null,null,null,null,100531]
["2018-01-14","02°58s",null,null,null,null,"X",null,"06:50:00",null,null,3,2.2000000000000002,5,null,null,null,null,"RRU",null,0.1,null,null,null,null,"A",null,"X",null,null,"M3I+","VISITE AVEC PECHE","Eaux internationales","radeau",null,null,null,null,27.3,350,10,8,{"$f":"IF(G127=\"x\", 1,0)","v":1},{"$f":"IF(H127=\"x\", 1,0)","v":0},null,null,{"$f":"IF(A127=\"\",\"\",4)","v":4}]
[null,"65°27e",null,null,null,null,null,null,null,null,null,null,null,null,null,null,null,null,null,null,null,null,null,null,null,null,null,null,null,null,516328]
["2018-01-15","02°27s",null,null,null,null,"X",null,"11:50:00",15,10,4,2.2000000000000002,10,3,4,null,null,null,null,null,null,null,null,null,"A",null,"X",null,null,"M3I","RETRAIT","Eaux internationales","radeau",null,null,null,null,27.2,345,10,28,{"$f":"IF(G129=\"x\", 1,0)","v":1},{"$f":"IF(H129=\"x\", 1,0)","v":0},null,null,{"$f":"IF(A129=\"\",\"\",4)","v":4}]
[null,"68°40e",null,null,null,null,null,null,null,null,null,null,null,null,null,null,null,null,null,null,null,null,null,null,null,null,null,null,null,null,257059]
["2018-01-16","02°25s",null,null,null,null,"X",null,"06:35:00",15,5,2,2.2000000000000002,1,3,2,null,null,null,null,null,null,null,null,null,"A",null,"X",null,null,"M3I","RETRAIT","Eaux internationales","radeau",null,null,null,null,27.2,330,5,10,{"$f":"IF(G131=\"x\", 1,0)","v":1},{"$f":"IF(H131=\"x\", 1,0)","v":0},null,null,{"$f":"IF(A131=\"\",\"\",4)","v":4}]
[null,"69°04e",null,null,null,null,null,null,null,null,null,null,null,null,null,null,null,null,null,null,null,null,null,null,null,null,null,null,null,null,210487]
["2018-01-17","04°24s",null,null,null,null,"X",null,"07:40:00",null,null,1,2.2000000000000002,8,3,1,null,null,"RRU",null,0.1,null,null,null,null,"A",null,"X",null,null,"M3I",null,"Eaux internationales","radeau sans bouée",null,null,null,null,27.4,260,10,10,{"$f":"IF(G133=\"x\", 1,0)","v":1},{"$f":"IF(H133=\"x\", 1,0)","v":0},null,null,{"$f":"IF(A133=\"\",\"\",4)","v":4}]
[null,"68°15e",null,null,null,null,null,null,null,null,null,null,null,null,null,null,null,null,null,null,null,null,null,null,null,null,null,null,null,null,105269]
["2018-01-18","04°36s",null,null,null,null,"X",null,"06:45:00",null,null,4,2.2000000000000002,14,3,2,null,null,"RRU",null,0.1,null,null,null,null,"A",null,"X",null,null,"M3I+","VISITE AVEC PECHE","Eaux internationales","radeau",null,null,null,null,27.5,230,10,20,{"$f":"IF(G135=\"x\", 1,0)","v":1},{"$f":"IF(H135=\"x\", 1,0)","v":0},null,null,{"$f":"IF(A135=\"\",\"\",4)","v":4}]
[null,"67°13e",null,null,null,null,null,null,null,null,null,null,null,null,null,null,null,null,null,null,null,null,null,null,null,null,null,null,null,null,100684]
["2018-01-18","04°30s",null,null,null,null,null,null,"11:35:00",null,null,null,null,null,null,null,null,null,null,null,null,null,null,null,null,"A",null,"X",null,null,"M3I","CHANGEMENT DE  BALISE","Eaux internationales","radeau",null,null,null,null,27.5,330,10,0,{"$f":"IF(G137=\"x\", 1,0)","v":0},{"$f":"IF(H137=\"x\", 1,0)","v":0},null,null,{"$f":"IF(A137=\"\",\"\",4)","v":4}]
[null,"66°44e",null,null,null,null,null,null,null,null,null,null,null,null,null,null,null,null,null,null,null,null,null,null,null,null,null,null,null,null,104363]
["2018-01-19","02°58s",null,null,null,null,null,null,"17:40:00",null,null,null,null,null,null,null,null,null,null,null,null,null,null,null,null,null,null,null,null,null,null,null,"Eaux internationales","ras",null,null,null,null,27.6,280,10,{"$f":"K139+L139+N139+P139+R139","v":0},{"$f":"IF(G139=\"x\", 1,0)","v":0},{"$f":"IF(H139=\"x\", 1,0)","v":0},null,null,{"$f":"IF(A139=\"\",\"\",4)","v":4}]
[null,"61°32e"]
["2018-01-20","02°34s",null,null,null,null,null,null,"18:00:00",null,null,null,null,null,null,null,null,null,null,null,null,null,null,null,null,null,null,null,null,null,null,null,"Seychelles","ras",null,null,null,null,27.4,320,12,{"$f":"K141+L141+N141+P141+R141","v":0},{"$f":"IF(G143=\"x\", 1,0)","v":0},{"$f":"IF(H141=\"x\", 1,0)","v":0},null,null,{"$f":"IF(A141=\"\",\"\",4)","v":4}]
[null,"56°35e"]
["2018-01-21","02°43s",null,null,null,null,null,null,"17:30:00",null,null,null,null,null,null,null,null,null,null,null,null,null,null,null,null,null,null,null,null,null,null,null,"Seychelles","ras",null,null,null,null,26.4,340,10,{"$f":"K143+L143+N143+P143+R143","v":0},{"$f":"IF(#REF!=\"x\", 1,0)","v":{"$error":"#REF!"}},{"$f":"IF(H143=\"x\", 1,0)","v":0},null,null,{"$f":"IF(A143=\"\",\"\",4)","v":4}]
[null,"51°35e"]
["2018-01-22","02°43s",null,null,null,null,"X",null,"08:00:00",15,18,2,2.2000000000000002,32,null,null,null,null,null,null,null,null,null,null,null,"A",null,"X",null,null,"M3I","CHANGEMENT DE  BALISE","Seychelles","radeau",null,null,null,null,26.1,330,12,{"$f":"K145+L145+N145+P145+R145","v":52},{"$f":"IF(G145=\"x\", 1,0)","v":1},{"$f":"IF(H145=\"x\", 1,0)","v":0},null,null,{"$f":"IF(A145=\"\",\"\",4)","v":4}]
[null,"51°20e",null,null,null,null,null,null,null,null,null,null,null,null,null,null,null,null,null,null,null,null,null,null,null,null,null,null,null,null,100362]
["2018-01-22","03°22s",null,null,null,null,null,null,"16:00:00",null,null,null,null,null,null,null,null,null,null,null,null,null,null,null,null,"A",null,"X",null,null,"M3I","MISE A L'EAU DCP ECO","Seychelles","radeau",null,null,null,null,26.4,340,12,{"$f":"K147+L147+N147+P147+R147","v":0},{"$f":"IF(G147=\"x\", 1,0)","v":0},{"$f":"IF(H147=\"x\", 1,0)","v":0},null,null,{"$f":"IF(A147=\"\",\"\",4)","v":4}]
[null,"50°39e",null,null,null,null,null,null,null,null,null,null,null,null,null,null,null,null,null,null,null,null,null,null,null,null,null,null,null,null,100496]
["2018-01-22","02°59s",null,null,null,null,null,null,"18:30:00",null,null,null,null,null,null,null,null,null,null,null,null,null,null,null,null,"A",null,"X",null,null,"M3I","MISE A L'EAU DCP ECO","Seychelles","radeau",null,null,null,null,26.2,40,12,{"$f":"K149+L149+N149+P149+R149","v":0},{"$f":"IF(G149=\"x\", 1,0)","v":0},{"$f":"IF(H149=\"x\", 1,0)","v":0},null,null,{"$f":"IF(A149=\"\",\"\",4)","v":4}]
[null,"50°53e",null,null,null,null,null,null,null,null,null,null,null,null,null,null,null,null,null,null,null,null,null,null,null,null,null,null,null,null,104974]
["2018-01-23","01°22s",null,null,null,null,null,null,"13:40:00",null,null,null,null,null,null,null,null,null,null,null,null,null,null,null,null,"A",null,"X",null,null,"M3I","MISE A L'EAU DCP ECO","Eaux internationales","radeau",null,null,null,null,26.1,350,10,{"$f":"K151+L151+N151+P151+R151","v":0},{"$f":"IF(G151=\"x\", 1,0)","v":0},{"$f":"IF(H151=\"x\", 1,0)","v":0},null,null,{"$f":"IF(A151=\"\",\"\",4)","v":4}]
[null,"51°37e",null,null,null,null,null,null,null,null,null,null,null,null,null,null,null,null,null,null,null,null,null,null,null,null,null,null,null,null,257223]
["2018-01-23","01°57s",null,null,null,null,null,null,"17:20:00",null,null,null,null,null,null,null,null,null,null,null,null,null,null,null,null,"A",null,"X",null,null,"M3I","CHANGEMENT DE  BALISE","Seychelles","radeau",null,null,null,null,26.8,10,12,{"$f":"K153+L153+N153+P153+R153","v":0},{"$f":"IF(G153=\"x\", 1,0)","v":0},{"$f":"IF(H153=\"x\", 1,0)","v":0},null,null,{"$f":"IF(A153=\"\",\"\",4)","v":4}]
[null,"52°02e",null,null,null,null,null,null,null,null,null,null,null,null,null,null,null,null,null,null,null,null,null,null,null,null,null,null,null,null,210487]
["2018-01-24","03°08s",null,null,null,null,"X",null,"10:35:00",null,null,null,2.2000000000000002,26,null,null,12,1,null,null,null,null,null,null,null,"N",null,"X",null,null,"M3I","MISE A L'EAU DCP ECO","Seychelles","bout de palangre+ radeau ",null,null,null,null,26.6,30,10,{"$f":"K155+L155+N155+P155+R155","v":27},{"$f":"IF(G155=\"x\", 1,0)","v":1},{"$f":"IF(H155=\"x\", 1,0)","v":0},null,null,{"$f":"IF(A155=\"\",\"\",4)","v":4}]
[null,"51°24e",null,null,null,null,null,null,null,null,null,null,null,null,null,null,null,null,null,null,null,null,null,null,null,null,null,null,null,null,257059]
["2018-01-24","03°23s",null,null,null,null,"X",null,"15:40:00",15,8,7,null,null,null,null,null,null,"DOL",null,0.1,null,null,null,null,"A",null,"X",null,null,"M3I","VISITE AVEC PECHE","Seychelles","radeau",null,null,null,null,26.3,340,10,{"$f":"K157+L157+N157+P157+R157","v":15},{"$f":"IF(G157=\"x\", 1,0)","v":1},{"$f":"IF(H157=\"x\", 1,0)","v":0},null,null,{"$f":"IF(A157=\"\",\"\",4)","v":4}]
[null,"50°50e",null,null,null,null,null,null,null,null,null,null,null,null,null,null,null,null,null,null,null,null,null,null,null,null,null,null,null,null,100607]
["2018-01-25","04°23s",null,null,null,null,"X",null,"09:15:00",15,11,3,2.2000000000000002,5,3,1,null,null,null,null,null,null,null,null,null,"A",null,"X",null,null,"M3I","CHANGEMENT DE  BALISE","Seychelles","radeau",null,null,null,null,26.3,290,10,{"$f":"K159+L159+N159+P159+R159","v":20},{"$f":"IF(G159=\"x\", 1,0)","v":1},{"$f":"IF(H159=\"x\", 1,0)","v":0},null,null,{"$f":"IF(A159=\"\",\"\",5)","v":5}]
[null,"51°08e",null,null,null,null,null,null,null,null,null,null,null,null,null,null,null,null,null,null,null,null,null,null,null,null,null,null,null,null,104849]
["2018-01-25","04°17s",null,null,null,null,"X",null,"12:15:00",50,25,null,null,null,null,null,null,null,null,null,null,null,null,null,"X",null,null,null,null,null,null,null,"Seychelles","matte Yellowfin",null,null,null,null,26.4,290,12,{"$f":"K161+L161+N161+P161+R161","v":25},{"$f":"IF(G161=\"x\", 1,0)","v":1},{"$f":"IF(H161=\"x\", 1,0)","v":0},null,null,{"$f":"IF(A161=\"\",\"\",5)","v":5}]
[null,"51°14e"]
["2018-01-25","04°16s",null,null,null,null,null,"X","15:10:00",null,null,null,null,null,null,null,null,null,null,null,null,null,null,null,"X",null,null,null,null,null,null,null,"Seychelles","matte Yellowfin",null,null,null,null,26.4,290,10,{"$f":"K163+L163+N163+P163+R163","v":0},{"$f":"IF(G163=\"x\", 1,0)","v":0},{"$f":"IF(H163=\"x\", 1,0)","v":1},null,null,{"$f":"IF(A163=\"\",\"\",5)","v":5}]
[null,"51°18e"]
["2018-01-26","04°20s",null,null,null,null,null,"X","10:15:00",null,null,null,null,null,null,null,null,null,null,null,null,null,null,null,null,"N",null,"X",null,null,"M3I",null,"Seychelles","tas de palangre",null,null,null,null,26.4,350,10]
[null,"51°36e",null,null,null,null,null,null,null,null,null,null,null,null,null,null,null,null,null,null,null,null,null,null,null,null,null,null,null,null,100491]
["2018-01-26","04°31s",null,null,null,null,"X",null,"14:30:00",15,19,1,null,null,null,null,null,null,null,null,null,null,null,null,"X",null,null,null,null,null,null,null,"Seychelles","matte Yellowfin",null,null,null,null,26.6,20,10,{"$f":"K167+L167+N167+P167+R167","v":20},{"$f":"IF(G167=\"x\", 1,0)","v":1},{"$f":"IF(H167=\"x\", 1,0)","v":0},null,null,{"$f":"IF(A167=\"\",\"\",5)","v":5}]
[null,"51°43e"]
["2018-01-27","00°02s",null,null,null,null,null,null,"15:20:00",null,null,null,null,null,null,null,null,null,null,null,null,null,null,null,null,"A",null,"X",null,null,"M3I","CHANGEMENT DE  BALISE","Eaux internationales","radeau",null,null,null,null,26,35,12,{"$f":"K169+L169+N169+P169+R169","v":0},{"$f":"IF(G169=\"x\", 1,0)","v":0},{"$f":"IF(H169=\"x\", 1,0)","v":0},null,null,{"$f":"IF(A169=\"\",\"\",5)","v":5}]
[null,"53°25e",null,null,null,null,null,null,null,null,null,null,null,null,null,null,null,null,null,null,null,null,null,null,null,null,null,null,null,null,104374]
["2018-01-28","03°08n",null,null,null,null,"X",null,"09:00:00",15,13,8,2.2000000000000002,13,3,6,null,null,null,null,null,null,null,null,null,"A",null,"X",null,null,"M3I","CHANGEMENT DE  BALISE","Eaux internationales","radeau",null,null,null,null,25.9,330,5,{"$f":"K171+L171+N171+P171+R171","v":40},{"$f":"IF(G171=\"x\", 1,0)","v":1},{"$f":"IF(H171=\"x\", 1,0)","v":0},null,null,{"$f":"IF(A171=\"\",\"\",5)","v":5}]
[null,"55°07e",null,null,null,null,null,null,null,null,null,null,null,null,null,null,null,null,null,null,null,null,null,null,null,null,null,null,null,null,104875]
["2018-01-28","03°24n",null,null,null,null,null,null,"13:30:00",null,null,null,null,null,null,null,null,null,null,null,null,null,null,null,null,"N",null,"X",null,null,"M3I","MISE A L'EAU DCP ECO","Eaux internationales","pallette plastique+ radeau",null,null,null,null,26.3,330,5,{"$f":"K173+L173+N173+P173+R173","v":0},{"$f":"IF(G173=\"x\", 1,0)","v":0},{"$f":"IF(H173=\"x\", 1,0)","v":0},null,null,{"$f":"IF(A173=\"\",\"\",5)","v":5}]
[null,"55°20e",null,null,null,null,null,null,null,null,null,null,null,null,null,null,null,null,null,null,null,null,null,null,null,null,null,null,null,null,104854]
["2018-01-28","03°37n",null,null,null,null,"X",null,"14:55:00",null,null,null,2.2000000000000002,17,null,null,null,null,"FRZ",null,0.5,null,null,null,null,"A",null,"X",null,null,"M3I+","CHANGEMENT DE  BALISE","Eaux internationales","radeau",null,null,null,null,26.5,340,10,{"$f":"K175+L175+N175+P175+R175","v":17},{"$f":"IF(G175=\"x\", 1,0)","v":1},{"$f":"IF(H175=\"x\", 1,0)","v":0},null,null,{"$f":"IF(A175=\"\",\"\",5)","v":5}]
[null,"55°26e",null,null,null,null,null,null,null,null,null,null,null,null,null,null,null,null,null,null,null,null,null,null,null,null,null,null,null,null,519143]
["2018-01-29","04°45n",null,null,null,null,"X",null,"07:20:00",null,null,3,2.2000000000000002,27,3,3,null,null,"SWO",null,0.3,null,null,null,null,"A",null,null,null,null,null,null,"Eaux internationales","radeau",null,null,null,null,26.1,330,10,{"$f":"K177+L177+N177+P177+R177","v":33},{"$f":"IF(G177=\"x\", 1,0)","v":1},{"$f":"IF(H177=\"x\", 1,0)","v":0},null,null,{"$f":"IF(A177=\"\",\"\",5)","v":5}]
[null,"56°12e"]
["2018-01-29","04°42n",null,null,null,null,null,null,"11:20:00",null,null,null,null,null,null,null,null,null,null,null,null,null,null,null,null,"A",null,"X",null,null,"M3I+","CHANGEMENT DE  BALISE","Eaux internationales","radeau + ajouté radeau",null,null,null,null,26.2,340,10,{"$f":"K179+L179+N179+P179+R179","v":0},{"$f":"IF(G179=\"x\", 1,0)","v":0},{"$f":"IF(H179=\"x\", 1,0)","v":0},null,null,{"$f":"IF(A179=\"\",\"\",5)","v":5}]
[null,"56°19e",null,null,null,null,null,null,null,null,null,null,null,null,null,null,null,null,null,null,null,null,null,null,null,null,null,null,null,null,516750]
["2018-01-29","04°40n",null,null,null,null,null,null,"14:05:00",null,null,null,null,null,null,null,null,null,null,null,null,null,null,null,null,"A",null,"X",null,null,"M3I","CHANGEMENT DE  BALISE","Eaux internationales","radeau",null,null,null,null,26.3,300,10,{"$f":"K181+L181+N181+P181+R181","v":0},{"$f":"IF(G181=\"x\", 1,0)","v":0},{"$f":"IF(H181=\"x\", 1,0)","v":0},null,null,{"$f":"IF(A181=\"\",\"\",5)","v":5}]
[null,"55°47e",null,null,null,null,null,null,null,null,null,null,null,null,null,null,null,null,null,null,null,null,null,null,null,null,null,null,null,null,107579]
["2018-01-30","04°47n",null,null,null,null,"X",null,"06:45:00",15,5,5,2.2000000000000002,37,3,6,null,null,"SWO",null,0.1,null,null,null,null,"A",null,"X",null,null,"M3I","VISITE AVEC PECHE","Eaux internationales","radeau",null,null,null,null,26,350,12,{"$f":"K183+L183+N183+P183+R183","v":53},{"$f":"IF(G183=\"x\", 1,0)","v":1},{"$f":"IF(H183=\"x\", 1,0)","v":0},null,null,{"$f":"IF(A183=\"\",\"\",5)","v":5}]
[null,"55°42e",null,null,null,null,null,null,null,null,null,null,null,null,null,null,null,null,null,null,null,null,null,null,null,null,null,null,null,null,107579]
[null,null,null,null,null,null,null,null,null,null,null,null,null,null,null,null,null,null,"DOL",null,0.1,null,null,null,null,null,null,null,null,null,null,null,null,null,null,null,null,null,null,null,null,{"$f":"K185+L185+N185+P185+R185","v":0},{"$f":"IF(G185=\"x\", 1,0)","v":0},{"$f":"IF(H185=\"x\", 1,0)","v":0},null,null,{"$f":"IF(A185=\"\",\"\",5)","v":""}]
[]
[null,null,null,null,null,null,null,null,null,null,null,null,null,null,null,null,null,null,"FRZ",null,0.1,null,null,null,null,null,null,null,null,null,null,null,null,null,null,null,null,null,null,null,null,0]
[]
["2018-01-30","04°38n",null,null,null,null,"X",null,"10:30:00",null,null,null,2.2000000000000002,12,null,null,null,null,null,null,null,null,null,null,null,"A",null,null,null,null,null,null,"Eaux internationales","radeau",null,null,null,null,26.1,340,12,{"$f":"K189+L189+N189+P189+R189","v":12},{"$f":"IF(G189=\"x\", 1,0)","v":1},{"$f":"IF(H189=\"x\", 1,0)","v":0},null,null,{"$f":"IF(A189=\"\",\"\",5)","v":5}]
[null,"55°50e"]
["2018-01-31","04°32n",null,null,null,null,"X",null,"11:15:00",15,7,2,2.2000000000000002,29,3,2,null,null,"FRZ",null,0.1,null,null,null,null,"A",null,"X",null,null,"M3I","CHANGEMENT DE  BALISE","Eaux internationales","radeau",null,null,null,null,26.2,350,10,{"$f":"K191+L191+N191+P191+R191","v":40},{"$f":"IF(G191=\"x\", 1,0)","v":1},{"$f":"IF(H191=\"x\", 1,0)","v":0},null,null,{"$f":"IF(A191=\"\",\"\",5)","v":5}]
[null,"55°22e",null,null,null,null,null,null,null,null,null,null,null,null,null,null,null,null,null,null,null,null,null,null,null,null,null,null,null,null,107624]
["2018-01-31","04°17n",null,null,null,null,null,null,"17:10:00",null,null,null,null,null,null,null,null,null,null,null,null,null,null,null,null,"A",null,"X",null,null,"M3I+","MISE A L'EAU DCP ECO","Eaux internationales","radeau",null,null,null,null,26.1,280,10,{"$f":"K193+L193+N193+P193+R193","v":0},{"$f":"IF(G193=\"x\", 1,0)","v":0},{"$f":"IF(H193=\"x\", 1,0)","v":0},null,null,{"$f":"IF(A193=\"\",\"\",5)","v":5}]
[null,"54°44e",null,null,null,null,null,null,null,null,null,null,null,null,null,null,null,null,null,null,null,null,null,null,null,null,null,null,null,null,516715]
["2018-01-31","04°11n",null,null,null,null,null,null,"18:30:00",null,null,null,null,null,null,null,null,null,null,null,null,null,null,null,null,"A",null,"X",null,null,"M3I","MISE A L'EAU DCP ECO","Eaux internationales","radeau",null,null,null,null,26,290,5,{"$f":"K195+L195+N195+P195+R195","v":0},{"$f":"IF(G195=\"x\", 1,0)","v":0},{"$f":"IF(H195=\"x\", 1,0)","v":0},null,null,{"$f":"IF(A195=\"\",\"\",5)","v":5}]
[null,"54°27e",null,null,null,null,null,null,null,null,null,null,null,null,null,null,null,null,null,null,null,null,null,null,null,null,null,null,null,null,100565]
["2018-02-01","04°05n",null,null,null,null,null,null,"06:20:00",null,null,null,null,null,null,null,null,null,null,null,null,null,null,null,null,"A",null,"X",null,null,"M3I+","MISE A L'EAU DCP ECO","Eaux internationales","radeau",null,null,null,null,25.8,30,10,{"$f":"K197+L197+N197+P197+R197","v":0},{"$f":"IF(G197=\"x\", 1,0)","v":0},{"$f":"IF(H197=\"x\", 1,0)","v":0},null,null,{"$f":"IF(A197=\"\",\"\",6)","v":6}]
[null,"54°08e",null,null,null,null,null,null,null,null,null,null,null,null,null,null,null,null,null,null,null,null,null,null,null,null,null,null,null,null,518953]
["2018-02-01","03°58n",null,null,null,null,null,null,"07:45:00",null,null,null,null,null,null,null,null,null,null,null,null,null,null,null,null,"A",null,"X",null,null,"M3I","MISE A L'EAU DCP ECO","Eaux internationales","radeau",null,null,null,null,25.7,40,10,{"$f":"K199+L199+N199+P199+R199","v":0},{"$f":"IF(G199=\"x\", 1,0)","v":0},{"$f":"IF(H199=\"x\", 1,0)","v":0},null,null,{"$f":"IF(A199=\"\",\"\",6)","v":6}]
[null,"53°50e",null,null,null,null,null,null,null,null,null,null,null,null,null,null,null,null,null,null,null,null,null,null,null,null,null,null,null,null,203860]
["2018-02-01","03°50n",null,null,null,null,null,null,"09:00:00",null,null,null,null,null,null,null,null,null,null,null,null,null,null,null,null,"A",null,"X",null,null,"M3I+","MISE A L'EAU DCP ECO","Eaux internationales","radeau",null,null,null,null,25.7,40,5,{"$f":"K201+L201+N201+P201+R201","v":0},{"$f":"IF(G201=\"x\", 1,0)","v":0},{"$f":"IF(H201=\"x\", 1,0)","v":0},null,null,{"$f":"IF(A201=\"\",\"\",6)","v":6}]
[null,"53°34e",null,null,null,null,null,null,null,null,null,null,null,null,null,null,null,null,null,null,null,null,null,null,null,null,null,null,null,null,519156]
["2018-02-01","03°46n",null,null,null,null,"X",null,"09:50:00",null,null,8,2,7,3,8,null,null,"FRZ",null,0.2,null,null,null,"X",null,null,null,null,null,null,null,null,"matte skj",null,null,null,null,25.7,50,10,{"$f":"K203+L203+N203+P203+R203","v":23},{"$f":"IF(G203=\"x\", 1,0)","v":1},{"$f":"IF(H203=\"x\", 1,0)","v":0},null,null,{"$f":"IF(A203=\"\",\"\",6)","v":6}]
[null,"53°31e"]
["2018-02-01","03°39n",null,null,null,null,null,null,"14:00:00",null,null,null,null,null,null,null,null,null,null,null,null,null,null,null,null,"A",null,"X",null,null,"M3I","MISE A L'EAU DCP ECO","Eaux internationales","radeau",null,null,null,null,25.9,45,12,{"$f":"K205+L205+N205+P205+R205","v":0},{"$f":"IF(G205=\"x\", 1,0)","v":0},{"$f":"IF(H205=\"x\", 1,0)","v":0},null,null,{"$f":"IF(A205=\"\",\"\",6)","v":6}]
[null,"53°20e",null,null,null,null,null,null,null,null,null,null,null,null,null,null,null,null,null,null,null,null,null,null,null,null,null,null,null,null,107654]
["2018-02-01","03°33n",null,null,null,null,null,null,"15:25:00",null,null,null,null,null,null,null,null,null,null,null,null,null,null,null,null,"A",null,"X",null,null,"M3I+","MISE A L'EAU DCP ECO","Eaux internationales","radeau",null,null,null,null,25.9,60,10,{"$f":"K207+L207+N207+P207+R207","v":0},{"$f":"IF(G207=\"x\", 1,0)","v":0},{"$f":"IF(H207=\"x\", 1,0)","v":0},null,null,{"$f":"IF(A207=\"\",\"\",6)","v":6}]
[null,"53°02e",null,null,null,null,null,null,null,null,null,null,null,null,null,null,null,null,null,null,null,null,null,null,null,null,null,null,null,null,519044]
["2018-02-01","03°16n",null,null,null,null,null,null,"16:45:00",null,null,null,null,null,null,null,null,null,null,null,null,null,null,null,null,"A",null,"X",null,null,"M3I","MISE A L'EAU DCP ECO","Eaux internationales","radeau",null,null,null,null,26,10,10,{"$f":"K209+L209+N209+P209+R209","v":0},{"$f":"IF(G209=\"x\", 1,0)","v":0},{"$f":"IF(H209=\"x\", 1,0)","v":0},null,null,{"$f":"IF(A209=\"\",\"\",6)","v":6}]
[null,"53°02e",null,null,null,null,null,null,null,null,null,null,null,null,null,null,null,null,null,null,null,null,null,null,null,null,null,null,null,null,104251]
["2018-02-01","02°55n",null,null,null,null,null,null,"18:20:00",null,null,null,null,null,null,null,null,null,null,null,null,null,null,null,null,"A",null,"X",null,null,"M3I+","MISE A L'EAU DCP ECO","Eaux internationales","radeau",null,null,null,null,26,15,12,{"$f":"K211+L211+N211+P211+R211","v":0},{"$f":"IF(G211=\"x\", 1,0)","v":0},{"$f":"IF(H211=\"x\", 1,0)","v":0},null,null,{"$f":"IF(A211=\"\",\"\",6)","v":6}]
[null,"53°04e",null,null,null,null,null,null,null,null,null,null,null,null,null,null,null,null,null,null,null,null,null,null,null,null,null,null,null,null,519005]
["2018-02-02","00°12n",null,null,null,null,null,null,"06:25:00",null,null,null,null,null,null,null,null,null,null,null,null,null,null,null,null,"A",null,"X",null,null,"M3I","MISE A L'EAU DCP ECO","Eaux internationales","radeau",null,null,null,null,25.8,350,10,{"$f":"K213+L213+N213+P213+R213","v":0},{"$f":"IF(G213=\"x\", 1,0)","v":0},{"$f":"IF(H213=\"x\", 1,0)","v":0},null,null,{"$f":"IF(A213=\"\",\"\",6)","v":6}]
[null,"53°17e",null,null,null,null,null,null,null,null,null,null,null,null,null,null,null,null,null,null,null,null,null,null,null,null,null,null,null,null,210887]
["2018-02-02","00°50s",null,null,null,null,null,null,"11:45:00",null,null,null,null,null,null,null,null,null,null,null,null,null,null,null,null,"A",null,"X",null,null,"M3I","CHANGEMENT DE  BALISE","Eaux internationales","radeau",null,null,null,null,27.1,20,10,{"$f":"K215+L215+N215+P215+R215","v":0},{"$f":"IF(G215=\"x\", 1,0)","v":0},{"$f":"IF(H215=\"x\", 1,0)","v":0},null,null,{"$f":"IF(A215=\"\",\"\",6)","v":6}]
[null,"53°29e",null,null,null,null,null,null,null,null,null,null,null,null,null,null,null,null,null,null,null,null,null,null,null,null,null,null,null,null,230592]
["2018-02-02","01°09s",null,null,null,null,null,null,"13:45:00",null,null,null,null,null,null,null,null,null,null,null,null,null,null,null,null,"A",null,"X",null,null,"M3I+","MISE A L'EAU DCP ECO","Seychelles","radeau",null,null,null,null,27.1,350,10,{"$f":"K217+L217+N217+P217+R217","v":0},{"$f":"IF(G217=\"x\", 1,0)","v":0},{"$f":"IF(H217=\"x\", 1,0)","v":0},null,null,{"$f":"IF(A217=\"\",\"\",6)","v":6}]
[null,"53°45e",null,null,null,null,null,null,null,null,null,null,null,null,null,null,null,null,null,null,null,null,null,null,null,null,null,null,null,null,519033]
["2018-02-02","01°26s",null,null,null,null,null,null,"15:20:00",null,null,null,null,null,null,null,null,null,null,null,null,null,null,null,null,"A",null,"X",null,null,"M3I","MISE A L'EAU DCP ECO","Seychelles","radeau",null,null,null,null,27,345,10,{"$f":"K219+L219+N219+P219+R219","v":0},{"$f":"IF(G219=\"x\", 1,0)","v":0},{"$f":"IF(H219=\"x\", 1,0)","v":0},null,null,{"$f":"IF(A219=\"\",\"\",6)","v":6}]
[null,"53°57e",null,null,null,null,null,null,null,null,null,null,null,null,null,null,null,null,null,null,null,null,null,null,null,null,null,null,null,null,104267]
["2018-02-03",null,null,null,null,null,null,null,null,null,null,null,null,null,null,null,null,null,null,null,null,null,null,null,null,null,null,null,null,null,null,null,null,"Port Victoria 07:00 heures",null,null,null,null,null,null,null,{"$f":"K221+L221+N221+P221+R221","v":0},{"$f":"IF(G221=\"x\", 1,0)","v":0},{"$f":"IF(H221=\"x\", 1,0)","v":0},null,null,{"$f":"IF(A221=\"\",\"\",6)","v":6}]
[]
[null,null,null,null,null,null,null,null,null,null,null,null,null,null,null,null,null,null,null,null,null,null,null,null,null,null,null,null,null,null,null,null,null,null,null,null,null,null,null,null,null,{"$f":"K223+L223+N223+P223+R223","v":0},{"$f":"IF(G223=\"x\", 1,0)","v":0},{"$f":"IF(H223=\"x\", 1,0)","v":0},null,null,{"$f":"IF(A223=\"\",\"\",6)","v":""}]
[]
[null,null,null,null,null,null,null,null,null,null,null,null,null,null,null,null,null,null,null,null,null,null,null,null,null,null,null,null,null,null,null,null,null,null,null,null,null,null,null,null,null,{"$f":"K225+L225+N225+P225+R225","v":0}]
[]
[null,null,null,null,null,null,null,null,null,null,null,null,null,null,null,null,null,null,null,null,null,null,null,null,null,null,null,null,null,null,null,null,null,null,null,null,null,null,null,null,null,{"$f":"K227+L227+N227+P227+R227","v":0},{"$f":"IF(G227=\"x\", 1,0)","v":0},{"$f":"IF(H227=\"x\", 1,0)","v":0},null,null,{"$f":"IF(A227=\"\",\"\",6)","v":""}]
[]
[null,null,null,null,null,null,null,null,null,null,null,null,null,null,null,null,null,null,null,null,null,null,null,null,null,null,null,null,null,null,null,null,null,null,null,null,null,null,null,null,null,{"$f":"K229+L229+N229+P229+R229","v":0},{"$f":"IF(G229=\"x\", 1,0)","v":0},{"$f":"IF(H229=\"x\", 1,0)","v":0},null,null,{"$f":"IF(A229=\"\",\"\",6)","v":""}]
[]
[null,null,null,null,null,null,null,null,null,null,null,null,null,null,null,null,null,null,null,null,null,null,null,null,null,null,null,null,null,null,null,null,null,null,null,null,null,null,null,null,null,{"$f":"K231+L231+N231+P231+R231","v":0},{"$f":"IF(G231=\"x\", 1,0)","v":0},{"$f":"IF(H231=\"x\", 1,0)","v":0},null,null,{"$f":"IF(A231=\"\",\"\",6)","v":""}]
[]
[null,null,null,null,null,null,null,null,null,null,null,null,null,null,null,null,null,null,null,null,null,null,null,null,null,null,null,null,null,null,null,null,null,null,null,null,null,null,null,null,null,{"$f":"K233+L233+N233+P233+R233","v":0},{"$f":"IF(G233=\"x\", 1,0)","v":0},{"$f":"IF(H233=\"x\", 1,0)","v":0},null,null,{"$f":"IF(A233=\"\",\"\",7)","v":""}]
[]
[null,null,null,null,null,null,null,null,null,null,null,null,null,null,null,null,null,null,null,null,null,null,null,null,null,null,null,null,null,null,null,null,null,null,null,null,null,null,null,null,null,{"$f":"K235+L235+N235+P235+R235","v":0},{"$f":"IF(G235=\"x\", 1,0)","v":0},{"$f":"IF(H235=\"x\", 1,0)","v":0},null,null,{"$f":"IF(A235=\"\",\"\",7)","v":""}]
[]
[null,null,null,null,null,null,null,null,null,null,null,null,null,null,null,null,null,null,null,null,null,null,null,null,null,null,null,null,null,null,null,null,null,null,null,null,null,null,null,null,null,{"$f":"K237+L237+N237+P237+R237","v":0},{"$f":"IF(G237=\"x\", 1,0)","v":0},{"$f":"IF(H237=\"x\", 1,0)","v":0},null,null,{"$f":"IF(A237=\"\",\"\",7)","v":""}]
[]
[null,null,null,null,null,null,null,null,null,null,null,null,null,null,null,null,null,null,null,null,null,null,null,null,null,null,null,null,null,null,null,null,null,null,null,null,null,null,null,null,null,{"$f":"K239+L239+N239+P239+R239","v":0},{"$f":"IF(G239=\"x\", 1,0)","v":0},{"$f":"IF(H239=\"x\", 1,0)","v":0},null,null,{"$f":"IF(A239=\"\",\"\",7)","v":""}]
[]
[null,null,null,null,null,null,null,null,null,null,null,null,null,null,null,null,null,null,null,null,null,null,null,null,null,null,null,null,null,null,null,null,null,null,null,null,null,null,null,null,null,{"$f":"K241+L241+N241+P241+R241","v":0},{"$f":"IF(G241=\"x\", 1,0)","v":0},{"$f":"IF(H241=\"x\", 1,0)","v":0},null,null,{"$f":"IF(A241=\"\",\"\",7)","v":""}]
[]
[null,null,null,null,null,null,null,null,null,null,null,null,null,null,null,null,null,null,null,null,null,null,null,null,null,null,null,null,null,null,null,null,null,null,null,null,null,null,null,null,null,{"$f":"K243+L243+N243+P243+R243","v":0},{"$f":"IF(G243=\"x\", 1,0)","v":0},{"$f":"IF(H243=\"x\", 1,0)","v":0},null,null,{"$f":"IF(A243=\"\",\"\",7)","v":""}]
[]
[null,null,null,null,null,null,null,null,null,null,null,null,null,null,null,null,null,null,null,null,null,null,null,null,null,null,null,null,null,null,null,null,null,null,null,null,null,null,null,null,null,{"$f":"K245+L245+N245+P245+R245","v":0},{"$f":"IF(G245=\"x\", 1,0)","v":0},{"$f":"IF(H245=\"x\", 1,0)","v":0},null,null,{"$f":"IF(A245=\"\",\"\",7)","v":""}]
[]
[null,null,null,null,null,null,null,null,null,null,null,null,null,null,null,null,null,null,null,null,null,null,null,null,null,null,null,null,null,null,null,null,null,null,null,null,null,null,null,null,null,{"$f":"K247+L247+N247+P247+R247","v":0},{"$f":"IF(G247=\"x\", 1,0)","v":0},{"$f":"IF(H247=\"x\", 1,0)","v":0},null,null,{"$f":"IF(A247=\"\",\"\",7)","v":""}]
[]
[null,null,null,null,null,null,null,null,null,null,null,null,null,null,null,null,null,null,null,null,null,null,null,null,null,null,null,null,null,null,null,null,null,null,null,null,null,null,null,null,null,{"$f":"K249+L249+N249+P249+R249","v":0},{"$f":"IF(G249=\"x\", 1,0)","v":0},{"$f":"IF(H249=\"x\", 1,0)","v":0},null,null,{"$f":"IF(A249=\"\",\"\",7)","v":""}]
[]
[null,null,null,null,null,null,null,null,null,null,null,null,null,null,null,null,null,null,null,null,null,null,null,null,null,null,null,null,null,null,null,null,null,null,null,null,null,null,null,null,null,{"$f":"K251+L251+N251+P251+R251","v":0},{"$f":"IF(G251=\"x\", 1,0)","v":0},{"$f":"IF(H251=\"x\", 1,0)","v":0},null,null,{"$f":"IF(A251=\"\",\"\",7)","v":""}]
[]
[null,null,null,null,null,null,null,null,null,null,null,null,null,null,null,null,null,null,null,null,null,null,null,null,null,null,null,null,null,null,null,null,null,null,null,null,null,null,null,null,null,{"$f":"K253+L253+N253+P253+R253","v":0},{"$f":"IF(G253=\"x\", 1,0)","v":0},{"$f":"IF(H253=\"x\", 1,0)","v":0},null,null,{"$f":"IF(A253=\"\",\"\",7)","v":""}]
[]
[null,null,null,null,null,null,null,null,null,null,null,null,null,null,null,null,null,null,null,null,null,null,null,null,null,null,null,null,null,null,null,null,null,null,null,null,null,null,null,null,null,{"$f":"K255+L255+N255+P255+R255","v":0},{"$f":"IF(G255=\"x\", 1,0)","v":0},{"$f":"IF(H255=\"x\", 1,0)","v":0},null,null,{"$f":"IF(A255=\"\",\"\",7)","v":""}]
[]
[null,null,null,null,null,null,null,null,null,null,null,null,null,null,null,null,null,null,null,null,null,null,null,null,null,null,null,null,null,null,null,null,null,null,null,null,null,null,null,null,null,{"$f":"K257+L257+N257+P257+R257","v":0},{"$f":"IF(G257=\"x\", 1,0)","v":0},{"$f":"IF(H257=\"x\", 1,0)","v":0},null,null,{"$f":"IF(A257=\"\",\"\",7)","v":""}]
[]
[null,null,null,null,null,null,null,null,null,null,null,null,null,null,null,null,null,null,null,null,null,null,null,null,null,null,null,null,null,null,null,null,null,null,null,null,null,null,null,null,null,{"$f":"K259+L259+N259+P259+R259","v":0},{"$f":"IF(G259=\"x\", 1,0)","v":0},{"$f":"IF(H259=\"x\", 1,0)","v":0},null,null,{"$f":"IF(A259=\"\",\"\",7)","v":""}]
[]
[null,null,null,null,null,null,null,null,null,null,null,null,null,null,null,null,null,null,null,null,null,null,null,null,null,null,null,null,null,null,null,null,null,null,null,null,null,null,null,null,null,{"$f":"K261+L261+N261+P261+R261","v":0},{"$f":"IF(G261=\"x\", 1,0)","v":0},{"$f":"IF(H261=\"x\", 1,0)","v":0},null,null,{"$f":"IF(A261=\"\",\"\",7)","v":""}]
[]
[null,null,null,null,null,null,null,null,null,null,null,null,null,null,null,null,null,null,null,null,null,null,null,null,null,null,null,null,null,null,null,null,null,null,null,null,null,null,null,null,null,{"$f":"K263+L263+N263+P263+R263","v":0},{"$f":"IF(G263=\"x\", 1,0)","v":0},{"$f":"IF(H263=\"x\", 1,0)","v":0},null,null,{"$f":"IF(A263=\"\",\"\",7)","v":""}]
[]
[null,null,null,null,null,null,null,null,null,null,null,null,null,null,null,null,null,null,null,null,null,null,null,null,null,null,null,null,null,null,null,null,null,null,null,null,null,null,null,null,null,{"$f":"K265+L265+N265+P265+R265","v":0},{"$f":"IF(G265=\"x\", 1,0)","v":0},{"$f":"IF(H265=\"x\", 1,0)","v":0},null,null,{"$f":"IF(A265=\"\",\"\",7)","v":""}]
[]
[null,null,null,null,null,null,null,null,null,null,null,null,null,null,null,null,null,null,null,null,null,null,null,null,null,null,null,null,null,null,null,null,null,null,null,null,null,null,null,null,null,{"$f":"K267+L267+N267+P267+R267","v":0},{"$f":"IF(G267=\"x\", 1,0)","v":0},{"$f":"IF(H267=\"x\", 1,0)","v":0},null,null,{"$f":"IF(A267=\"\",\"\",8)","v":""}]
[]
[null,null,null,null,null,null,null,null,null,null,null,null,null,null,null,null,null,null,null,null,null,null,null,null,null,null,null,null,null,null,null,null,null,null,null,null,null,null,null,null,null,{"$f":"K269+L269+N269+P269+R269","v":0},{"$f":"IF(G269=\"x\", 1,0)","v":0},{"$f":"IF(H269=\"x\", 1,0)","v":0},null,null,{"$f":"IF(A269=\"\",\"\",8)","v":""}]
[]
[null,null,null,null,null,null,null,null,null,null,null,null,null,null,null,null,null,null,null,null,null,null,null,null,null,null,null,null,null,null,null,null,null,null,null,null,null,null,null,null,null,{"$f":"K271+L271+N271+P271+R271","v":0},{"$f":"IF(G271=\"x\", 1,0)","v":0},{"$f":"IF(H271=\"x\", 1,0)","v":0},null,null,{"$f":"IF(A271=\"\",\"\",8)","v":""}]
[]
[null,null,null,null,null,null,null,null,null,null,null,null,null,null,null,null,null,null,null,null,null,null,null,null,null,null,null,null,null,null,null,null,null,null,null,null,null,null,null,null,null,{"$f":"K273+L273+N273+P273+R273","v":0},{"$f":"IF(G273=\"x\", 1,0)","v":0},{"$f":"IF(H273=\"x\", 1,0)","v":0},null,null,{"$f":"IF(A273=\"\",\"\",8)","v":""}]
[]
[null,null,null,null,null,null,null,null,null,null,null,null,null,null,null,null,null,null,null,null,null,null,null,null,null,null,null,null,null,null,null,null,null,null,null,null,null,null,null,null,null,{"$f":"K275+L275+N275+P275+R275","v":0},{"$f":"IF(G275=\"x\", 1,0)","v":0},{"$f":"IF(H275=\"x\", 1,0)","v":0},null,null,{"$f":"IF(A275=\"\",\"\",8)","v":""}]
[]
[null,null,null,null,null,null,null,null,null,null,null,null,null,null,null,null,null,null,null,null,null,null,null,null,null,null,null,null,null,null,null,null,null,null,null,null,null,null,null,null,null,{"$f":"K277+L277+N277+P277+R277","v":0},{"$f":"IF(G277=\"x\", 1,0)","v":0},{"$f":"IF(H277=\"x\", 1,0)","v":0},null,null,{"$f":"IF(A277=\"\",\"\",8)","v":""}]
[]
[null,null,null,null,null,null,null,null,null,null,null,null,null,null,null,null,null,null,null,null,null,null,null,null,null,null,null,null,null,null,null,null,null,null,null,null,null,null,null,null,null,{"$f":"K279+L279+N279+P279+R279","v":0},{"$f":"IF(G279=\"x\", 1,0)","v":0},{"$f":"IF(H279=\"x\", 1,0)","v":0},null,null,{"$f":"IF(A279=\"\",\"\",8)","v":""}]
[]
[null,null,null,null,null,null,null,null,null,null,null,null,null,null,null,null,null,null,null,null,null,null,null,null,null,null,null,null,null,null,null,null,null,null,null,null,null,null,null,null,null,{"$f":"K281+L281+N281+P281+R281","v":0},{"$f":"IF(G281=\"x\", 1,0)","v":0},{"$f":"IF(H281=\"x\", 1,0)","v":0},null,null,{"$f":"IF(A281=\"\",\"\",8)","v":""}]
[]
[null,null,null,null,null,null,null,null,null,null,null,null,null,null,null,null,null,null,null,null,null,null,null,null,null,null,null,null,null,null,null,null,null,null,null,null,null,null,null,null,null,{"$f":"K283+L283+N283+P283+R283","v":0},{"$f":"IF(G283=\"x\", 1,0)","v":0},{"$f":"IF(H283=\"x\", 1,0)","v":0},null,null,{"$f":"IF(A283=\"\",\"\",8)","v":""}]
[]
[null,null,null,null,null,null,null,null,null,null,null,null,null,null,null,null,null,null,null,null,null,null,null,null,null,null,null,null,null,null,null,null,null,null,null,null,null,null,null,null,null,{"$f":"K285+L285+N285+P285+R285","v":0},{"$f":"IF(G285=\"x\", 1,0)","v":0},{"$f":"IF(H285=\"x\", 1,0)","v":0},null,null,{"$f":"IF(A285=\"\",\"\",8)","v":""}]
[]
[null,null,null,null,null,null,null,null,null,null,null,null,null,null,null,null,null,null,null,null,null,null,null,null,null,null,null,null,null,null,null,null,null,null,null,null,null,null,null,null,null,{"$f":"K287+L287+N287+P287+R287","v":0},{"$f":"IF(G287=\"x\", 1,0)","v":0},{"$f":"IF(H287=\"x\", 1,0)","v":0},null,null,{"$f":"IF(A287=\"\",\"\",8)","v":""}]
[]
[null,null,null,null,null,null,null,null,null,null,null,null,null,null,null,null,null,null,null,null,null,null,null,null,null,null,null,null,null,null,null,null,null,null,null,null,null,null,null,null,null,{"$f":"K289+L289+N289+P289+R289","v":0},{"$f":"IF(G289=\"x\", 1,0)","v":0},{"$f":"IF(H289=\"x\", 1,0)","v":0},null,null,{"$f":"IF(A289=\"\",\"\",8)","v":""}]
[]
[null,null,null,null,null,null,null,null,null,null,null,null,null,null,null,null,null,null,null,null,null,null,null,null,null,null,null,null,null,null,null,null,null,null,null,null,null,null,null,null,null,{"$f":"K291+L291+N291+P291+R291","v":0},{"$f":"IF(G291=\"x\", 1,0)","v":0},{"$f":"IF(H291=\"x\", 1,0)","v":0},null,null,{"$f":"IF(A291=\"\",\"\",8)","v":""}]
[]
[null,null,null,null,null,null,null,null,null,null,null,null,null,null,null,null,null,null,null,null,null,null,null,null,null,null,null,null,null,null,null,null,null,null,null,null,null,null,null,null,null,{"$f":"K293+L293+N293+P293+R293","v":0},{"$f":"IF(G293=\"x\", 1,0)","v":0},{"$f":"IF(H293=\"x\", 1,0)","v":0},null,null,{"$f":"IF(A293=\"\",\"\",8)","v":""}]
[]
[null,null,null,null,null,null,null,null,null,null,null,null,null,null,null,null,null,null,null,null,null,null,null,null,null,null,null,null,null,null,null,null,null,null,null,null,null,null,null,null,null,{"$f":"K295+L295+N295+P295+R295","v":0},{"$f":"IF(G295=\"x\", 1,0)","v":0},{"$f":"IF(H295=\"x\", 1,0)","v":0},null,null,{"$f":"IF(A295=\"\",\"\",8)","v":""}]
[]
[null,null,null,null,null,null,null,null,null,null,null,null,null,null,null,null,null,null,null,null,null,null,null,null,null,null,null,null,null,null,null,null,null,null,null,null,null,null,null,null,null,{"$f":"K297+L297+N297+P297+R297","v":0},{"$f":"IF(G297=\"x\", 1,0)","v":0},{"$f":"IF(H297=\"x\", 1,0)","v":0},null,null,{"$f":"IF(A297=\"\",\"\",8)","v":""}]
[]
[null,null,null,null,null,null,null,null,null,null,null,null,null,null,null,null,null,null,null,null,null,null,null,null,null,null,null,null,null,null,null,null,null,null,null,null,null,null,null,null,null,{"$f":"K299+L299+N299+P299+R299","v":0},{"$f":"IF(G299=\"x\", 1,0)","v":0},{"$f":"IF(H299=\"x\", 1,0)","v":0},null,null,{"$f":"IF(A299=\"\",\"\",8)","v":""}]
[]
[null,null,null,null,null,null,null,null,null,null,null,null,null,null,null,null,null,null,null,null,null,null,null,null,null,null,null,null,null,null,null,null,null,null,null,null,null,null,null,null,null,{"$f":"K301+L301+N301+P301+R301","v":0},{"$f":"IF(G301=\"x\", 1,0)","v":0},{"$f":"IF(H301=\"x\", 1,0)","v":0},null,null,{"$f":"IF(A301=\"\",\"\",9)","v":""}]
[]
[null,null,null,null,null,null,null,null,null,null,null,null,null,null,null,null,null,null,null,null,null,null,null,null,null,null,null,null,null,null,null,null,null,null,null,null,null,null,null,null,null,{"$f":"K303+L303+N303+P303+R303","v":0},{"$f":"IF(G303=\"x\", 1,0)","v":0},{"$f":"IF(H303=\"x\", 1,0)","v":0},null,null,{"$f":"IF(A303=\"\",\"\",9)","v":""}]
[]
[null,null,null,null,null,null,null,null,null,null,null,null,null,null,null,null,null,null,null,null,null,null,null,null,null,null,null,null,null,null,null,null,null,null,null,null,null,null,null,null,null,{"$f":"K305+L305+N305+P305+R305","v":0},{"$f":"IF(G305=\"x\", 1,0)","v":0},{"$f":"IF(H305=\"x\", 1,0)","v":0},null,null,{"$f":"IF(A305=\"\",\"\",9)","v":""}]
[]
[null,null,null,null,null,null,null,null,null,null,null,null,null,null,null,null,null,null,null,null,null,null,null,null,null,null,null,null,null,null,null,null,null,null,null,null,null,null,null,null,null,{"$f":"K307+L307+N307+P307+R307","v":0},{"$f":"IF(G307=\"x\", 1,0)","v":0},{"$f":"IF(H307=\"x\", 1,0)","v":0},null,null,{"$f":"IF(A307=\"\",\"\",9)","v":""}]
[]
[null,null,null,null,null,null,null,null,null,null,null,null,null,null,null,null,null,null,null,null,null,null,null,null,null,null,null,null,null,null,null,null,null,null,null,null,null,null,null,null,null,{"$f":"K309+L309+N309+P309+R309","v":0},{"$f":"IF(G309=\"x\", 1,0)","v":0},{"$f":"IF(H309=\"x\", 1,0)","v":0},null,null,{"$f":"IF(A309=\"\",\"\",9)","v":""}]
[]
[null,null,null,null,null,null,null,null,null,null,null,null,null,null,null,null,null,null,null,null,null,null,null,null,null,null,null,null,null,null,null,null,null,null,null,null,null,null,null,null,null,{"$f":"K311+L311+N311+P311+R311","v":0},{"$f":"IF(G311=\"x\", 1,0)","v":0},{"$f":"IF(H311=\"x\", 1,0)","v":0},null,null,{"$f":"IF(A311=\"\",\"\",9)","v":""}]
[]
[null,null,null,null,null,null,null,null,null,null,null,null,null,null,null,null,null,null,null,null,null,null,null,null,null,null,null,null,null,null,null,null,null,null,null,null,null,null,null,null,null,{"$f":"K313+L313+N313+P313+R313","v":0},{"$f":"IF(G313=\"x\", 1,0)","v":0},{"$f":"IF(H313=\"x\", 1,0)","v":0},null,null,{"$f":"IF(A313=\"\",\"\",9)","v":""}]
[]
[null,null,null,null,null,null,null,null,null,null,null,null,null,null,null,null,null,null,null,null,null,null,null,null,null,null,null,null,null,null,null,null,null,null,null,null,null,null,null,null,null,{"$f":"K315+L315+N315+P315+R315","v":0},{"$f":"IF(G315=\"x\", 1,0)","v":0},{"$f":"IF(H315=\"x\", 1,0)","v":0},null,null,{"$f":"IF(A315=\"\",\"\",9)","v":""}]
[]
[null,null,null,null,null,null,null,null,null,null,null,null,null,null,null,null,null,null,null,null,null,null,null,null,null,null,null,null,null,null,null,null,null,null,null,null,null,null,null,null,null,{"$f":"K317+L317+N317+P317+R317","v":0},{"$f":"IF(G317=\"x\", 1,0)","v":0},{"$f":"IF(H317=\"x\", 1,0)","v":0},null,null,{"$f":"IF(A317=\"\",\"\",9)","v":""}]
[]
[null,null,null,null,null,null,null,null,null,null,null,null,null,null,null,null,null,null,null,null,null,null,null,null,null,null,null,null,null,null,null,null,null,null,null,null,null,null,null,null,null,{"$f":"K319+L319+N319+P319+R319","v":0},{"$f":"IF(G319=\"x\", 1,0)","v":0},{"$f":"IF(H319=\"x\", 1,0)","v":0},null,null,{"$f":"IF(A319=\"\",\"\",9)","v":""}]
[]
[null,null,null,null,null,null,null,null,null,null,null,null,null,null,null,null,null,null,null,null,null,null,null,null,null,null,null,null,null,null,null,null,null,null,null,null,null,null,null,null,null,{"$f":"K321+L321+N321+P321+R321","v":0},{"$f":"IF(G321=\"x\", 1,0)","v":0},{"$f":"IF(H321=\"x\", 1,0)","v":0},null,null,{"$f":"IF(A321=\"\",\"\",9)","v":""}]
[]
[null,null,null,null,null,null,null,null,null,null,null,null,null,null,null,null,null,null,null,null,null,null,null,null,null,null,null,null,null,null,null,null,null,null,null,null,null,null,null,null,null,{"$f":"K323+L323+N323+P323+R323","v":0},{"$f":"IF(G323=\"x\", 1,0)","v":0},{"$f":"IF(H323=\"x\", 1,0)","v":0},null,null,{"$f":"IF(A323=\"\",\"\",9)","v":""}]
[]
[null,null,null,null,null,null,null,null,null,null,null,null,null,null,null,null,null,null,null,null,null,null,null,null,null,null,null,null,null,null,null,null,null,null,null,null,null,null,null,null,null,{"$f":"K325+L325+N325+P325+R325","v":0},{"$f":"IF(G325=\"x\", 1,0)","v":0},{"$f":"IF(H325=\"x\", 1,0)","v":0},null,null,{"$f":"IF(A325=\"\",\"\",9)","v":""}]
[]
[null,null,null,null,null,null,null,null,null,null,null,null,null,null,null,null,null,null,null,null,null,null,null,null,null,null,null,null,null,null,null,null,null,null,null,null,null,null,null,null,null,{"$f":"K327+L327+N327+P327+R327","v":0},{"$f":"IF(G327=\"x\", 1,0)","v":0},{"$f":"IF(H327=\"x\", 1,0)","v":0},null,null,{"$f":"IF(A327=\"\",\"\",9)","v":""}]
[]
[null,null,null,null,null,null,null,null,null,null,null,null,null,null,null,null,null,null,null,null,null,null,null,null,null,null,null,null,null,null,null,null,null,null,null,null,null,null,null,null,null,{"$f":"K329+L329+N329+P329+R329","v":0},{"$f":"IF(G329=\"x\", 1,0)","v":0},{"$f":"IF(H329=\"x\", 1,0)","v":0},null,null,{"$f":"IF(A329=\"\",\"\",9)","v":""}]
[]
[null,null,null,null,null,null,null,null,null,null,null,null,null,null,null,null,null,null,null,null,null,null,null,null,null,null,null,null,null,null,null,null,null,null,null,null,null,null,null,null,null,{"$f":"K331+L331+N331+P331+R331","v":0},{"$f":"IF(G331=\"x\", 1,0)","v":0},{"$f":"IF(H331=\"x\", 1,0)","v":0},null,null,{"$f":"IF(A331=\"\",\"\",9)","v":""}]
[]
[null,null,null,null,null,null,null,null,null,null,null,null,null,null,null,null,null,null,null,null,null,null,null,null,null,null,null,null,null,null,null,null,null,null,null,null,null,null,null,null,null,{"$f":"K333+L333+N333+P333+R333","v":0},{"$f":"IF(G333=\"x\", 1,0)","v":0},{"$f":"IF(H333=\"x\", 1,0)","v":0},null,null,{"$f":"IF(A333=\"\",\"\",9)","v":""}]
[]
[null,null,null,null,null,null,null,null,null,null,null,null,null,null,null,null,null,null,null,null,null,null,null,null,null,null,null,null,null,null,null,null,null,null,null,null,null,null,null,null,null,{"$f":"K335+L335+N335+P335+R335","v":0},{"$f":"IF(G335=\"x\", 1,0)","v":0},{"$f":"IF(H335=\"x\", 1,0)","v":0},null,null,{"$f":"IF(A335=\"\",\"\",10)","v":""}]
[]
[null,null,null,null,null,null,null,null,null,null,null,null,null,null,null,null,null,null,null,null,null,null,null,null,null,null,null,null,null,null,null,null,null,null,null,null,null,null,null,null,null,{"$f":"K337+L337+N337+P337+R337","v":0},{"$f":"IF(G337=\"x\", 1,0)","v":0},{"$f":"IF(H337=\"x\", 1,0)","v":0},null,null,{"$f":"IF(A337=\"\",\"\",10)","v":""}]
[]
[null,null,null,null,null,null,null,null,null,null,null,null,null,null,null,null,null,null,null,null,null,null,null,null,null,null,null,null,null,null,null,null,null,null,null,null,null,null,null,null,null,{"$f":"K339+L339+N339+P339+R339","v":0},{"$f":"IF(G339=\"x\", 1,0)","v":0},{"$f":"IF(H339=\"x\", 1,0)","v":0},null,null,{"$f":"IF(A339=\"\",\"\",10)","v":""}]
[]
[null,null,null,null,null,null,null,null,null,null,null,null,null,null,null,null,null,null,null,null,null,null,null,null,null,null,null,null,null,null,null,null,null,null,null,null,null,null,null,null,null,{"$f":"K341+L341+N341+P341+R341","v":0},{"$f":"IF(G341=\"x\", 1,0)","v":0},{"$f":"IF(H341=\"x\", 1,0)","v":0},null,null,{"$f":"IF(A341=\"\",\"\",10)","v":""}]
[]
[null,null,null,null,null,null,null,null,null,null,null,null,null,null,null,null,null,null,null,null,null,null,null,null,null,null,null,null,null,null,null,null,null,null,null,null,null,null,null,null,null,{"$f":"K343+L343+N343+P343+R343","v":0},{"$f":"IF(G343=\"x\", 1,0)","v":0},{"$f":"IF(H343=\"x\", 1,0)","v":0},null,null,{"$f":"IF(A343=\"\",\"\",10)","v":""}]
[]
[null,null,null,null,null,null,null,null,null,null,null,null,null,null,null,null,null,null,null,null,null,null,null,null,null,null,null,null,null,null,null,null,null,null,null,null,null,null,null,null,null,{"$f":"K345+L345+N345+P345+R345","v":0},{"$f":"IF(G345=\"x\", 1,0)","v":0},{"$f":"IF(H345=\"x\", 1,0)","v":0},null,null,{"$f":"IF(A345=\"\",\"\",10)","v":""}]
[]
[null,null,null,null,null,null,null,null,null,null,null,null,null,null,null,null,null,null,null,null,null,null,null,null,null,null,null,null,null,null,null,null,null,null,null,null,null,null,null,null,null,{"$f":"K347+L347+N347+P347+R347","v":0},{"$f":"IF(G347=\"x\", 1,0)","v":0},{"$f":"IF(H347=\"x\", 1,0)","v":0},null,null,{"$f":"IF(A347=\"\",\"\",10)","v":""}]
[]
[null,null,null,null,null,null,null,null,null,null,null,null,null,null,null,null,null,null,null,null,null,null,null,null,null,null,null,null,null,null,null,null,null,null,null,null,null,null,null,null,null,{"$f":"K349+L349+N349+P349+R349","v":0},{"$f":"IF(G349=\"x\", 1,0)","v":0},{"$f":"IF(H349=\"x\", 1,0)","v":0},null,null,{"$f":"IF(A349=\"\",\"\",10)","v":""}]
[]
[null,null,null,null,null,null,null,null,null,null,null,null,null,null,null,null,null,null,null,null,null,null,null,null,null,null,null,null,null,null,null,null,null,null,null,null,null,null,null,null,null,{"$f":"K351+L351+N351+P351+R351","v":0},{"$f":"IF(G351=\"x\", 1,0)","v":0},{"$f":"IF(H351=\"x\", 1,0)","v":0},null,null,{"$f":"IF(A351=\"\",\"\",10)","v":""}]
[]
[null,null,null,null,null,null,null,null,null,null,null,null,null,null,null,null,null,null,null,null,null,null,null,null,null,null,null,null,null,null,null,null,null,null,null,null,null,null,null,null,null,{"$f":"K353+L353+N353+P353+R353","v":0},{"$f":"IF(G353=\"x\", 1,0)","v":0},{"$f":"IF(H353=\"x\", 1,0)","v":0},null,null,{"$f":"IF(A353=\"\",\"\",10)","v":""}]
[]
[null,null,null,null,null,null,null,null,null,null,null,null,null,null,null,null,null,null,null,null,null,null,null,null,null,null,null,null,null,null,null,null,null,null,null,null,null,null,null,null,null,{"$f":"K355+L355+N355+P355+R355","v":0},{"$f":"IF(G355=\"x\", 1,0)","v":0},{"$f":"IF(H355=\"x\", 1,0)","v":0},null,null,{"$f":"IF(A355=\"\",\"\",10)","v":""}]
[]
[null,null,null,null,null,null,null,null,null,null,null,null,null,null,null,null,null,null,null,null,null,null,null,null,null,null,null,null,null,null,null,null,null,null,null,null,null,null,null,null,null,{"$f":"K357+L357+N357+P357+R357","v":0},{"$f":"IF(G357=\"x\", 1,0)","v":0},{"$f":"IF(H357=\"x\", 1,0)","v":0},null,null,{"$f":"IF(A357=\"\",\"\",10)","v":""}]
[]
[null,null,null,null,null,null,null,null,null,null,null,null,null,null,null,null,null,null,null,null,null,null,null,null,null,null,null,null,null,null,null,null,null,null,null,null,null,null,null,null,null,{"$f":"K359+L359+N359+P359+R359","v":0},{"$f":"IF(G359=\"x\", 1,0)","v":0},{"$f":"IF(H359=\"x\", 1,0)","v":0},null,null,{"$f":"IF(A359=\"\",\"\",10)","v":""}]
[]
[null,null,null,null,null,null,null,null,null,null,null,null,null,null,null,null,null,null,null,null,null,null,null,null,null,null,null,null,null,null,null,null,null,null,null,null,null,null,null,null,null,{"$f":"K361+L361+N361+P361+R361","v":0},{"$f":"IF(G361=\"x\", 1,0)","v":0},{"$f":"IF(H361=\"x\", 1,0)","v":0},null,null,{"$f":"IF(A361=\"\",\"\",10)","v":""}]
[]
[null,null,null,null,null,null,null,null,null,null,null,null,null,null,null,null,null,null,null,null,null,null,null,null,null,null,null,null,null,null,null,null,null,null,null,null,null,null,null,null,null,{"$f":"K363+L363+N363+P363+R363","v":0},{"$f":"IF(G363=\"x\", 1,0)","v":0},{"$f":"IF(H363=\"x\", 1,0)","v":0},null,null,{"$f":"IF(A363=\"\",\"\",10)","v":""}]
[]
[null,null,null,null,null,null,null,null,null,null,null,null,null,null,null,null,null,null,null,null,null,null,null,null,null,null,null,null,null,null,null,null,null,null,null,null,null,null,null,null,null,{"$f":"K365+L365+N365+P365+R365","v":0},{"$f":"IF(G365=\"x\", 1,0)","v":0},{"$f":"IF(H365=\"x\", 1,0)","v":0},null,null,{"$f":"IF(A365=\"\",\"\",10)","v":""}]
[]
[null,null,null,null,null,null,null,null,null,null,null,null,null,null,null,null,null,null,null,null,null,null,null,null,null,null,null,null,null,null,null,null,null,null,null,null,null,null,null,null,null,{"$f":"K367+L367+N367+P367+R367","v":0},{"$f":"IF(G367=\"x\", 1,0)","v":0},{"$f":"IF(H367=\"x\", 1,0)","v":0},null,null,{"$f":"IF(A367=\"\",\"\",10)","v":""}]
[]
[null,null,null,null,null,null,null,null,null,null,null,null,null,null,null,null,null,null,null,null,null,null,null,null,null,null,null,null,null,null,null,null,null,null,null,null,null,null,null,null,null,{"$f":"K369+L369+N369+P369+R369","v":0},{"$f":"IF(G369=\"x\", 1,0)","v":0},{"$f":"IF(H369=\"x\", 1,0)","v":0},null,null,{"$f":"IF(A369=\"\",\"\",11)","v":""}]
[]
[null,null,null,null,null,null,null,null,null,null,null,null,null,null,null,null,null,null,null,null,null,null,null,null,null,null,null,null,null,null,null,null,null,null,null,null,null,null,null,null,null,{"$f":"K371+L371+N371+P371+R371","v":0},{"$f":"IF(G371=\"x\", 1,0)","v":0},{"$f":"IF(H371=\"x\", 1,0)","v":0},null,null,{"$f":"IF(A371=\"\",\"\",11)","v":""}]
[]
[null,null,null,null,null,null,null,null,null,null,null,null,null,null,null,null,null,null,null,null,null,null,null,null,null,null,null,null,null,null,null,null,null,null,null,null,null,null,null,null,null,{"$f":"K373+L373+N373+P373+R373","v":0},{"$f":"IF(G373=\"x\", 1,0)","v":0},{"$f":"IF(H373=\"x\", 1,0)","v":0},null,null,{"$f":"IF(A373=\"\",\"\",11)","v":""}]
[]
[null,null,null,null,null,null,null,null,null,null,null,null,null,null,null,null,null,null,null,null,null,null,null,null,null,null,null,null,null,null,null,null,null,null,null,null,null,null,null,null,null,{"$f":"K375+L375+N375+P375+R375","v":0},{"$f":"IF(G375=\"x\", 1,0)","v":0},{"$f":"IF(H375=\"x\", 1,0)","v":0},null,null,{"$f":"IF(A375=\"\",\"\",11)","v":""}]
[]
[null,null,null,null,null,null,null,null,null,null,null,null,null,null,null,null,null,null,null,null,null,null,null,null,null,null,null,null,null,null,null,null,null,null,null,null,null,null,null,null,null,{"$f":"K377+L377+N377+P377+R377","v":0},{"$f":"IF(G377=\"x\", 1,0)","v":0},{"$f":"IF(H377=\"x\", 1,0)","v":0},null,null,{"$f":"IF(A377=\"\",\"\",11)","v":""}]
[]
[null,null,null,null,null,null,null,null,null,null,null,null,null,null,null,null,null,null,null,null,null,null,null,null,null,null,null,null,null,null,null,null,null,null,null,null,null,null,null,null,null,{"$f":"K379+L379+N379+P379+R379","v":0},{"$f":"IF(G379=\"x\", 1,0)","v":0},{"$f":"IF(H379=\"x\", 1,0)","v":0},null,null,{"$f":"IF(A379=\"\",\"\",11)","v":""}]
[]
[null,null,null,null,null,null,null,null,null,null,null,null,null,null,null,null,null,null,null,null,null,null,null,null,null,null,null,null,null,null,null,null,null,null,null,null,null,null,null,null,null,{"$f":"K381+L381+N381+P381+R381","v":0},{"$f":"IF(G381=\"x\", 1,0)","v":0},{"$f":"IF(H381=\"x\", 1,0)","v":0},null,null,{"$f":"IF(A381=\"\",\"\",11)","v":""}]
[]
[null,null,null,null,null,null,null,null,null,null,null,null,null,null,null,null,null,null,null,null,null,null,null,null,null,null,null,null,null,null,null,null,null,null,null,null,null,null,null,null,null,{"$f":"K383+L383+N383+P383+R383","v":0},{"$f":"IF(G383=\"x\", 1,0)","v":0},{"$f":"IF(H383=\"x\", 1,0)","v":0},null,null,{"$f":"IF(A383=\"\",\"\",11)","v":""}]
[]
[null,null,null,null,null,null,null,null,null,null,null,null,null,null,null,null,null,null,null,null,null,null,null,null,null,null,null,null,null,null,null,null,null,null,null,null,null,null,null,null,null,{"$f":"K385+L385+N385+P385+R385","v":0},{"$f":"IF(G385=\"x\", 1,0)","v":0},{"$f":"IF(H385=\"x\", 1,0)","v":0},null,null,{"$f":"IF(A385=\"\",\"\",11)","v":""}]
[]
[null,null,null,null,null,null,null,null,null,null,null,null,null,null,null,null,null,null,null,null,null,null,null,null,null,null,null,null,null,null,null,null,null,null,null,null,null,null,null,null,null,{"$f":"K387+L387+N387+P387+R387","v":0},{"$f":"IF(G387=\"x\", 1,0)","v":0},{"$f":"IF(H387=\"x\", 1,0)","v":0},null,null,{"$f":"IF(A387=\"\",\"\",11)","v":""}]
[]
[null,null,null,null,null,null,null,null,null,null,null,null,null,null,null,null,null,null,null,null,null,null,null,null,null,null,null,null,null,null,null,null,null,null,null,null,null,null,null,null,null,{"$f":"K389+L389+N389+P389+R389","v":0},{"$f":"IF(G389=\"x\", 1,0)","v":0},{"$f":"IF(H389=\"x\", 1,0)","v":0},null,null,{"$f":"IF(A389=\"\",\"\",11)","v":""}]
[]
[null,null,null,null,null,null,null,null,null,null,null,null,null,null,null,null,null,null,null,null,null,null,null,null,null,null,null,null,null,null,null,null,null,null,null,null,null,null,null,null,null,{"$f":"K391+L391+N391+P391+R391","v":0},{"$f":"IF(G391=\"x\", 1,0)","v":0},{"$f":"IF(H391=\"x\", 1,0)","v":0},null,null,{"$f":"IF(A391=\"\",\"\",11)","v":""}]
[]
[null,null,null,null,null,null,null,null,null,null,null,null,null,null,null,null,null,null,null,null,null,null,null,null,null,null,null,null,null,null,null,null,null,null,null,null,null,null,null,null,null,{"$f":"K393+L393+N393+P393+R393","v":0},{"$f":"IF(G393=\"x\", 1,0)","v":0},{"$f":"IF(H393=\"x\", 1,0)","v":0},null,null,{"$f":"IF(A393=\"\",\"\",11)","v":""}]
[]
[null,null,null,null,null,null,null,null,null,null,null,null,null,null,null,null,null,null,null,null,null,null,null,null,null,null,null,null,null,null,null,null,null,null,null,null,null,null,null,null,null,{"$f":"K395+L395+N395+P395+R395","v":0},{"$f":"IF(G395=\"x\", 1,0)","v":0},{"$f":"IF(H395=\"x\", 1,0)","v":0},null,null,{"$f":"IF(A395=\"\",\"\",11)","v":""}]
[]
[null,null,null,null,null,null,null,null,null,null,null,null,null,null,null,null,null,null,null,null,null,null,null,null,null,null,null,null,null,null,null,null,null,null,null,null,null,null,null,null,null,{"$f":"K397+L397+N397+P397+R397","v":0},{"$f":"IF(G397=\"x\", 1,0)","v":0},{"$f":"IF(H397=\"x\", 1,0)","v":0},null,null,{"$f":"IF(A397=\"\",\"\",11)","v":""}]
[]
[null,null,null,null,null,null,null,null,null,null,null,null,null,null,null,null,null,null,null,null,null,null,null,null,null,null,null,null,null,null,null,null,null,null,null,null,null,null,null,null,null,{"$f":"K399+L399+N399+P399+R399","v":0},{"$f":"IF(G399=\"x\", 1,0)","v":0},{"$f":"IF(H399=\"x\", 1,0)","v":0},null,null,{"$f":"IF(A399=\"\",\"\",11)","v":""}]
[]
[null,null,null,null,null,null,null,null,null,null,null,null,null,null,null,null,null,null,null,null,null,null,null,null,null,null,null,null,null,null,null,null,null,null,null,null,null,null,null,null,null,{"$f":"K401+L401+N401+P401+R401","v":0},{"$f":"IF(G401=\"x\", 1,0)","v":0},{"$f":"IF(H401=\"x\", 1,0)","v":0},null,null,{"$f":"IF(A401=\"\",\"\",11)","v":""}]
[]
[null,null,null,null,null,null,null,null,null,null,null,null,null,null,null,null,null,null,null,null,null,null,null,null,null,null,null,null,null,null,null,null,null,null,null,null,null,null,null,null,null,{"$f":"K403+L403+N403+P403+R403","v":0},{"$f":"IF(G403=\"x\", 1,0)","v":0},{"$f":"IF(H403=\"x\", 1,0)","v":0},null,null,{"$f":"IF(A403=\"\",\"\",12)","v":""}]
[]
[null,null,null,null,null,null,null,null,null,null,null,null,null,null,null,null,null,null,null,null,null,null,null,null,null,null,null,null,null,null,null,null,null,null,null,null,null,null,null,null,null,{"$f":"K405+L405+N405+P405+R405","v":0},{"$f":"IF(G405=\"x\", 1,0)","v":0},{"$f":"IF(H405=\"x\", 1,0)","v":0},null,null,{"$f":"IF(A405=\"\",\"\",12)","v":""}]
[]
[null,null,null,null,null,null,null,null,null,null,null,null,null,null,null,null,null,null,null,null,null,null,null,null,null,null,null,null,null,null,null,null,null,null,null,null,null,null,null,null,null,{"$f":"K407+L407+N407+P407+R407","v":0},{"$f":"IF(G407=\"x\", 1,0)","v":0},{"$f":"IF(H407=\"x\", 1,0)","v":0},null,null,{"$f":"IF(A407=\"\",\"\",12)","v":""}]
[]
[null,null,null,null,null,null,null,null,null,null,null,null,null,null,null,null,null,null,null,null,null,null,null,null,null,null,null,null,null,null,null,null,null,null,null,null,null,null,null,null,null,{"$f":"K409+L409+N409+P409+R409","v":0},{"$f":"IF(G409=\"x\", 1,0)","v":0},{"$f":"IF(H409=\"x\", 1,0)","v":0},null,null,{"$f":"IF(A409=\"\",\"\",12)","v":""}]
[]
[null,null,null,null,null,null,null,null,null,null,null,null,null,null,null,null,null,null,null,null,null,null,null,null,null,null,null,null,null,null,null,null,null,null,null,null,null,null,null,null,null,{"$f":"K411+L411+N411+P411+R411","v":0},{"$f":"IF(G411=\"x\", 1,0)","v":0},{"$f":"IF(H411=\"x\", 1,0)","v":0},null,null,{"$f":"IF(A411=\"\",\"\",12)","v":""}]
[]
[null,null,null,null,null,null,null,null,null,null,null,null,null,null,null,null,null,null,null,null,null,null,null,null,null,null,null,null,null,null,null,null,null,null,null,null,null,null,null,null,null,{"$f":"K413+L413+N413+P413+R413","v":0},{"$f":"IF(G413=\"x\", 1,0)","v":0},{"$f":"IF(H413=\"x\", 1,0)","v":0},null,null,{"$f":"IF(A413=\"\",\"\",12)","v":""}]
[]
[null,null,null,null,null,null,null,null,null,null,null,null,null,null,null,null,null,null,null,null,null,null,null,null,null,null,null,null,null,null,null,null,null,null,null,null,null,null,null,null,null,{"$f":"K415+L415+N415+P415+R415","v":0},{"$f":"IF(G415=\"x\", 1,0)","v":0},{"$f":"IF(H415=\"x\", 1,0)","v":0},null,null,{"$f":"IF(A415=\"\",\"\",12)","v":""}]
[]
[null,null,null,null,null,null,null,null,null,null,null,null,null,null,null,null,null,null,null,null,null,null,null,null,null,null,null,null,null,null,null,null,null,null,null,null,null,null,null,null,null,{"$f":"K417+L417+N417+P417+R417","v":0},{"$f":"IF(G417=\"x\", 1,0)","v":0},{"$f":"IF(H417=\"x\", 1,0)","v":0},null,null,{"$f":"IF(A417=\"\",\"\",12)","v":""}]
[]
[null,null,null,null,null,null,null,null,null,null,null,null,null,null,null,null,null,null,null,null,null,null,null,null,null,null,null,null,null,null,null,null,null,null,null,null,null,null,null,null,null,{"$f":"K419+L419+N419+P419+R419","v":0},{"$f":"IF(G419=\"x\", 1,0)","v":0},{"$f":"IF(H419=\"x\", 1,0)","v":0},null,null,{"$f":"IF(A419=\"\",\"\",12)","v":""}]
[]
[null,null,null,null,null,null,null,null,null,null,null,null,null,null,null,null,null,null,null,null,null,null,null,null,null,null,null,null,null,null,null,null,null,null,null,null,null,null,null,null,null,{"$f":"K421+L421+N421+P421+R421","v":0},{"$f":"IF(G421=\"x\", 1,0)","v":0},{"$f":"IF(H421=\"x\", 1,0)","v":0},null,null,{"$f":"IF(A421=\"\",\"\",12)","v":""}]
[]
[null,null,null,null,null,null,null,null,null,null,null,null,null,null,null,null,null,null,null,null,null,null,null,null,null,null,null,null,null,null,null,null,null,null,null,null,null,null,null,null,null,{"$f":"K423+L423+N423+P423+R423","v":0},{"$f":"IF(G423=\"x\", 1,0)","v":0},{"$f":"IF(H423=\"x\", 1,0)","v":0},null,null,{"$f":"IF(A423=\"\",\"\",12)","v":""}]
[]
[null,null,null,null,null,null,null,null,null,null,null,null,null,null,null,null,null,null,null,null,null,null,null,null,null,null,null,null,null,null,null,null,null,null,null,null,null,null,null,null,null,{"$f":"K425+L425+N425+P425+R425","v":0},{"$f":"IF(G425=\"x\", 1,0)","v":0},{"$f":"IF(H425=\"x\", 1,0)","v":0},null,null,{"$f":"IF(A425=\"\",\"\",12)","v":""}]
[]
[null,null,null,null,null,null,null,null,null,null,null,null,null,null,null,null,null,null,null,null,null,null,null,null,null,null,null,null,null,null,null,null,null,null,null,null,null,null,null,null,null,{"$f":"K427+L427+N427+P427+R427","v":0},{"$f":"IF(G427=\"x\", 1,0)","v":0},{"$f":"IF(H427=\"x\", 1,0)","v":0},null,null,{"$f":"IF(A427=\"\",\"\",12)","v":""}]
[]
[null,null,null,null,null,null,null,null,null,null,null,null,null,null,null,null,null,null,null,null,null,null,null,null,null,null,null,null,null,null,null,null,null,null,null,null,null,null,null,null,null,{"$f":"K429+L429+N429+P429+R429","v":0},{"$f":"IF(G429=\"x\", 1,0)","v":0},{"$f":"IF(H429=\"x\", 1,0)","v":0},null,null,{"$f":"IF(A429=\"\",\"\",12)","v":""}]
[]
[null,null,null,null,null,null,null,null,null,null,null,null,null,null,null,null,null,null,null,null,null,null,null,null,null,null,null,null,null,null,null,null,null,null,null,null,null,null,null,null,null,{"$f":"K431+L431+N431+P431+R431","v":0},{"$f":"IF(G431=\"x\", 1,0)","v":0},{"$f":"IF(H431=\"x\", 1,0)","v":0},null,null,{"$f":"IF(A431=\"\",\"\",12)","v":""}]
[]
[]
[null,null,null,null,null,null,{"$f":"COUNTA(G23:G433)","v":32},{"$f":"COUNTA(H23:H432)","v":2},null,"YFT+10",null,"YFT-10","SKJ",null,"BET",null,"ALB",null,"AUTRES / OTHERS",null,null,"REJETS / DISCARDS"]
["TOTAL",null,null,null,null,null,null,null,null,{"$f":"SUM(K23:K432)","v":155},null,{"$f":"SUM(L23:L432)","v":108},{"$f":"SUM(N23:N432)","v":541},null,{"$f":"SUM(P23:P432)","v":89},null,{"$f":"SUM(R23:R432)","v":1},null,{"$f":"SUM(U23:U432)","v":5.1999999999999993},null,null,{"$f":"SUM(X23:X432)","v":0}]

{"sheet":"3.By-catch","index":2,"n_rows":46,"n_cols":19,"rows_kept":46,"cut":false,"hidden":true,"merged":[[4,0,5,0],[4,1,5,1],[4,2,5,2],[4,3,4,4],[4,5,4,6],[4,17,4,18],[4,7,4,8],[4,9,4,10],[4,11,4,12],[4,13,4,14],[4,15,4,16]]}
["Navire :","Manapany",null,null,"Tonnage total :",{"$f":"IFERROR(D4+F4+H4+J4+L4+N4+P4+R4,\"\")","v":3.1999999999999997}]
["Marée :","1704 B"]
[]
[null,null,"Total tonnage :",{"$f":"IFERROR(SUBTOTAL(9,D7:D1048576),\"\")","v":0.2},null,{"$f":"IFERROR(SUBTOTAL(9,F7:F1048576),\"\")","v":0},null,{"$f":"IFERROR(SUBTOTAL(9,H7:H1048576),\"\")","v":1.5000000000000002},null,{"$f":"IFERROR(SUBTOTAL(9,J7:J1048576),\"\")","v":0.30000000000000004},null,{"$f":"IFERROR(SUBTOTAL(9,L7:L1048576),\"\")","v":0},null,{"$f":"IFERROR(SUBTOTAL(9,N7:N1048576),\"\")","v":0.79999999999999993},null,{"$f":"IFERROR(SUBTOTAL(9,P7:P1048576),\"\")","v":0.4},null,{"$f":"IFERROR(SUBTOTAL(9,R7:R1048576),\"\")","v":0}]
["N° coup de filet","Date coup de filet","N° cale","Marlin",null,"Espadon",null,"Dorade Coryphène (Mahi Mahi)",null,"Thazard Bâtard (Wahoo)",null,"Barracuda",null,"Balistes (Caoutchouc)",null,"Poisson Banane (Comètes saumon)",null,"Autres thons et bonites non ciblés"]
[null,null,null,"Qté (tonnes)","Poids moyen (kg)","Qté (tonnes)","Poids moyen (kg)","Qté (tonnes)","Poids moyen (kg)","Qté (tonnes)","Poids moyen (kg)","Qté (tonnes)","Poids moyen (kg)","Qté (tonnes)","Poids moyen (kg)","Qté (tonnes)","Poids moyen (kg)","Qté (tonnes)","Poids moyen (kg)"]
[1,"2017-10-24",2,0.2,0.2,null,null,0.2,null,null,null,null,null,0.1,null,0.1]
[2]
[3,"2017-10-26",4,null,null,null,null,0.1,null,null,null,null,null,0.1,null,0.1]
[4,"2017-10-26",4,null,null,null,null,null,null,null,null,null,null,0.1]
[5]
[6,"2017-10-28",6,null,null,null,null,null,null,null,null,null,null,0.1,null,0.2]
[7,"2017-10-30",3,null,null,null,null,0.3,2,0.1,2,null,null,0.1,0.6]
[8,"2017-10-31",3,null,null,null,null,0.3,2.5,0.1,2,null,null,0.2,0.5]
[9,"2017-11-01",4,null,null,null,null,0.1,2,null,null,null,null,0.1,0.1]
[10,"2017-11-03",4,null,null,null,null,0.2]
[11,"2017-11-04",2,null,null,null,null,0.3,2,0.1,1]
[12]
[13]
[14]
[15]
[16]
[17]
[18]
[19]
[20]
[21]
[22]
[23]
[24]
[25]
[26]
[27]
[28]
[29]
[30]
[31]
[32]
[33]
[34]
[35]
[36]
[37]
[38]
[39]
[40]